Workbook

Sheet Suvestinė
B1: 2025
B2: Rodiklis | C2: Reikšmė
B3: Premjerų skaičius | C3: 254
B4: Lietuviškų filmų premjerų skaičius | C4: 22
B5: Bendras filmų skaičius | C5: 389
B6: Bendros pajamos | C6: 23672967
B7: Bendras žiūrovų skaičius | C7: 3571852
B9: Filmų dalis rinkoje, %
B10: Kategorija | C10: Pajamos | D10: Žiūrovų skaičius | E10: Pajamos % | F10: Žiūrovų skaičius % | G10: Filmų skaičius
B11: Lietuva | C11: 5199378.8 | D11: 714003 | E11: =(C11/C6)*100 -> 21.963359 | F11: =(D11/C7)*100 -> 19.989714 | G11: 39
B12: Europa | C12: 3478679.6 | D12: 600550 | E12: =(C12/C6)*100 -> 14.694734 | F12: =(D12/C7)*100 -> 16.813407 | G12: 157
B13: JAV | C13: 14321806 | D13: 2146225 | E13: =(C13/C6)*100 -> 60.498569 | F13: =(D13/C7)*100 -> 60.087176 | G13: 160
B14: Kita | C14: 673102.3 | D14: 111074 | E14: =(C14/C6)*100 -> 2.8433373 | F14: =(D14/C7)*100 -> 3.1097033 | G14: 33
B15: Total | C15: =SUBTOTAL(109,Table1[Pajamos]) -> 23672967 | D15: =SUBTOTAL(109,Table1[Žiūrovų skaičius]) -> 3571852 | E15: =SUBTOTAL(109,Table1[Pajamos %]) -> 100 | F15: =SUBTOTAL(109,Table1[Žiūrovų skaičius %]) -> 100 | G15: =SUBTOTAL(109,Table1[Filmų skaičius]) -> 389
B46: Pasiskirstymas pagal platintojus | J46: TOP 8
A47: Eil. nr | B47: Platintojas | C47: Pajamos | D47: Žiūrovų skaičius | E47: Filmų skaičius | F47: Pajamos % | G47: Žiūrovų skaičius % | J47: Platintojas | K47: Pajamos %
A48: =IF(B48<>"",ROWS($B$48:B48),"") -> 1 | B48: ACME Film | C48: 5685576.5 | D48: 819268 | E48: 76 | F48: =(Table18[[#This Row],[Pajamos]]/Table18[[#Totals],[Pajamos]])*100 -> 24.017169 | G48: =(Table18[[#This Row],[Žiūrovų skaičius]]/Table18[[#Totals],[Žiūrovų skaičius]])*100 -> 22.936785 | I48: 1 | J48: ACME Film | K48: =Table18[[#This Row],[Pajamos %]] -> 24.017169
A49: =IF(B49<>"",ROWS($B$48:B49),"") -> 2 | B49: Theatrical Film Distribution / WDSMPI | C49: 4103191.6 | D49: 613979 | E49: 21 | F49: =(Table18[[#This Row],[Pajamos]]/Table18[[#Totals],[Pajamos]])*100 -> 17.332815 | G49: =(Table18[[#This Row],[Žiūrovų skaičius]]/Table18[[#Totals],[Žiūrovų skaičius]])*100 -> 17.189374 | I49: 2 | J49: Theatrical Film Distribution / WDSMPI | K49: =Table18[[#This Row],[Pajamos %]] -> 17.332815
A50: =IF(B50<>"",ROWS($B$48:B50),"") -> 3 | B50: ACME Film / WB | C50: 3548249.1 | D50: 507634 | E50: 17 | F50: =(Table18[[#This Row],[Pajamos]]/Table18[[#Totals],[Pajamos]])*100 -> 14.988612 | G50: =(Table18[[#This Row],[Žiūrovų skaičius]]/Table18[[#Totals],[Žiūrovų skaičius]])*100 -> 14.212067 | I50: 3 | J50: ACME Film / WB | K50: =Table18[[#This Row],[Pajamos %]] -> 14.988612
A51: =IF(B51<>"",ROWS($B$48:B51),"") -> 4 | B51: Dukine Film Distribution / Universal Pictures | C51: 2601460.9 | D51: 408162 | E51: 25 | F51: =(Table18[[#This Row],[Pajamos]]/Table18[[#Totals],[Pajamos]])*100 -> 10.989163 | G51: =(Table18[[#This Row],[Žiūrovų skaičius]]/Table18[[#Totals],[Žiūrovų skaičius]])*100 -> 11.427181 | I51: 4 | J51: Dukine Film Distribution / Universal Pictures | K51: =Table18[[#This Row],[Pajamos %]] -> 10.989163
A52: =IF(B52<>"",ROWS($B$48:B52),"") -> 5 | B52: ACME Film / SONY | C52: 1376252.5 | D52: 208180 | E52: 17 | F52: =(Table18[[#This Row],[Pajamos]]/Table18[[#Totals],[Pajamos]])*100 -> 5.8136036 | G52: =(Table18[[#This Row],[Žiūrovų skaičius]]/Table18[[#Totals],[Žiūrovų skaičius]])*100 -> 5.828349 | I52: 5 | J52: ACME Film / SONY | K52: =Table18[[#This Row],[Pajamos %]] -> 5.8136036
A53: =IF(B53<>"",ROWS($B$48:B53),"") -> 6 | B53: Dukine Film Distribution / Paramount Pictures | C53: 1332917.2 | D53: 219952 | E53: 10 | F53: =(Table18[[#This Row],[Pajamos]]/Table18[[#Totals],[Pajamos]])*100 -> 5.6305457 | G53: =(Table18[[#This Row],[Žiūrovų skaičius]]/Table18[[#Totals],[Žiūrovų skaičius]])*100 -> 6.1579259 | I53: 6 | J53: Dukine Film Distribution / Paramount Pictures | K53: =Table18[[#This Row],[Pajamos %]] -> 5.6305457
A54: =IF(B54<>"",ROWS($B$48:B54),"") -> 7 | B54: Europos kinas | C54: 1208038.1 | D54: 182974 | E54: 50 | F54: =(Table18[[#This Row],[Pajamos]]/Table18[[#Totals],[Pajamos]])*100 -> 5.1030279 | G54: =(Table18[[#This Row],[Žiūrovų skaičius]]/Table18[[#Totals],[Žiūrovų skaičius]])*100 -> 5.1226647 | I54: 7 | J54: Europos kinas | K54: =Table18[[#This Row],[Pajamos %]] -> 5.1030279
A55: =IF(B55<>"",ROWS($B$48:B55),"") -> 8 | B55: Garsų pasaulio įrašai | C55: 720263 | D55: 123142 | E55: 25 | F55: =(Table18[[#This Row],[Pajamos]]/Table18[[#Totals],[Pajamos]])*100 -> 3.0425548 | G55: =(Table18[[#This Row],[Žiūrovų skaičius]]/Table18[[#Totals],[Žiūrovų skaičius]])*100 -> 3.4475673 | I55: 8 | J55: Garsų pasaulio įrašai | K55: =Table18[[#This Row],[Pajamos %]] -> 3.0425548
A56: =IF(B56<>"",ROWS($B$48:B56),"") -> 9 | B56: Vabalo filmai | C56: 659542 | D56: 88154 | E56: 1 | F56: =(Table18[[#This Row],[Pajamos]]/Table18[[#Totals],[Pajamos]])*100 -> 2.7860555 | G56: =(Table18[[#This Row],[Žiūrovų skaičius]]/Table18[[#Totals],[Žiūrovų skaičius]])*100 -> 2.4680194
A57: =IF(B57<>"",ROWS($B$48:B57),"") -> 10 | B57: Adastra Cinema | C57: 639308.03 | D57: 115329 | E57: 29 | F57: =(Table18[[#This Row],[Pajamos]]/Table18[[#Totals],[Pajamos]])*100 -> 2.7005826 | G57: =(Table18[[#This Row],[Žiūrovų skaičius]]/Table18[[#Totals],[Žiūrovų skaičius]])*100 -> 3.2288292
A58: =IF(B58<>"",ROWS($B$48:B58),"") -> 11 | B58: MB Aistis Mickevičius | C58: 466897.11 | D58: 65527 | E58: 1 | F58: =(Table18[[#This Row],[Pajamos]]/Table18[[#Totals],[Pajamos]])*100 -> 1.9722797 | G58: =(Table18[[#This Row],[Žiūrovų skaičius]]/Table18[[#Totals],[Žiūrovų skaičius]])*100 -> 1.8345385
A59: =IF(B59<>"",ROWS($B$48:B59),"") -> 12 | B59: Dublis LT | C59: 245865.19 | D59: 37436 | E59: 1 | F59: =(Table18[[#This Row],[Pajamos]]/Table18[[#Totals],[Pajamos]])*100 -> 1.0385905 | G59: =(Table18[[#This Row],[Žiūrovų skaičius]]/Table18[[#Totals],[Žiūrovų skaičius]])*100 -> 1.0480837
A60: =IF(B60<>"",ROWS($B$48:B60),"") -> 13 | B60: A-One Films | C60: 244142.73 | D60: 39446 | E60: 22 | F60: =(Table18[[#This Row],[Pajamos]]/Table18[[#Totals],[Pajamos]])*100 -> 1.0313145 | G60: =(Table18[[#This Row],[Žiūrovų skaičius]]/Table18[[#Totals],[Žiūrovų skaičius]])*100 -> 1.1043571
A61: =IF(B61<>"",ROWS($B$48:B61),"") -> 14 | B61: Theatrical Film Distribution | C61: 208843.91 | D61: 31937 | E61: 14 | F61: =(Table18[[#This Row],[Pajamos]]/Table18[[#Totals],[Pajamos]])*100 -> 0.88220421 | G61: =(Table18[[#This Row],[Žiūrovų skaičius]]/Table18[[#Totals],[Žiūrovų skaičius]])*100 -> 0.89412999
A62: =IF(B62<>"",ROWS($B$48:B62),"") -> 15 | B62: Cinema Ads | C62: 121411.84 | D62: 18786 | E62: 3 | F62: =(Table18[[#This Row],[Pajamos]]/Table18[[#Totals],[Pajamos]])*100 -> 0.51287126 | G62: =(Table18[[#This Row],[Žiūrovų skaičius]]/Table18[[#Totals],[Žiūrovų skaičius]])*100 -> 0.52594564
A63: =IF(B63<>"",ROWS($B$48:B63),"") -> 16 | B63: Estinfilm | C63: 116914.52 | D63: 20519 | E63: 24 | F63: =(Table18[[#This Row],[Pajamos]]/Table18[[#Totals],[Pajamos]])*100 -> 0.49387354 | G63: =(Table18[[#This Row],[Žiūrovų skaičius]]/Table18[[#Totals],[Žiūrovų skaičius]])*100 -> 0.57446389
A64: =IF(B64<>"",ROWS($B$48:B64),"") -> 17 | B64: Best Film | C64: 85298.26 | D64: 16338 | E64: 14 | F64: =(Table18[[#This Row],[Pajamos]]/Table18[[#Totals],[Pajamos]])*100 -> 0.36031926 | G64: =(Table18[[#This Row],[Žiūrovų skaičius]]/Table18[[#Totals],[Žiūrovų skaičius]])*100 -> 0.45740977
A65: =IF(B65<>"",ROWS($B$48:B65),"") -> 18 | B65: Naratyvas | C65: 74642.4 | D65: 11718 | E65: 3 | F65: =(Table18[[#This Row],[Pajamos]]/Table18[[#Totals],[Pajamos]])*100 -> 0.31530649 | G65: =(Table18[[#This Row],[Žiūrovų skaičius]]/Table18[[#Totals],[Žiūrovų skaičius]])*100 -> 0.3280651
A66: =IF(B66<>"",ROWS($B$48:B66),"") -> 19 | B66: Urbs TV | C66: 40648 | D66: 6212 | E66: 1 | F66: =(Table18[[#This Row],[Pajamos]]/Table18[[#Totals],[Pajamos]])*100 -> 0.1717064 | G66: =(Table18[[#This Row],[Žiūrovų skaičius]]/Table18[[#Totals],[Žiūrovų skaičius]])*100 -> 0.17391538
A67: =IF(B67<>"",ROWS($B$48:B67),"") -> 20 | B67: Baltic Productions | C67: 39012 | D67: 6277 | E67: 1 | F67: =(Table18[[#This Row],[Pajamos]]/Table18[[#Totals],[Pajamos]])*100 -> 0.16479557 | G67: =(Table18[[#This Row],[Žiūrovų skaičius]]/Table18[[#Totals],[Žiūrovų skaičius]])*100 -> 0.17573516
... A80: =IF(B80<>"",ROWS($B$48:B80),"") -> 33 | B80: Artbox | C80: 363.5 | D80: 82 | E80: 2 | F80: =(Table18[[#This Row],[Pajamos]]/Table18[[#Totals],[Pajamos]])*100 -> 0.0015355067 | G80: =(Table18[[#This Row],[Žiūrovų skaičius]]/Table18[[#Totals],[Žiūrovų skaičius]])*100 -> 0.0022957278
A81: Total | C81: =SUBTOTAL(109,Table18[Pajamos]) -> 23672967 | D81: =SUBTOTAL(109,Table18[Žiūrovų skaičius]) -> 3571852 | E81: =SUBTOTAL(109,Table18[Filmų skaičius]) -> 389 | F81: =SUBTOTAL(109,Table18[Pajamos %]) -> 100 | G81: =SUBTOTAL(109,Table18[Žiūrovų skaičius %]) -> 100
A84: LT TOP
A85: Eil. Nr. | B85: Filmo pavadinimas | C85: Pajamos | D85: Žiūrovų skaičius | E85: Premjeros data | F85: Platintojas
...

Sheet 2025
A1: 2025
A2: Lietuvos kino teatruose rodytų filmų TOP
A5: Eil. Nr. | B5: Filmo pavadinimas | C5: Filmo pavadinimas originalo kalba | D5: Kilmės šalis | E5: Pajamos | F5: Žiūrovų skaičius | G5: Kopijų skaičius | H5: Premjeros data | I5: Platintojas
A6: =IF(B6<>"",ROWS($B$6:B6),"") -> 1 | B6: Pietinia Kronikas | C6: Pietinia Kronikas | D6: LT | E6: 3144187.4 | F6: 412521 | G6: 23 | H6: 45681 | I6: ACME Film
A7: =IF(B7<>"",ROWS($B$6:B7),"") -> 2 | B7: Minecraft filmas | C7: A Minecraft Movie | D7: US | E7: 1242208.7 | F7: 197265 | G7: 19 | H7: 45751 | I7: ACME Film / WB
A8: =IF(B8<>"",ROWS($B$6:B8),"") -> 3 | B8: Įsikūnijimas. Ugnis ir pelenai | C8: Avatar: Fire and Ash | D8: US | E8: 1089984.7 | F8: 122355 | G8: 33 | H8: 46010 | I8: Theatrical Film Distribution / WDSMPI
A9: =IF(B9<>"",ROWS($B$6:B9),"") -> 4 | B9: Zootropolis 2 | C9: Zootopia 2 | D9: US | E9: 923000.44 | F9: 147335 | G9: 40 | H9: 45989 | I9: Theatrical Film Distribution / WDSMPI
A10: =IF(B10<>"",ROWS($B$6:B10),"") -> 5 | B10: F1 | C10: F1 | D10: US | E10: 822898.81 | F10: 110128 | G10: 19 | H10: 45835 | I10: ACME Film / WB
A11: =IF(B11<>"",ROWS($B$6:B11),"") -> 6 | B11: Lilo ir Stičas | C11: Lilo & Stitch | D11: US | E11: 667776.51 | F11: 121226 | G11: 31 | H11: 45800 | I11: Theatrical Film Distribution / WDSMPI
A12: =IF(B12<>"",ROWS($B$6:B12),"") -> 7 | B12: Reemigrantai 2 | C12: Reemigrantai 2 | D12: LT | E12: 659542 | F12: 88154 | G12: – | H12: 45646 | I12: Vabalo filmai
A13: =IF(B13<>"",ROWS($B$6:B13),"") -> 8 | B13: Ežiukas Sonic 3 | C13: Sonic the Hedgehog 3 | D13: US, JP | E13: 499194.9 | F13: 85363 | G13: 24 | H13: 45653 | I13: Dukine Film Distribution / Paramount Pictures
A14: =IF(B14<>"",ROWS($B$6:B14),"") -> 9 | B14: Legendinės legendos. FELICITÀ | C14: Legendinės legendos. FELICITÀ | D14: LT | E14: 466897.11 | F14: 65527 | G14: 14 | H14: 45702 | I14: MB Aistis Mickevičius
A15: =IF(B15<>"",ROWS($B$6:B15),"") -> 10 | B15: Blogiukai 2 | C15: The Bad Guys | D15: US | E15: 442709.31 | F15: 80213 | G15: 31 | H15: 45870 | I15: Dukine Film Distribution / Universal Pictures
A16: =IF(B16<>"",ROWS($B$6:B16),"") -> 11 | B16: Išvarymas 4: Paskutinės apeigos | C16: The Conjuring 4: Last Rites | D16: US | E16: 437318.96 | F16: 54446 | G16: 16 | H16: 45905 | I16: ACME Film / WB
A17: =IF(B17<>"",ROWS($B$6:B17),"") -> 12 | B17: Kaip prisijaukinti slibiną | C17: How To Train Your Dragon | D17: US | E17: 432390.64 | F17: 74395 | G17: 35 | H17: 45821 | I17: Dukine Film Distribution / Universal Pictures
A18: =IF(B18<>"",ROWS($B$6:B18),"") -> 13 | B18: Gera mergaitė | C18: Babygirl | D18: US | E18: 431243.26 | F18: 56300 | G18: 24 | H18: 45667 | I18: Europos kinas
A19: =IF(B19<>"",ROWS($B$6:B19),"") -> 14 | B19: Meškiukas Padingtonas: Nuotykiai Peru | C19: Paddington in Peru | D19: UK, US, JP, FR | E19: 396563.21 | F19: 69619 | G19: 19 | H19: 45681 | I19: ACME Film / SONY
A20: =IF(B20<>"",ROWS($B$6:B20),"") -> 15 | B20: Potvynis | C20: Flow | D20: LV, BE, FR | E20: 375513.3 | F20: 63289 | G20: 29 | H20: 45744 | I20: Europos kinas
A21: =IF(B21<>"",ROWS($B$6:B21),"") -> 16 | B21: Spermagedonas | C21: Spermaggedon | D21: NO | E21: 318853.48 | F21: 41188 | G21: 17 | H21: 45975 | I21: ACME Film
A22: =IF(B22<>"",ROWS($B$6:B22),"") -> 17 | B22: Penkios naktys pas Fredį 2 | C22: Five Nights at Freddy's 2 | D22: US | E22: 315296.99 | F22: 42648 | G22: 19 | H22: 45996 | I22: Dukine Film Distribution / Universal Pictures
A23: =IF(B23<>"",ROWS($B$6:B23),"") -> 18 | B23: Mūšis po mūšio | C23: One Battle After Another | D23: US | E23: 311400.88 | F23: 40304 | G23: 20 | H23: 45926 | I23: ACME Film / WB
A24: =IF(B24<>"",ROWS($B$6:B24),"") -> 19 | B24: Materialistai | C24: Materialists | D24: US | E24: 259456.56 | F24: 34703 | G24: 20 | H24: 45891 | I24: ACME Film / SONY
... A77: =IF(B77<>"",ROWS($B$6:B77),"") -> 72 | B77: Chainsaw man filmas: Reze arka | C77: Chainsaw Man – The Movie: Reze Arc | D77: JP | E77: 63305.21 | F77: 8735 | G77: 13 | H77: 45961 | I77: ACME Film / SONY
A78: =IF(B78<>"",ROWS($B$6:B78),"") -> 73 | B78: Smėlis tavo plaukuose | C78: Smėlis tavo plaukuose | D78: LT | E78: 61881.48 | F78: 9769 | G78: – | H78: 46010 | I78: Cinema Ads
A79: =IF(B79<>"",ROWS($B$6:B79),"") -> 74 | B79: Panda vardu Mėnulis | C79: Moon the Panda | D79: FR | E79: 61626.89 | F79: 12751 | G79: 19 | H79: 45765 | I79: ACME Film
A80: =IF(B80<>"",ROWS($B$6:B80),"") -> 75 | B80: Diletantas | C80: The Amateur | D80: US | E80: 61088.96 | F80: 9135 | G80: 15 | H80: 45758 | I80: Theatrical Film Distribution / WDSMPI
A81: =IF(B81<>"",ROWS($B$6:B81),"") -> 76 | B81: Agentas Hitpigas | C81: Hitpig | D81: UK | E81: 59957.02 | F81: 11741 | G81: 17 | H81: 45688 | I81: Adastra Cinema
A82: =IF(B82<>"",ROWS($B$6:B82),"") -> 77 | B82: Žinau, ką padarei aną vasarą | C82: I Know What You Did Last Summer | D82: US | E82: 58379.43 | F82: 8930 | G82: 16 | H82: 45856 | I82: ACME Film / SONY
A83: =IF(B83<>"",ROWS($B$6:B83),"") -> 78 | B83: Dieviškas bardakas | C83: Good Fortune | D83: US | E83: 55377.56 | F83: 8508 | G83: 17 | H83: 45954 | I83: ACME Film
A84: =IF(B84<>"",ROWS($B$6:B84),"") -> 79 | B84: Emilija Perez | C84: Emilia Pérez | D84: FR | E84: 54366.2 | F84: 8877 | G84: 16 | H84: 45674 | I84: A-One Films
A85: =IF(B85<>"",ROWS($B$6:B85),"") -> 80 | B85: Vagišius | C85: Roofman | D85: US | E85: 52047.52 | F85: 8052 | G85: 17 | H85: 45940 | I85: ACME Film
A86: =IF(B86<>"",ROWS($B$6:B86),"") -> 81 | B86: Anakonda | C86: Anaconda | D86: US | E86: 51162.39 | F86: 6798 | G86: 12 | H86: 46017 | I86: ACME Film / SONY
A87: =IF(B87<>"",ROWS($B$6:B87),"") -> 82 | B87: Atvira santuoka | C87: Splitsville | D87: US | E87: 50940 | F87: 7627 | G87: 19 | H87: 45912 | I87: Garsų pasaulio įrašai
A88: =IF(B88<>"",ROWS($B$6:B88),"") -> 83 | B88: Finikiečių schema | C88: The Phoenician Scheme | D88: US | E88: 49773.49 | F88: 7783 | G88: 19 | H88: 45807 | I88: Dukine Film Distribution / Universal Pictures
A89: =IF(B89<>"",ROWS($B$6:B89),"") -> 84 | B89: Miškų bastūnai | C89: Woodwalkers | D89: DE | E89: 49043 | F89: 8907 | G89: 15 | H89: 45723 | I89: Garsų pasaulio įrašai
A90: =IF(B90<>"",ROWS($B$6:B90),"") -> 85 | B90: BIX – beveik Nirvana | C90: BIX – beveik Nirvana | D90: LT | E90: 48410.41 | F90: 7085 | G90: 18 | H90: 45975 | I90: Cinema Ads
... A184: =IF(B184<>"",ROWS($B$6:B184),"") -> 179 | B184: Bernardo užduotis Marse | C184: Bernard: Mission Mars | D184: CH | E184: 9150.84 | F184: 1890 | G184: 14 | H184: 45877 | I184: Unlimited Media OÜ
A185: =IF(B185<>"",ROWS($B$6:B185),"") -> 180 | B185: Tėvas Motina Sesuo Brolis | C185: Father Mother Sister Brother | D185: US | E185: 9063 | F185: 1288 | G185: – | H185: 0 | I185: A-One Films
A186: =IF(B186<>"",ROWS($B$6:B186),"") -> 181 | B186: Springsteen. Išvaduok mane iš nežinios | C186: Springsteen: Deliver Me from Nowhere | D186: US | E186: 8502.29 | F186: 1300 | G186: 17 | H186: 45954 | I186: Theatrical Film Distribution / WDSMPI
A187: =IF(B187<>"",ROWS($B$6:B187),"") -> 182 | B187: Seksas | C187: Sex | D187: NO | E187: 8113.39 | F187: 1871 | G187: 8 | H187: 45856 | I187: Best Film
...

Sheet Platintojų pasiskirstymas
A1: Platintojas | B1: Filmo pavadinimas | C1: Pajamos | D1: Žiūrovų skaičius | E1: Pajamos % | F1: Žiūrovų skaičius % | G1: Premjeros data
A2: ACME Film | B2: Pietinia Kronikas (Pietinia Kronikas) | C2: 3144187.4 | D2: 412521 | E2: =_xlfn.PERCENTOF(Table14[[#This Row],[Pajamos]],[1]!_2025[[#Totals],[Pajamos]]) -> 0.13281967 | F2: =_xlfn.PERCENTOF(Table14[[#This Row],[Žiūrovų skaičius]],[1]!_2025[[#Totals],[Žiūrovų skaičius]]) -> 0.11549529 | G2: 45681
B3: Spermagedonas (Spermaggedon) | C3: 318853.48 | D3: 41188 | E3: =_xlfn.PERCENTOF(Table14[[#This Row],[Pajamos]],[1]!_2025[[#Totals],[Pajamos]]) -> 0.013469303 | F3: =_xlfn.PERCENTOF(Table14[[#This Row],[Žiūrovų skaičius]],[1]!_2025[[#Totals],[Žiūrovų skaičius]]) -> 0.011531583 | G3: 45975
B4: Konklava (Conclave) | C4: 223257.61 | D4: 33415 | E4: =_xlfn.PERCENTOF(Table14[[#This Row],[Pajamos]],[1]!_2025[[#Totals],[Pajamos]]) -> 0.0094310542 | F4: =_xlfn.PERCENTOF(Table14[[#This Row],[Žiūrovų skaičius]],[1]!_2025[[#Totals],[Žiūrovų skaičius]]) -> 0.0093553423 | G4: 45688
B5: Apgaulės meistrai 3 (Now You See Me Now You Don’t) | C5: 216462.55 | D5: 29198 | E5: =_xlfn.PERCENTOF(Table14[[#This Row],[Pajamos]],[1]!_2025[[#Totals],[Pajamos]]) -> 0.009144011 | F5: =_xlfn.PERCENTOF(Table14[[#This Row],[Žiūrovų skaičius]],[1]!_2025[[#Totals],[Žiūrovų skaičius]]) -> 0.0081746905 | G5: 45982
B6: Didžiosios lenktynės po Europą (Grand Prix of Europe) | C6: 128252.27 | D6: 23231 | E6: =_xlfn.PERCENTOF(Table14[[#This Row],[Pajamos]],[1]!_2025[[#Totals],[Pajamos]]) -> 0.0054177509 | F6: =_xlfn.PERCENTOF(Table14[[#This Row],[Žiūrovų skaičius]],[1]!_2025[[#Totals],[Žiūrovų skaičius]]) -> 0.0065040837 | G6: 45940
B7: Balerina (Ballerina) | C7: 119533.2 | D7: 16136 | E7: =_xlfn.PERCENTOF(Table14[[#This Row],[Pajamos]],[1]!_2025[[#Totals],[Pajamos]]) -> 0.0050494318 | F7: =_xlfn.PERCENTOF(Table14[[#This Row],[Žiūrovų skaičius]],[1]!_2025[[#Totals],[Žiūrovų skaičius]]) -> 0.0045176658 | G7: 45814
B8: Kaip peliukai Kalėdas griovė (A Mouse Hunt for Christmas) | C8: 113945.7 | D8: 21143 | E8: =_xlfn.PERCENTOF(Table14[[#This Row],[Pajamos]],[1]!_2025[[#Totals],[Pajamos]]) -> 0.0048133995 | F8: =_xlfn.PERCENTOF(Table14[[#This Row],[Žiūrovų skaičius]],[1]!_2025[[#Totals],[Žiūrovų skaičius]]) -> 0.0059194973 | G8: 46010
B9: Marija Kalas (Maria) | C9: 102122.88 | D9: 16988 | E9: =_xlfn.PERCENTOF(Table14[[#This Row],[Pajamos]],[1]!_2025[[#Totals],[Pajamos]]) -> 0.004313969 | F9: =_xlfn.PERCENTOF(Table14[[#This Row],[Žiūrovų skaičius]],[1]!_2025[[#Totals],[Žiūrovų skaičius]]) -> 0.004756204 | G9: 45744
B10: Šuo, kuris keliavo traukiniu 2 (Lampo, The Travelling Dog 2) | C10: 88863.02 | D10: 16461 | E10: =_xlfn.PERCENTOF(Table14[[#This Row],[Pajamos]],[1]!_2025[[#Totals],[Pajamos]]) -> 0.0037538338 | F10: =_xlfn.PERCENTOF(Table14[[#This Row],[Žiūrovų skaičius]],[1]!_2025[[#Totals],[Žiūrovų skaičius]]) -> 0.0046086575 | G10: 45947
B11: Mirtinas pasivaikščiojimas (Long Walk) | C11: 83975.96 | D11: 11956 | E11: =_xlfn.PERCENTOF(Table14[[#This Row],[Pajamos]],[1]!_2025[[#Totals],[Pajamos]]) -> 0.0035473901 | F11: =_xlfn.PERCENTOF(Table14[[#This Row],[Žiūrovų skaičius]],[1]!_2025[[#Totals],[Žiūrovų skaičius]]) -> 0.0033473731 | G11: 45933
B12: Slaptažodis: Kalėdos (Mission Santa: Yoyo to the Rescue) | C12: 83239.73 | D12: 14139 | E12: =_xlfn.PERCENTOF(Table14[[#This Row],[Pajamos]],[1]!_2025[[#Totals],[Pajamos]]) -> 0.0035162896 | F12: =_xlfn.PERCENTOF(Table14[[#This Row],[Žiūrovų skaičius]],[1]!_2025[[#Totals],[Žiūrovų skaičius]]) -> 0.0039585571 | G12: 46003
B13: Darbininkas (Working Man) | C13: 76376.71 | D13: 10306 | E13: =_xlfn.PERCENTOF(Table14[[#This Row],[Pajamos]],[1]!_2025[[#Totals],[Pajamos]]) -> 0.0032263755 | F13: =_xlfn.PERCENTOF(Table14[[#This Row],[Žiūrovų skaičius]],[1]!_2025[[#Totals],[Žiūrovų skaičius]]) -> 0.0028854155 | G13: 45744
B14: Svajonių kedai (Sneaks) | C14: 66323.46 | D14: 13168 | E14: =_xlfn.PERCENTOF(Table14[[#This Row],[Pajamos]],[1]!_2025[[#Totals],[Pajamos]]) -> 0.0028016969 | F14: =_xlfn.PERCENTOF(Table14[[#This Row],[Žiūrovų skaičius]],[1]!_2025[[#Totals],[Žiūrovų skaičius]]) -> 0.003686702 | G14: 45891
... B77: Kalėdos džiunglėse (Christmas in the Jungle) | C77: 114.45 | D77: 21 | E77: =_xlfn.PERCENTOF(Table14[[#This Row],[Pajamos]],[1]!_2025[[#Totals],[Pajamos]]) -> 4.8347026e-06 | F77: =_xlfn.PERCENTOF(Table14[[#This Row],[Žiūrovų skaičius]],[1]!_2025[[#Totals],[Žiūrovų skaičius]]) -> 5.879461e-06 | G77: 44547
A78: ACME Film Total | B78: =COUNTA(B2:B77) -> 76 | C78: 5685576.5 | D78: 819268 | E78: =_xlfn.PERCENTOF(Table14[[#This Row],[Pajamos]],[1]!_2025[[#Totals],[Pajamos]]) -> 0.24017538 | F78: =_xlfn.PERCENTOF(Table14[[#This Row],[Žiūrovų skaičius]],[1]!_2025[[#Totals],[Žiūrovų skaičius]]) -> 0.22937401
A79: Theatrical Film Distribution / WDSMPI | B79: Įsikūnijimas. Ugnis ir pelenai (Avatar: Fire and Ash) | C79: 1089984.7 | D79: 122355 | E79: =_xlfn.PERCENTOF(Table14[[#This Row],[Pajamos]],[1]!_2025[[#Totals],[Pajamos]]) -> 0.046044141 | F79: =_xlfn.PERCENTOF(Table14[[#This Row],[Žiūrovų skaičius]],[1]!_2025[[#Totals],[Žiūrovų skaičius]]) -> 0.034256259 | G79: 46010
B80: Zootropolis 2 (Zootopia 2) | C80: 923000.44 | D80: 147335 | E80: =_xlfn.PERCENTOF(Table14[[#This Row],[Pajamos]],[1]!_2025[[#Totals],[Pajamos]]) -> 0.038990237 | F80: =_xlfn.PERCENTOF(Table14[[#This Row],[Žiūrovų skaičius]],[1]!_2025[[#Totals],[Žiūrovų skaičius]]) -> 0.041250018 | G80: 45989
B81: Lilo ir Stičas (Lilo & Stitch) | C81: 667776.51 | D81: 121226 | E81: =_xlfn.PERCENTOF(Table14[[#This Row],[Pajamos]],[1]!_2025[[#Totals],[Pajamos]]) -> 0.028208832 | F81: =_xlfn.PERCENTOF(Table14[[#This Row],[Žiūrovų skaičius]],[1]!_2025[[#Totals],[Žiūrovų skaičius]]) -> 0.033940168 | G81: 45800
B82: Vajana 2 (Moana 2) | C82: 238993.46 | D82: 40851 | E82: =_xlfn.PERCENTOF(Table14[[#This Row],[Pajamos]],[1]!_2025[[#Totals],[Pajamos]]) -> 0.010095782 | F82: =_xlfn.PERCENTOF(Table14[[#This Row],[Žiūrovų skaičius]],[1]!_2025[[#Totals],[Žiūrovų skaičius]]) -> 0.011437231 | G82: 45625
B83: Elio (Elio) | C83: 170979.37 | D83: 33385 | E83: =_xlfn.PERCENTOF(Table14[[#This Row],[Pajamos]],[1]!_2025[[#Totals],[Pajamos]]) -> 0.0072226685 | F83: =_xlfn.PERCENTOF(Table14[[#This Row],[Žiūrovų skaičius]],[1]!_2025[[#Totals],[Žiūrovų skaičius]]) -> 0.0093469431 | G83: 45835
B84: Fantastiškas ketvertas. Pirmieji žingsniai (The Fanstastic 4. First Steps) | C84: 162826.16 | D84: 24252 | E84: =_xlfn.PERCENTOF(Table14[[#This Row],[Pajamos]],[1]!_2025[[#Totals],[Pajamos]]) -> 0.006878253 | F84: =_xlfn.PERCENTOF(Table14[[#This Row],[Žiūrovų skaičius]],[1]!_2025[[#Totals],[Žiūrovų skaičius]]) -> 0.0067899375 | G84: 45863
B85: Mufasa. Liūtas karalius (Mufasa: The Lion King) | C85: 161225.09 | D85: 26391 | E85: =_xlfn.PERCENTOF(Table14[[#This Row],[Pajamos]],[1]!_2025[[#Totals],[Pajamos]]) -> 0.0068106192 | F85: =_xlfn.PERCENTOF(Table14[[#This Row],[Žiūrovų skaičius]],[1]!_2025[[#Totals],[Žiūrovų skaičius]]) -> 0.0073888026 | G85: 45646
B86: Thunderbolts* (Thunderbolts*) | C86: 142548.99 | D86: 18866 | E86: =_xlfn.PERCENTOF(Table14[[#This Row],[Pajamos]],[1]!_2025[[#Totals],[Pajamos]]) -> 0.0060216861 | F86: =_xlfn.PERCENTOF(Table14[[#This Row],[Žiūrovų skaičius]],[1]!_2025[[#Totals],[Žiūrovų skaičius]]) -> 0.0052819957 | G86: 45779
B87: Kapitonas Amerika. Drąsus naujas pasaulis (Captain America: Brave New World) | C87: 114999.99 | D87: 17061 | E87: =_xlfn.PERCENTOF(Table14[[#This Row],[Pajamos]],[1]!_2025[[#Totals],[Pajamos]]) -> 0.0048579358 | F87: =_xlfn.PERCENTOF(Table14[[#This Row],[Žiūrovų skaičius]],[1]!_2025[[#Totals],[Žiūrovų skaičius]]) -> 0.0047766421 | G87: 45702
B88: Grobuonis. Pavojaus zona (Predator: Badlands) | C88: 105777.51 | D88: 13507 | E88: =_xlfn.PERCENTOF(Table14[[#This Row],[Pajamos]],[1]!_2025[[#Totals],[Pajamos]]) -> 0.0044683513 | F88: =_xlfn.PERCENTOF(Table14[[#This Row],[Žiūrovų skaičius]],[1]!_2025[[#Totals],[Žiūrovų skaičius]]) -> 0.0037816133 | G88: 45968
B89: Tronas: Arėjas (Tron: Ares) | C89: 90298.64 | D89: 11828 | E89: =_xlfn.PERCENTOF(Table14[[#This Row],[Pajamos]],[1]!_2025[[#Totals],[Pajamos]]) -> 0.0038144786 | F89: =_xlfn.PERCENTOF(Table14[[#This Row],[Žiūrovų skaičius]],[1]!_2025[[#Totals],[Žiūrovų skaičius]]) -> 0.0033115364 | G89: 45940
B90: Diletantas (The Amateur) | C90: 61088.96 | D90: 9135 | E90: =_xlfn.PERCENTOF(Table14[[#This Row],[Pajamos]],[1]!_2025[[#Totals],[Pajamos]]) -> 0.0025805763 | F90: =_xlfn.PERCENTOF(Table14[[#This Row],[Žiūrovų skaičius]],[1]!_2025[[#Totals],[Žiūrovų skaičius]]) -> 0.0025575655 | G90: 45758
B91: Keistesnis penktadienis (Freakier Friday) | C91: 44492.77 | D91: 7254 | E91: =_xlfn.PERCENTOF(Table14[[#This Row],[Pajamos]],[1]!_2025[[#Totals],[Pajamos]]) -> 0.0018795047 | F91: =_xlfn.PERCENTOF(Table14[[#This Row],[Žiūrovų skaičius]],[1]!_2025[[#Totals],[Žiūrovų skaičius]]) -> 0.0020309338 | G91: 45877
... B99: Prasti reikalai (Poor Things) | C99: 28 | D99: 5 | E99: =_xlfn.PERCENTOF(Table14[[#This Row],[Pajamos]],[1]!_2025[[#Totals],[Pajamos]]) -> 1.1828019e-06 | F99: =_xlfn.PERCENTOF(Table14[[#This Row],[Žiūrovų skaičius]],[1]!_2025[[#Totals],[Žiūrovų skaičius]]) -> 1.3998717e-06 | G99: 45310
A100: Theatrical Film Distribution / WDSMPI Total | B100: =COUNTA(B79:B99) -> 21 | C100: 4103191.6 | D100: 613979 | E100: =_xlfn.PERCENTOF(Table14[[#This Row],[Pajamos]],[1]!_2025[[#Totals],[Pajamos]]) -> 0.17333081 | F100: =_xlfn.PERCENTOF(Table14[[#This Row],[Žiūrovų skaičius]],[1]!_2025[[#Totals],[Žiūrovų skaičius]]) -> 0.17189836
A101: ACME Film / WB | B101: Minecraft filmas (A Minecraft Movie) | C101: 1242208.7 | D101: 197265 | E101: =_xlfn.PERCENTOF(Table14[[#This Row],[Pajamos]],[1]!_2025[[#Totals],[Pajamos]]) -> 0.052474526 | F101: =_xlfn.PERCENTOF(Table14[[#This Row],[Žiūrovų skaičius]],[1]!_2025[[#Totals],[Žiūrovų skaičius]]) -> 0.055229137 | G101: 45751
B102: F1 (F1) | C102: 822898.81 | D102: 110128 | E102: =_xlfn.PERCENTOF(Table14[[#This Row],[Pajamos]],[1]!_2025[[#Totals],[Pajamos]]) -> 0.034761652 | F102: =_xlfn.PERCENTOF(Table14[[#This Row],[Žiūrovų skaičius]],[1]!_2025[[#Totals],[Žiūrovų skaičius]]) -> 0.030833013 | G102: 45835
B103: Išvarymas 4: Paskutinės apeigos (The Conjuring 4: Last Rites) | C103: 437318.96 | D103: 54446 | E103: =_xlfn.PERCENTOF(Table14[[#This Row],[Pajamos]],[1]!_2025[[#Totals],[Pajamos]]) -> 0.018473631 | F103: =_xlfn.PERCENTOF(Table14[[#This Row],[Žiūrovų skaičius]],[1]!_2025[[#Totals],[Žiūrovų skaičius]]) -> 0.015243482 | G103: 45905
B104: Mūšis po mūšio (One Battle After Another) | C104: 311400.88 | D104: 40304 | E104: =_xlfn.PERCENTOF(Table14[[#This Row],[Pajamos]],[1]!_2025[[#Totals],[Pajamos]]) -> 0.013154484 | F104: =_xlfn.PERCENTOF(Table14[[#This Row],[Žiūrovų skaičius]],[1]!_2025[[#Totals],[Žiūrovų skaičius]]) -> 0.011284085 | G104: 45926
B105: Išnykimo valanda (Weapons) | C105: 199541.06 | D105: 28664 | E105: =_xlfn.PERCENTOF(Table14[[#This Row],[Pajamos]],[1]!_2025[[#Totals],[Pajamos]]) -> 0.0084291978 | F105: =_xlfn.PERCENTOF(Table14[[#This Row],[Žiūrovų skaičius]],[1]!_2025[[#Totals],[Žiūrovų skaičius]]) -> 0.0080251843 | G105: 45877
B106: Galutinis tikslas. Kraujo linija (Final Destination. Bloodlines) | C106: 124061.4 | D106: 17478 | E106: =_xlfn.PERCENTOF(Table14[[#This Row],[Pajamos]],[1]!_2025[[#Totals],[Pajamos]]) -> 0.0052407163 | F106: =_xlfn.PERCENTOF(Table14[[#This Row],[Žiūrovų skaičius]],[1]!_2025[[#Totals],[Žiūrovų skaičius]]) -> 0.0048933914 | G106: 45793
B107: Mikis 17 (Mickey 17) | C107: 119015.53 | D107: 16597 | E107: =_xlfn.PERCENTOF(Table14[[#This Row],[Pajamos]],[1]!_2025[[#Totals],[Pajamos]]) -> 0.0050275639 | F107: =_xlfn.PERCENTOF(Table14[[#This Row],[Žiūrovų skaičius]],[1]!_2025[[#Totals],[Žiūrovų skaičius]]) -> 0.004646734 | G107: 45723
B108: Supermenas (Superman: Legacy) | C108: 117753.7 | D108: 17551 | E108: =_xlfn.PERCENTOF(Table14[[#This Row],[Pajamos]],[1]!_2025[[#Totals],[Pajamos]]) -> 0.0049742606 | F108: =_xlfn.PERCENTOF(Table14[[#This Row],[Žiūrovų skaičius]],[1]!_2025[[#Totals],[Žiūrovų skaičius]]) -> 0.0049138295 | G108: 45849
B109: Nusidėjėliai (Sinners) | C109: 82434.73 | D109: 11985 | E109: =_xlfn.PERCENTOF(Table14[[#This Row],[Pajamos]],[1]!_2025[[#Totals],[Pajamos]]) -> 0.003482284 | F109: =_xlfn.PERCENTOF(Table14[[#This Row],[Žiūrovų skaičius]],[1]!_2025[[#Totals],[Žiūrovų skaičius]]) -> 0.0033554924 | G109: 45765
...

Sheet Sausis
A1: ='2025'!A1 -> 2025
A2: ='2025'!A2 -> Lietuvos kino teatruose rodytų filmų TOP
A3: Sausis
A5: Eil. Nr. | B5: Filmo pavadinimas | C5: Filmo pavadinimas originalo kalba | D5: Kilmės šalis | E5: Pajamos | F5: Žiūrovų skaičius | G5: Kopijų skaičius | H5: Premjeros data | I5: Platintojas
A6: =IF(B6<>"",ROWS($B$6:B6),"") -> 1 | B6: Pietinia Kronikas | C6: Pietinia Kronikas | D6: LT | E6: 787196.21 | F6: 104355 | G6: 22 | H6: 45681 | I6: ACME Film
A7: =IF(B7<>"",ROWS($B$6:B7),"") -> 2 | B7: Reemigrantai 2 | C7: Reemigrantai 2 | D7: LT | E7: 616456 | F7: 82393 | G7: – | H7: 45646 | I7: Vabalo filmai
A8: =IF(B8<>"",ROWS($B$6:B8),"") -> 3 | B8: Ežiukas Sonic 3 | C8: Sonic the Hedgehog 3 | D8: US, JP | E8: 393144.06 | F8: 66696 | G8: 24 | H8: 45653 | I8: Dukine Film Distribution / Paramount Pictures
A9: =IF(B9<>"",ROWS($B$6:B9),"") -> 4 | B9: Gera mergaitė | C9: Babygirl | D9: US | E9: 373160.23 | F9: 48420 | G9: 24 | H9: 45667 | I9: Europos kinas
A10: =IF(B10<>"",ROWS($B$6:B10),"") -> 5 | B10: Nosferatu | C10: Nosferatu | D10: US, UK, HU | E10: 218296.77 | F10: 29167 | G10: 17 | H10: 45660 | I10: Dukine Film Distribution / Universal Pictures
A11: =IF(B11<>"",ROWS($B$6:B11),"") -> 6 | B11: Vajana 2 | C11: Moana 2 | D11: US, CA | E11: 182755.42 | F11: 31186 | G11: 19 | H11: 45625 | I11: Theatrical Film Distribution / WDSMPI
A12: =IF(B12<>"",ROWS($B$6:B12),"") -> 7 | B12: Mufasa. Liūtas karalius | C12: Mufasa: The Lion King | D12: US | E12: 130653.16 | F12: 21485 | G12: 28 | H12: 45646 | I12: Theatrical Film Distribution / WDSMPI
A13: =IF(B13<>"",ROWS($B$6:B13),"") -> 8 | B13: Meškiukas Padingtonas: Nuotykiai Peru | C13: Paddington in Peru | D13: UK, US, JP, FR | E13: 128537.33 | F13: 22364 | G13: 19 | H13: 45681 | I13: ACME Film / SONY
A14: =IF(B14<>"",ROWS($B$6:B14),"") -> 9 | B14: Partenopė | C14: Parthenope | D14: IT | E14: 90784 | F14: 12883 | G14: 16 | H14: 45653 | I14: A-One Films
A15: =IF(B15<>"",ROWS($B$6:B15),"") -> 10 | B15: Tokie smulkūs dalykai | C15: Small Things Like These | D15: IE, US, BE | E15: 61877 | F15: 9376 | G15: 18 | H15: 45660 | I15: Garsų pasaulio įrašai
A16: =IF(B16<>"",ROWS($B$6:B16),"") -> 11 | B16: Piktoji | C16: Wicked | D16: US | E16: 40489.97 | F16: 6500 | G16: 16 | H16: 45632 | I16: Dukine Film Distribution / Universal Pictures
A17: =IF(B17<>"",ROWS($B$6:B17),"") -> 12 | B17: Emilija Perez | C17: Emilia Pérez | D17: FR | E17: 37289.6 | F17: 6130 | G17: 14 | H17: 45674 | I17: A-One Films
A18: =IF(B18<>"",ROWS($B$6:B18),"") -> 13 | B18: Gladiatorius 2 | C18: Gladiator 2 | D18: US, UK | E18: 33563.47 | F18: 4386 | G18: 9 | H18: 45611 | I18: Dukine Film Distribution / Paramount Pictures
A19: =IF(B19<>"",ROWS($B$6:B19),"") -> 14 | B19: Super elfai | C19: Super Elfkins | D19: DE | E19: 32412.57 | F19: 6186 | G19: 17 | H19: 45667 | I19: ACME Film
... A70: =IF(B70<>"",ROWS($B$6:B70),"") -> 65 | B70: žeme, stop | C70: stop-zemlia | D70: UA | E70: 100 | F70: 17 | G70: 1 | H70: 44707 | I70: Skalvijos kino centras
E71: =SUBTOTAL(109,Table3[Pajamos]) -> 3315382 | F71: =SUBTOTAL(109,Table3[Žiūrovų skaičius]) -> 481633

Sheet Vasaris
A1: ='2025'!A1 -> 2025
A2: ='2025'!A2 -> Lietuvos kino teatruose rodytų filmų TOP
A3: Vasaris
A5: Eil. Nr. | B5: Filmo pavadinimas | C5: Filmo pavadinimas originalo kalba | D5: Kilmės šalis | E5: Pajamos | F5: Žiūrovų skaičius | G5: Kopijų skaičius | H5: Premjeros data | I5: Platintojas
A6: =IF(B6<>"",ROWS($B$6:B6),"") -> 1 | B6: Pietinia Kronikas | C6: Pietinia Kronikas | D6: LT | E6: 1652806.8 | F6: 215379 | G6: 22 | H6: 45681 | I6: ACME Film
A7: =IF(B7<>"",ROWS($B$6:B7),"") -> 2 | B7: Legendinės legendos. FELICITÀ | C7: Legendinės legendos. FELICITÀ | D7: LT | E7: 353379.12 | F7: 48040 | G7: 14 | H7: 45702 | I7: MB Aistis Mickevičius
A8: =IF(B8<>"",ROWS($B$6:B8),"") -> 3 | B8: Bridžita Džouns. Pakvaišusi dėl vaikino | C8: Bridget Jones: Mad About the Boy | D8: US, UK, FR | E8: 176085.73 | F8: 23824 | G8: 20 | H8: 45702 | I8: Dukine Film Distribution / Universal Pictures
A9: =IF(B9<>"",ROWS($B$6:B9),"") -> 4 | B9: Meškiukas Padingtonas: Nuotykiai Peru | C9: Paddington in Peru | D9: UK, US, JP, FR | E9: 173713.86 | F9: 30551 | G9: 19 | H9: 45681 | I9: ACME Film / SONY
A10: =IF(B10<>"",ROWS($B$6:B10),"") -> 5 | B10: Konklava | C10: Conclave | D10: UK, US | E10: 123775.12 | F10: 18640 | G10: 19 | H10: 45688 | I10: ACME Film
A11: =IF(B11<>"",ROWS($B$6:B11),"") -> 6 | B11: Kapitonas Amerika. Drąsus naujas pasaulis | C11: Captain America: Brave New World | D11: US | E11: 93846.91 | F11: 13949 | G11: 20 | H11: 45702 | I11: Theatrical Film Distribution / WDSMPI
A12: =IF(B12<>"",ROWS($B$6:B12),"") -> 7 | B12: Ežiukas Sonic 3 | C12: Sonic the Hedgehog 3 | D12: US, JP | E12: 79651.68 | F12: 13979 | G12: 17 | H12: 45653 | I12: Dukine Film Distribution / Paramount Pictures
A13: =IF(B13<>"",ROWS($B$6:B13),"") -> 8 | B13: Dogmeno nuotykiai | C13: Dog Man | D13: US, UK | E13: 61381.3 | F13: 11716 | G13: 22 | H13: 45702 | I13: Dukine Film Distribution / Universal Pictures
A14: =IF(B14<>"",ROWS($B$6:B14),"") -> 9 | B14: Gera mergaitė | C14: Babygirl | D14: US | E14: 55935.08 | F14: 7606 | G14: 20 | H14: 45667 | I14: Europos kinas
A15: =IF(B15<>"",ROWS($B$6:B15),"") -> 10 | B15: Agentas Hitpigas | C15: Hitpig | D15: UK | E15: 54598.41 | F15: 10166 | G15: 17 | H15: 45688 | I15: Adastra Cinema
A16: =IF(B16<>"",ROWS($B$6:B16),"") -> 11 | B16: Reemigrantai 2 | C16: Reemigrantai 2 | D16: LT | E16: 43086 | F16: 5761 | G16: – | H16: 45646 | I16: Vabalo filmai
A17: =IF(B17<>"",ROWS($B$6:B17),"") -> 12 | B17: Vajana 2 | C17: Moana 2 | D17: US, CA | E17: 36718.09 | F17: 6292 | G17: 13 | H17: 45625 | I17: Theatrical Film Distribution / WDSMPI
A18: =IF(B18<>"",ROWS($B$6:B18),"") -> 13 | B18: Užburtas miškas | C18: Angelo dans la forêt mystérieuse | D18: FR | E18: 31952.96 | F18: 6120 | G18: 20 | H18: 45709 | I18: Adastra Cinema
A19: =IF(B19<>"",ROWS($B$6:B19),"") -> 14 | B19: Būtybė | C19: Presence | D19: US | E19: 30127.06 | F19: 4349 | G19: 12 | H19: 45695 | I19: ACME Film
A20: =IF(B20<>"",ROWS($B$6:B20),"") -> 15 | B20: Bob Dylan: Visiškai nežinomas | C20: A Complete Unknown | D20: US | E20: 30093.66 | F20: 4521 | G20: 18 | H20: 45695 | I20: Theatrical Film Distribution / WDSMPI
A21: =IF(B21<>"",ROWS($B$6:B21),"") -> 16 | B21: Mufasa. Liūtas karalius | C21: Mufasa: The Lion King | D21: US | E21: 26746.91 | F21: 4345 | G21: 11 | H21: 45646 | I21: Theatrical Film Distribution / WDSMPI
A22: =IF(B22<>"",ROWS($B$6:B22),"") -> 17 | B22: Beždžionė | C22: Monkey | D22: US | E22: 26685.71 | F22: 4121 | G22: 12 | H22: 45709 | I22: ACME Film
A23: =IF(B23<>"",ROWS($B$6:B23),"") -> 18 | B23: Išpuikusi princesė | C23: Proud Princess | D23: CZ | E23: 24895.43 | F23: 4671 | G23: 19 | H23: 45695 | I23: ACME Film
A24: =IF(B24<>"",ROWS($B$6:B24),"") -> 19 | B24: Šventė | C24: Šventė | D24: LT | E24: 23819.33 | F24: 3437 | G24: 6 | H24: 45695 | I24: Lietuvos nacionalinis kultūros centras
A25: =IF(B25<>"",ROWS($B$6:B25),"") -> 20 | B25: Partenopė | C25: Parthenope | D25: IT | E25: 16991.8 | F25: 2465 | G25: 5 | H25: 45653 | I25: A-One Films
A26: =IF(B26<>"",ROWS($B$6:B26),"") -> 21 | B26: Tattoo vaikinai. Tiesiai į širdį | C26: Marked Men | D26: US | E26: 16900 | F26: 2666 | G26: 12 | H26: 45709 | I26: Garsų pasaulio įrašai
A27: =IF(B27<>"",ROWS($B$6:B27),"") -> 22 | B27: Palydovė | C27: Companion | D27: US | E27: 16145.49 | F27: 2320 | G27: 11 | H27: 45688 | I27: ACME Film / WB
A28: =IF(B28<>"",ROWS($B$6:B28),"") -> 23 | B28: Emilija Perez | C28: Emilia Pérez | D28: FR | E28: 12971.2 | F28: 1955 | G28: 16 | H28: 45674 | I28: A-One Films
... A80: =IF(B80<>"",ROWS($B$6:B80),"") -> 75 | B80: Šuniškas procesas | C80: Le Procès du Chien | D80: FR | E80: 3 | F80: 1 | G80: 1 | H80: 45667 | I80: Adastra Cinema
E81: =SUBTOTAL(109,Table3_Vasaris[Pajamos]) -> 3259431.1 | F81: =SUBTOTAL(109,Table3_Vasaris[Žiūrovų skaičius]) -> 463623

Sheet Kovas
A1: ='2025'!A1 -> 2025
A2: ='2025'!A2 -> Lietuvos kino teatruose rodytų filmų TOP
A3: Kovas
A5: Eil. Nr. | B5: Filmo pavadinimas | C5: Filmo pavadinimas originalo kalba | D5: Kilmės šalis | E5: Pajamos | F5: Žiūrovų skaičius | G5: Kopijų skaičius | H5: Premjeros data | I5: Platintojas
A6: =IF(B6<>"",ROWS($B$6:B6),"") -> 1 | B6: Pietinia Kronikas | C6: Pietinia Kronikas | D6: LT | E6: 496310.12 | F6: 62499 | G6: 23 | H6: 45681 | I6: ACME Film
A7: =IF(B7<>"",ROWS($B$6:B7),"") -> 2 | B7: Legendinės legendos. FELICITÀ | C7: Legendinės legendos. FELICITÀ | D7: LT | E7: 113517.99 | F7: 17487 | G7: 10 | H7: 45702 | I7: MB Aistis Mickevičius
A8: =IF(B8<>"",ROWS($B$6:B8),"") -> 3 | B8: Mikis 17 | C8: Mickey 17 | D8: US | E8: 112296.69 | F8: 15614 | G8: 19 | H8: 45723 | I8: ACME Film / WB
A9: =IF(B9<>"",ROWS($B$6:B9),"") -> 4 | B9: Potvynis | C9: Flow | D9: LV, BE, FR | E9: 104520.39 | F9: 16512 | G9: 29 | H9: 45744 | I9: Europos kinas
A10: =IF(B10<>"",ROWS($B$6:B10),"") -> 5 | B10: Meškiukas Padingtonas: Nuotykiai Peru | C10: Paddington in Peru | D10: UK, US, JP, FR | E10: 80451.06 | F10: 14021 | G10: 14 | H10: 45681 | I10: ACME Film / SONY
A11: =IF(B11<>"",ROWS($B$6:B11),"") -> 6 | B11: Akiplėša | C11: Akiplėša | D11: LT | E11: 72120.93 | F11: 11554 | G11: 23 | H11: 45740 | I11: Europos kinas
A12: =IF(B12<>"",ROWS($B$6:B12),"") -> 7 | B12: Bridžita Džouns. Pakvaišusi dėl vaikino | C12: Bridget Jones: Mad About the Boy | D12: US, UK, FR | E12: 54819.71 | F12: 7718 | G12: 16 | H12: 45702 | I12: Dukine Film Distribution / Universal Pictures
A13: =IF(B13<>"",ROWS($B$6:B13),"") -> 8 | B13: Užburtas miškas | C13: Angelo dans la forêt mystérieuse | D13: FR | E13: 49843.4 | F13: 9572 | G13: 19 | H13: 45709 | I13: Adastra Cinema
A14: =IF(B14<>"",ROWS($B$6:B14),"") -> 9 | B14: Miškų bastūnai | C14: Woodwalkers | D14: DE | E14: 46385 | F14: 8354 | G14: 15 | H14: 45723 | I14: Garsų pasaulio įrašai
A15: =IF(B15<>"",ROWS($B$6:B15),"") -> 10 | B15: Konklava | C15: Conclave | D15: UK, US | E15: 43912.25 | F15: 6738 | G15: 14 | H15: 45688 | I15: ACME Film
A16: =IF(B16<>"",ROWS($B$6:B16),"") -> 11 | B16: Darbininkas | C16: Working Man | D16: US | E16: 33325.5 | F16: 4462 | G16: 12 | H16: 45744 | I16: ACME Film
A17: =IF(B17<>"",ROWS($B$6:B17),"") -> 12 | B17: Marija Kalas | C17: Maria | D17: CL, IT, DE, US | E17: 32787.86 | F17: 5010 | G17: 19 | H17: 45744 | I17: ACME Film
... A99: =IF(B99<>"",ROWS($B$6:B99),"") -> 94 | B99: Super elfai | C99: Super Elfkins | D99: DE | E99: 22.98 | F99: 4 | G99: 1 | H99: 45667 | I99: ACME Film
E100: =SUBTOTAL(109,Table3_Vasaris5[Pajamos]) -> 1539696.6 | F100: =SUBTOTAL(109,Table3_Vasaris5[Žiūrovų skaičius]) -> 230105

Sheet Balandis
A1: ='2025'!A1 -> 2025
A2: ='2025'!A2 -> Lietuvos kino teatruose rodytų filmų TOP
A3: Balandis
A5: Eil. Nr. | B5: Filmo pavadinimas | C5: Filmo pavadinimas originalo kalba | D5: Kilmės šalis | E5: Pajamos | F5: Žiūrovų skaičius | G5: Kopijų skaičius | H5: Premjeros data | I5: Platintojas
A6: =IF(B6<>"",ROWS($B$6:B6),"") -> 1 | B6: Minecraft filmas | C6: A Minecraft Movie | D6: US | E6: 1046336.2 | F6: 162954 | G6: 19 | H6: 45751 | I6: ACME Film / WB
A7: =IF(B7<>"",ROWS($B$6:B7),"") -> 2 | B7: Potvynis | C7: Flow | D7: LV, BE, FR | E7: 193084.5 | F7: 32982 | G7: 24 | H7: 45744 | I7: Europos kinas
A8: =IF(B8<>"",ROWS($B$6:B8),"") -> 3 | B8: Pietinia Kronikas | C8: Pietinia Kronikas | D8: LT | E8: 127434.82 | F8: 18122 | G8: 20 | H8: 45681 | I8: ACME Film
A9: =IF(B9<>"",ROWS($B$6:B9),"") -> 4 | B9: Akiplėša | C9: Akiplėša | D9: LT | E9: 106332.1 | F9: 16071 | G9: 22 | H9: 45740 | I9: Europos kinas
A10: =IF(B10<>"",ROWS($B$6:B10),"") -> 5 | B10: Diletantas | C10: The Amateur | D10: US | E10: 54234.77 | F10: 8177 | G10: 15 | H10: 45758 | I10: Theatrical Film Distribution / WDSMPI
A11: =IF(B11<>"",ROWS($B$6:B11),"") -> 6 | B11: Marija Kalas | C11: Maria | D11: CL, IT, DE, US | E11: 53311.31 | F11: 8827 | G11: 20 | H11: 45744 | I11: ACME Film
A12: =IF(B12<>"",ROWS($B$6:B12),"") -> 7 | B12: Nusidėjėliai | C12: Sinners | D12: US | E12: 43979.54 | F12: 6421 | G12: 14 | H12: 45765 | I12: ACME Film / WB
A13: =IF(B13<>"",ROWS($B$6:B13),"") -> 8 | B13: Darbininkas | C13: Working Man | D13: US | E13: 43051.21 | F13: 5844 | G13: 12 | H13: 45744 | I13: ACME Film
A14: =IF(B14<>"",ROWS($B$6:B14),"") -> 9 | B14: Iki aušros | C14: Until Dawn | D14: US | E14: 39721.7 | F14: 6129 | G14: 13 | H14: 45772 | I14: ACME Film / SONY
A15: =IF(B15<>"",ROWS($B$6:B15),"") -> 10 | B15: Panda vardu Mėnulis | C15: Moon the Panda | D15: FR | E15: 33213.42 | F15: 6456 | G15: 19 | H15: 45765 | I15: ACME Film
A16: =IF(B16<>"",ROWS($B$6:B16),"") -> 11 | B16: Brutalistas | C16: The Brutalist | D16: US | E16: 27299.53 | F16: 4089 | G16: 20 | H16: 45751 | I16: Dukine Film Distribution / Universal Pictures
A17: =IF(B17<>"",ROWS($B$6:B17),"") -> 12 | B17: Sąskaitininas 2 | C17: Accountant 2 | D17: US | E17: 26305.88 | F17: 3710 | G17: 15 | H17: 45772 | I17: ACME Film / WB
... A36: =IF(B36<>"",ROWS($B$6:B36),"") -> 31 | B36: Povas | C36: Phau | D36: AT, DE | E36: 2621.48 | F36: 340 | G36: 10 | H36: 45740 | I36: Europos kinas
A37: =IF(B37<>"",ROWS($B$6:B37),"") -> 32 | B37: Plastikiniai pistoletai | C37: Les pistolets en plastique | D37: FR | E37: 2252.8 | F37: 445 | G37: – | H37: 45765 | I37: A-One Films
A38: =IF(B38<>"",ROWS($B$6:B38),"") -> 33 | B38: Niki | C38: Niki | D38: FR | E38: 2004.05 | F38: 435 | G38: 6 | H38: 45751 | I38: Best Film
A39: =IF(B39<>"",ROWS($B$6:B39),"") -> 34 | B39: Fanfaros | C39: En Fanfare | D39: FR | E39: 1903.22 | F39: 309 | G39: 13 | H39: 45740 | I39: Europos kinas
A40: =IF(B40<>"",ROWS($B$6:B40),"") -> 35 | B40: Žvaigždės pranašauja | C40: Wishing on a Star | D40: IT, SK, CZ, AT, HR | E40: 1582.16 | F40: 196 | G40: 5 | H40: 45740 | I40: Europos kinas
A41: =IF(B41<>"",ROWS($B$6:B41),"") -> 36 | B41: Ežiukas Sonic 3 | C41: Sonic the Hedgehog 3 | D41: US, JP | E41: 1370.29 | F41: 258 | G41: 8 | H41: 45653 | I41: Dukine Film Distribution / Paramount Pictures
A42: =IF(B42<>"",ROWS($B$6:B42),"") -> 37 | B42: Trys draugės | C42: Trois Amies | D42: FR | E42: 1249.32 | F42: 176 | G42: 9 | H42: 45740 | I42: Europos kinas
A43: =IF(B43<>"",ROWS($B$6:B43),"") -> 38 | B43: Verti meilės | C43: Elskling | D43: NO | E43: 1205.5 | F43: 263 | G43: 4 | H43: 45709 | I43: Estinfilm
A44: =IF(B44<>"",ROWS($B$6:B44),"") -> 39 | B44: Vermiljas | C44: Vermiglio | D44: IT | E44: 1134.2 | F44: 177 | G44: 12 | H44: 45740 | I44: Europos kinas
A45: =IF(B45<>"",ROWS($B$6:B45),"") -> 40 | B45: Sing Singo kalėjimas | C45: Sing Sing | D45: US | E45: 1126.78 | F45: 184 | G45: 16 | H45: 45744 | I45: ACME Film
A46: =IF(B46<>"",ROWS($B$6:B46),"") -> 41 | B46: Visa, kas tu esi | C46: Alle die Du bist | D46: DE | E46: 1077.7 | F46: 212 | G46: – | H46: 45772 | I46: A-One Films
A47: =IF(B47<>"",ROWS($B$6:B47),"") -> 42 | B47: Partenopė | C47: Parthenope | D47: IT | E47: 971 | F47: 250 | G47: – | H47: 45653 | I47: A-One Films
A48: =IF(B48<>"",ROWS($B$6:B48),"") -> 43 | B48: Šventosios figos sėkla | C48: Dane-ye anjir-e ma'abed | D48: IR | E48: 930.1 | F48: 154 | G48: 5 | H48: 45740 | I48: Europos kinas
A49: =IF(B49<>"",ROWS($B$6:B49),"") -> 44 | B49: Beždžionė | C49: Monkey | D49: US | E49: 886.9 | F49: 114 | G49: 1 | H49: 45709 | I49: ACME Film
A50: =IF(B50<>"",ROWS($B$6:B50),"") -> 45 | B50: Katinas vaiduoklis Andzu | C50: Ghost Cat Anzu | D50: JP, FR | E50: 861.09 | F50: 143 | G50: 9 | H50: 45740 | I50: Europos kinas
A51: =IF(B51<>"",ROWS($B$6:B51),"") -> 46 | B51: Novokainas | C51: Novocaine | D51: US | E51: 710.16 | F51: 120 | G51: 8 | H51: 45737 | I51: Dukine Film Distribution / Paramount Pictures
A52: =IF(B52<>"",ROWS($B$6:B52),"") -> 47 | B52: Pont Neuf meilužiai | C52: Les Amants du Pont-Neuf | D52: FR | E52: 652.25 | F52: 92 | G52: 4 | H52: 45740 | I52: Europos kinas
A53: =IF(B53<>"",ROWS($B$6:B53),"") -> 48 | B53: Žokėjus | C53: El Jockey | D53: AR | E53: 615.7 | F53: 81 | G53: 5 | H53: 45740 | I53: Europos kinas
A54: =IF(B54<>"",ROWS($B$6:B54),"") -> 49 | B54: Balkonetės | C54: Les femmes au balcon | D54: FR | E54: 592 | F54: 115 | G54: – | H54: 45702 | I54: A-One Films
A55: =IF(B55<>"",ROWS($B$6:B55),"") -> 50 | B55: Ozi. Miško balsas | C55: Ozi: Voice Of The Forest | D55: UK, FR, US, CN | E55: 517.48 | F55: 151 | G55: 3 | H55: 45541 | I55: Adastra Cinema
A56: =IF(B56<>"",ROWS($B$6:B56),"") -> 51 | B56: Larsas yra LOL | C56: Lars er LOL | D56: NO | E56: 513 | F56: 124 | G56: 1 | H56: 45592 | I56: Skalvijos kino centras
A57: =IF(B57<>"",ROWS($B$6:B57),"") -> 52 | B57: Armandas | C57: Armand | D57: NO | E57: 497.35 | F57: 77 | G57: 9 | H57: 45740 | I57: Europos kinas
A58: =IF(B58<>"",ROWS($B$6:B58),"") -> 53 | B58: Didieji planetos sergėtojai | C58: Les gardiennes de la planete | D58: FR | E58: 474 | F58: 137 | G58: 1 | H58: 45233 | I58: Estinfilm
A59: =IF(B59<>"",ROWS($B$6:B59),"") -> 54 | B59: Vajana 2 | C59: Moana 2 | D59: US, CA | E59: 463.07 | F59: 84 | G59: 4 | H59: 45625 | I59: Theatrical Film Distribution / WDSMPI
...

Sheet Gegužė
A1: ='2025'!A1 -> 2025
A2: ='2025'!A2 -> Lietuvos kino teatruose rodytų filmų TOP
A3: Gegužė
A5: Eil. Nr. | B5: Filmo pavadinimas | C5: Filmo pavadinimas originalo kalba | D5: Kilmės šalis | E5: Pajamos | F5: Žiūrovų skaičius | G5: Kopijų skaičius | H5: Premjeros data | I5: Platintojas
A6: =IF(B6<>"",ROWS($B$6:B6),"") -> 1 | B6: Lilo ir Stičas | C6: Lilo & Stitch | D6: US | E6: 226801.64 | F6: 39927 | G6: 31 | H6: 45800 | I6: Theatrical Film Distribution / WDSMPI
A7: =IF(B7<>"",ROWS($B$6:B7),"") -> 2 | B7: Minecraft filmas | C7: A Minecraft Movie | D7: US | E7: 176782.09 | F7: 30052 | G7: 17 | H7: 45751 | I7: ACME Film / WB
A8: =IF(B8<>"",ROWS($B$6:B8),"") -> 3 | B8: Thunderbolts* | C8: Thunderbolts* | D8: US | E8: 139899.7 | F8: 18404 | G8: 20 | H8: 45779 | I8: Theatrical Film Distribution / WDSMPI
A9: =IF(B9<>"",ROWS($B$6:B9),"") -> 4 | B9: Neįmanoma misija. Galutinis atpildas | C9: Mission: Impossible - The Final Reckoning | D9: US | E9: 127531.99 | F9: 17354 | G9: 23 | H9: 45800 | I9: Dukine Film Distribution / Paramount Pictures
A10: =IF(B10<>"",ROWS($B$6:B10),"") -> 5 | B10: Galutinis tikslas. Kraujo linija | C10: Final Destination. Bloodlines | D10: US | E10: 100356.58 | F10: 13829 | G10: 16 | H10: 45793 | I10: ACME Film / WB
A11: =IF(B11<>"",ROWS($B$6:B11),"") -> 6 | B11: Potvynis | C11: Flow | D11: LV, BE, FR | E11: 61226.08 | F11: 10560 | G11: 18 | H11: 45744 | I11: Europos kinas
A12: =IF(B12<>"",ROWS($B$6:B12),"") -> 7 | B12: Pietinia Kronikas | C12: Pietinia Kronikas | D12: LT | E12: 49244.47 | F12: 7207 | G12: 18 | H12: 45681 | I12: ACME Film
A13: =IF(B13<>"",ROWS($B$6:B13),"") -> 8 | B13: Iki aušros | C13: Until Dawn | D13: US | E13: 43047.54 | F13: 6176 | G13: 13 | H13: 45772 | I13: ACME Film / SONY
A14: =IF(B14<>"",ROWS($B$6:B14),"") -> 9 | B14: Nusidėjėliai | C14: Sinners | D14: US | E14: 36920.79 | F14: 5338 | G14: 10 | H14: 45765 | I14: ACME Film / WB
A15: =IF(B15<>"",ROWS($B$6:B15),"") -> 10 | B15: Beprotiškos melodijos. Pliuškis ir Porkis gelbėja pasaulį | C15: The Day The Earth Blew Up: A Looney Tunes Movie | D15: US | E15: 35581 | F15: 6811 | G15: 1 | H15: 45779 | I15: Garsų pasaulio įrašai
A16: =IF(B16<>"",ROWS($B$6:B16),"") -> 11 | B16: Klounas kukurūzų lauke | C16: Clown in a Cornfield | D16: US | E16: 35342.74 | F16: 5178 | G16: 14 | H16: 45786 | I16: ACME Film
A17: =IF(B17<>"",ROWS($B$6:B17),"") -> 12 | B17: Konklava | C17: Conclave | D17: UK, US | E17: 30925.57 | F17: 4428 | G17: 12 | H17: 45688 | I17: ACME Film
... A33: =IF(B33<>"",ROWS($B$6:B33),"") -> 28 | B33: Velnio ritualas | C33: The Ritual | D33: US | E33: 6112.66 | F33: 822 | G33: 15 | H33: 45807 | I33: Adastra Cinema
A34: =IF(B34<>"",ROWS($B$6:B34),"") -> 29 | B34: Motelis Destino | C34: Motel Destino | D34: BR | E34: 5299.5 | F34: 874 | G34: – | H34: 45793 | I34: A-One Films
A35: =IF(B35<>"",ROWS($B$6:B35),"") -> 30 | B35: Narsioji Kajara | C35: Kayara | D35: PE, ES | E35: 4596.26 | F35: 1025 | G35: 17 | H35: 45807 | I35: Adastra Cinema
A36: =IF(B36<>"",ROWS($B$6:B36),"") -> 31 | B36: Džiunė ir Džonas | C36: June and John | D36: FR | E36: 4150.97 | F36: 672 | G36: 14 | H36: 45779 | I36: Adastra Cinema
A37: =IF(B37<>"",ROWS($B$6:B37),"") -> 32 | B37: Legenda apie Očį | C37: The Legend of Ochi | D37: US | E37: 3992.19 | F37: 676 | G37: 18 | H37: 45772 | I37: Adastra Cinema
A38: =IF(B38<>"",ROWS($B$6:B38),"") -> 33 | B38: Vienaragio mirtis | C38: Death of a Unicorn | D38: US, HU | E38: 3179.05 | F38: 478 | G38: 14 | H38: 45786 | I38: Adastra Cinema
A39: =IF(B39<>"",ROWS($B$6:B39),"") -> 34 | B39: Sing Singo kalėjimas | C39: Sing Sing | D39: US | E39: 2243.98 | F39: 272 | G39: 2 | H39: 45744 | I39: ACME Film
A40: =IF(B40<>"",ROWS($B$6:B40),"") -> 35 | B40: Plastikiniai pistoletai | C40: Les pistolets en plastique | D40: FR | E40: 2159 | F40: 470 | G40: – | H40: 45765 | I40: A-One Films
A41: =IF(B41<>"",ROWS($B$6:B41),"") -> 36 | B41: Brutalistas | C41: The Brutalist | D41: US | E41: 1903.44 | F41: 363 | G41: 5 | H41: 45751 | I41: Dukine Film Distribution / Universal Pictures
A42: =IF(B42<>"",ROWS($B$6:B42),"") -> 37 | B42: Meilė pagal Kafką | C42: Die Herrlichkeit des Lebens | D42: AT, DE | E42: 1758 | F42: 368 | G42: 2 | H42: 45688 | I42: Estinfilm
A43: =IF(B43<>"",ROWS($B$6:B43),"") -> 38 | B43: Sacrum ir profanum Pievėnuose | C43: Sacrum ir profanum Pievėnuose | D43: LT, LV | E43: 1750.8 | F43: 299 | G43: 5 | H43: 45758 | I43: Monoklis
A44: =IF(B44<>"",ROWS($B$6:B44),"") -> 39 | B44: Baltoji paukštė | C44: White Bird a Wonder Story | D44: US | E44: 1524.12 | F44: 390 | G44: 3 | H44: 45359 | I44: ACME Film
A45: =IF(B45<>"",ROWS($B$6:B45),"") -> 40 | B45: Larsas yra LOL | C45: Lars er LOL | D45: NO | E45: 1514 | F45: 333 | G45: 1 | H45: 45592 | I45: Skalvijos kino centras
A46: =IF(B46<>"",ROWS($B$6:B46),"") -> 41 | B46: Povas | C46: Phau | D46: AT, DE | E46: 1398.35 | F46: 173 | G46: 3 | H46: 45740 | I46: Europos kinas
A47: =IF(B47<>"",ROWS($B$6:B47),"") -> 42 | B47: Barbora. Laikas nuotykiams | C47: Basia. Radzę sobie! | D47: LT, PL | E47: 1371 | F47: 311 | G47: 2 | H47: 45712 | I47: Art shot
A48: =IF(B48<>"",ROWS($B$6:B48),"") -> 43 | B48: Atmintis | C48: Memory | D48: US | E48: 1350 | F48: 450 | G48: – | H48: 45597 | I48: A-One Films
A49: =IF(B49<>"",ROWS($B$6:B49),"") -> 44 | B49: Niki | C49: Niki | D49: FR | E49: 1308.99 | F49: 342 | G49: 4 | H49: 45751 | I49: Best Film
A50: =IF(B50<>"",ROWS($B$6:B50),"") -> 45 | B50: Verti meilės | C50: Elskling | D50: NO | E50: 1179.2 | F50: 206 | G50: 2 | H50: 45709 | I50: Estinfilm
A51: =IF(B51<>"",ROWS($B$6:B51),"") -> 46 | B51: Trys draugės | C51: Trois Amies | D51: FR | E51: 1142.21 | F51: 155 | G51: 3 | H51: 45740 | I51: Europos kinas
A52: =IF(B52<>"",ROWS($B$6:B52),"") -> 47 | B52: Užburtas miškas | C52: Angelo dans la forêt mystérieuse | D52: FR | E52: 1130.7 | F52: 222 | G52: 4 | H52: 45709 | I52: Adastra Cinema
A53: =IF(B53<>"",ROWS($B$6:B53),"") -> 48 | B53: Drugelio Širdis | C53: Drugelio Širdis | D53: LT | E53: 1051.92 | F53: 252 | G53: 4 | H53: 44659 | I53: ACME Film
A54: =IF(B54<>"",ROWS($B$6:B54),"") -> 49 | B54: Mano ypatingas sūnus | C54: Unbreakable boy | D54: US | E54: 937.64 | F54: 235 | G54: 7 | H54: 45758 | I54: ACME Film
A55: =IF(B55<>"",ROWS($B$6:B55),"") -> 50 | B55: Drop | C55: Drop | D55: US | E55: 849.96 | F55: 122 | G55: 5 | H55: 45765 | I55: Dukine Film Distribution / Universal Pictures
A56: =IF(B56<>"",ROWS($B$6:B56),"") -> 51 | B56: Visa, kas tu esi | C56: Alle die Du bist | D56: DE | E56: 781 | F56: 174 | G56: – | H56: 45772 | I56: A-One Films
...

Sheet Birželis
A1: ='2025'!A1 -> 2025
A2: ='2025'!A2 -> Lietuvos kino teatruose rodytų filmų TOP
A3: Birželis
A5: Eil. Nr. | B5: Filmo pavadinimas | C5: Filmo pavadinimas originalo kalba | D5: Kilmės šalis | E5: Pajamos | F5: Žiūrovų skaičius | G5: Kopijų skaičius | H5: Premjeros data | I5: Platintojas
A6: =IF(B6<>"",ROWS($B$6:B6),"") -> 1 | B6: Lilo ir Stičas | C6: Lilo & Stitch | D6: US | E6: 332952.43 | F6: 60954 | G6: 28 | H6: 45800 | I6: Theatrical Film Distribution / WDSMPI
A7: =IF(B7<>"",ROWS($B$6:B7),"") -> 2 | B7: Kaip prisijaukinti slibiną | C7: How To Train Your Dragon | D7: US | E7: 303765.55 | F7: 51450 | G7: 35 | H7: 45821 | I7: Dukine Film Distribution / Universal Pictures
A8: =IF(B8<>"",ROWS($B$6:B8),"") -> 3 | B8: F1 | C8: F1 | D8: US | E8: 174863.02 | F8: 22461 | G8: 18 | H8: 45835 | I8: ACME Film / WB
A9: =IF(B9<>"",ROWS($B$6:B9),"") -> 4 | B9: 28 metai po | C9: 28 Years Later | D9: UK | E9: 137047.29 | F9: 18924 | G9: 16 | H9: 45828 | I9: ACME Film / SONY
A10: =IF(B10<>"",ROWS($B$6:B10),"") -> 5 | B10: Balerina | C10: Ballerina | D10: US | E10: 114732.77 | F10: 15394 | G10: 15 | H10: 45814 | I10: ACME Film
A11: =IF(B11<>"",ROWS($B$6:B11),"") -> 6 | B11: Neįmanoma misija. Galutinis atpildas | C11: Mission: Impossible - The Final Reckoning | D11: US | E11: 101010.09 | F11: 14856 | G11: 20 | H11: 45800 | I11: Dukine Film Distribution / Paramount Pictures
A12: =IF(B12<>"",ROWS($B$6:B12),"") -> 7 | B12: Elio | C12: Elio | D12: US | E12: 41103.86 | F12: 7613 | G12: 24 | H12: 45835 | I12: Theatrical Film Distribution / WDSMPI
A13: =IF(B13<>"",ROWS($B$6:B13),"") -> 8 | B13: Finikiečių schema | C13: The Phoenician Scheme | D13: US | E13: 36269.65 | F13: 5773 | G13: 19 | H13: 45807 | I13: Dukine Film Distribution / Universal Pictures
A14: =IF(B14<>"",ROWS($B$6:B14),"") -> 9 | B14: Katytė Moksi | C14: Miss Moxy | D14: BE, NL | E14: 34490.74 | F14: 7030 | G14: 17 | H14: 45814 | I14: ACME Film
A15: =IF(B15<>"",ROWS($B$6:B15),"") -> 10 | B15: Velnio ritualas | C15: The Ritual | D15: US | E15: 33328.99 | F15: 4951 | G15: 15 | H15: 45807 | I15: Adastra Cinema
A16: =IF(B16<>"",ROWS($B$6:B16),"") -> 11 | B16: Karatė vaikis: Legendos | C16: Karate Kid: Legends | D16: US | E16: 25758.22 | F16: 4272 | G16: 17 | H16: 45807 | I16: ACME Film / SONY
A17: =IF(B17<>"",ROWS($B$6:B17),"") -> 12 | B17: Narsioji Kajara | C17: Kayara | D17: PE, ES | E17: 24693.43 | F17: 5210 | G17: 18 | H17: 45807 | I17: Adastra Cinema
... A39: =IF(B39<>"",ROWS($B$6:B39),"") -> 34 | B39: Nusidėjėliai | C39: Sinners | D39: US | E39: 1534.4 | F39: 226 | G39: 2 | H39: 45765 | I39: ACME Film / WB
A40: =IF(B40<>"",ROWS($B$6:B40),"") -> 35 | B40: Šešėlių pėdsakais | C40: Ghost Trail | D40: FR | E40: 1480 | F40: 370 | G40: – | H40: 45632 | I40: A-One Films
A41: =IF(B41<>"",ROWS($B$6:B41),"") -> 36 | B41: Visa, kas tu esi | C41: Alle die Du bist | D41: DE | E41: 1420 | F41: 355 | G41: – | H41: 45772 | I41: A-One Films
A42: =IF(B42<>"",ROWS($B$6:B42),"") -> 37 | B42: Bembis. Istorija apie gyvenimą miške | C42: Bambi, a Tale of Life in the Woods | D42: FR | E42: 1408.37 | F42: 391 | G42: 3 | H42: 45786 | I42: Best Film
A43: =IF(B43<>"",ROWS($B$6:B43),"") -> 38 | B43: Paskutinė šou mergina | C43: The Last Showgirl | D43: US | E43: 1365.75 | F43: 191 | G43: 5 | H43: 45786 | I43: Estinfilm
A44: =IF(B44<>"",ROWS($B$6:B44),"") -> 39 | B44: Užburtas miškas | C44: Angelo dans la forêt mystérieuse | D44: FR | E44: 1318 | F44: 313 | G44: 1 | H44: 45709 | I44: Adastra Cinema
A45: =IF(B45<>"",ROWS($B$6:B45),"") -> 40 | B45: Super elfai | C45: Super Elfkins | D45: DE | E45: 1086.3 | F45: 508 | G45: 5 | H45: 45667 | I45: ACME Film
A46: =IF(B46<>"",ROWS($B$6:B46),"") -> 41 | B46: Konklava | C46: Conclave | D46: UK, US | E46: 1037 | F46: 153 | G46: 4 | H46: 45688 | I46: ACME Film
A47: =IF(B47<>"",ROWS($B$6:B47),"") -> 42 | B47: Stebuklingoji boružėlė ir juodasis katinas | C47: Ladybug & Cat Noir: The Awakening | D47: FR | E47: 996.84 | F47: 433 | G47: 4 | H47: 45184 | I47: ACME Film
A48: =IF(B48<>"",ROWS($B$6:B48),"") -> 43 | B48: Lošėjos širdis | C48: On Swift Horses | D48: US | E48: 924.15 | F48: 181 | G48: 4 | H48: 45786 | I48: ACME Film
A49: =IF(B49<>"",ROWS($B$6:B49),"") -> 44 | B49: Motelis Destino | C49: Motel Destino | D49: BR | E49: 905.2 | F49: 135 | G49: – | H49: 45793 | I49: A-One Films
A50: =IF(B50<>"",ROWS($B$6:B50),"") -> 45 | B50: Gauja | C50: Smecka | D50: CZ, SK, LV | E50: 750 | F50: 285 | G50: 1 | H50: 44302 | I50: Skalvijos kino centras
A51: =IF(B51<>"",ROWS($B$6:B51),"") -> 46 | B51: Sent Egziuperi | C51: Saint-Exupéry | D51: FR, BE | E51: 722 | F51: 136 | G51: 2 | H51: 45772 | I51: Garsų pasaulio įrašai
A52: =IF(B52<>"",ROWS($B$6:B52),"") -> 47 | B52: Madam Luna | C52: Madame Luna | D52: SE | E52: 586.5 | F52: 108 | G52: 8 | H52: 45828 | I52: Estinfilm
A53: =IF(B53<>"",ROWS($B$6:B53),"") -> 48 | B53: Meškiukas Padingtonas: Nuotykiai Peru | C53: Paddington in Peru | D53: UK, US, JP, FR | E53: 577 | F53: 164 | G53: 1 | H53: 45681 | I53: ACME Film / SONY
A54: =IF(B54<>"",ROWS($B$6:B54),"") -> 49 | B54: Suleimano istorija | C54: L´Histoire de Souleymane | D54: FR | E54: 510 | F54: 102 | G54: 1 | H54: 45740 | I54: Europos kinas
A55: =IF(B55<>"",ROWS($B$6:B55),"") -> 50 | B55: Ema ir juodasis jaguaras | C55: Le Dernier Jaguar | D55: FR, DE, CA | E55: 497.4 | F55: 126 | G55: 2 | H55: 45331 | I55: ACME Film
A56: =IF(B56<>"",ROWS($B$6:B56),"") -> 51 | B56: Gera mergaitė | C56: Babygirl | D56: US | E56: 479.4 | F56: 55 | G56: 2 | H56: 45667 | I56: Europos kinas
A57: =IF(B57<>"",ROWS($B$6:B57),"") -> 52 | B57: Iki aušros | C57: Until Dawn | D57: US | E57: 465.9 | F57: 59 | G57: 1 | H57: 45772 | I57: ACME Film / SONY
A58: =IF(B58<>"",ROWS($B$6:B58),"") -> 53 | B58: Fanfaros | C58: En Fanfare | D58: FR | E58: 464.2 | F58: 75 | G58: 3 | H58: 45740 | I58: Europos kinas
A59: =IF(B59<>"",ROWS($B$6:B59),"") -> 54 | B59: Viena gyvybė | C59: One Life | D59: UK | E59: 456.03 | F59: 112 | G59: 1 | H59: 45303 | I59: ACME Film
A60: =IF(B60<>"",ROWS($B$6:B60),"") -> 55 | B60: Larsas yra LOL | C60: Lars er LOL | D60: NO | E60: 440 | F60: 88 | G60: 1 | H60: 45592 | I60: Skalvijos kino centras
A61: =IF(B61<>"",ROWS($B$6:B61),"") -> 56 | B61: Sacrum ir profanum Pievėnuose | C61: Sacrum ir profanum Pievėnuose | D61: LT, LV | E61: 434.6 | F61: 71 | G61: 2 | H61: 45758 | I61: Monoklis
... A67: =IF(B67<>"",ROWS($B$6:B67),"") -> 62 | B67: Paslapčių traukinys | C67: A Mystery on the Cattle Hill Express | D67: NO | E67: 371 | F67: 145 | G67: 1 | H67: 45492 | I67: Garsų pasaulio įrašai
...

Sheet Liepa
A1: ='2025'!A1 -> 2025
A2: ='2025'!A2 -> Lietuvos kino teatruose rodytų filmų TOP
A3: Liepa
A5: Eil. Nr. | B5: Filmo pavadinimas | C5: Filmo pavadinimas originalo kalba | D5: Kilmės šalis | E5: Pajamos | F5: Žiūrovų skaičius | G5: Kopijų skaičius | H5: Premjeros data | I5: Platintojas
A6: =IF(B6<>"",ROWS($B$6:B6),"") -> 1 | B6: F1 | C6: F1 | D6: US | E6: 442926.21 | F6: 58453 | G6: 19 | H6: 45835 | I6: ACME Film / WB
A7: =IF(B7<>"",ROWS($B$6:B7),"") -> 2 | B7: Juros periodo pasaulis. Atgimimas | C7: Jurassic World Rebirth | D7: US | E7: 224869.26 | F7: 34139 | G7: 23 | H7: 45840 | I7: Dukine Film Distribution / Universal Pictures
A8: =IF(B8<>"",ROWS($B$6:B8),"") -> 3 | B8: Smurfų filmas | C8: Smurfs | D8: US | E8: 143684.16 | F8: 28011 | G8: 21 | H8: 45856 | I8: Dukine Film Distribution / Paramount Pictures
A9: =IF(B9<>"",ROWS($B$6:B9),"") -> 4 | B9: Elio | C9: Elio | D9: US | E9: 120905.12 | F9: 24054 | G9: 30 | H9: 45835 | I9: Theatrical Film Distribution / WDSMPI
A10: =IF(B10<>"",ROWS($B$6:B10),"") -> 5 | B10: Kaip prisijaukinti slibiną | C10: How To Train Your Dragon | D10: US | E10: 114901.04 | F10: 20311 | G10: 26 | H10: 45821 | I10: Dukine Film Distribution / Universal Pictures
A11: =IF(B11<>"",ROWS($B$6:B11),"") -> 6 | B11: Supermenas | C11: Superman: Legacy | D11: US | E11: 105165.42 | F11: 15578 | G11: 18 | H11: 45849 | I11: ACME Film / WB
A12: =IF(B12<>"",ROWS($B$6:B12),"") -> 7 | B12: Fantastiškas ketvertas. Pirmieji žingsniai | C12: The Fanstastic 4. First Steps | D12: US | E12: 89878.49 | F12: 13608 | G12: 17 | H12: 45863 | I12: Theatrical Film Distribution / WDSMPI
