Workbook

Sheet Suvestinė
B1: 2025
B2: Rodiklis | C2: Reikšmė
B3: Premjerų skaičius | C3: 254
B4: Lietuviškų filmų premjerų skaičius | C4: 22
B5: Bendras filmų skaičius | C5: 389
B6: Bendros pajamos | C6: 23672967
B7: Bendras žiūrovų skaičius | C7: 3571852
B9: Filmų dalis rinkoje, %
B10: Kategorija | C10: Pajamos | D10: Žiūrovų skaičius | E10: Pajamos % | F10: Žiūrovų skaičius % | G10: Filmų skaičius
B11: Lietuva | C11: 5199378.8 | D11: 714003 | E11: =(C11/C6)*100 -> 21.963359 | F11: =(D11/C7)*100 -> 19.989714 | G11: 39
B12: Europa | C12: 3478679.6 | D12: 600550 | E12: =(C12/C6)*100 -> 14.694734 | F12: =(D12/C7)*100 -> 16.813407 | G12: 157
B13: JAV | C13: 14321806 | D13: 2146225 | E13: =(C13/C6)*100 -> 60.498569 | F13: =(D13/C7)*100 -> 60.087176 | G13: 160
B14: Kita | C14: 673102.3 | D14: 111074 | E14: =(C14/C6)*100 -> 2.8433373 | F14: =(D14/C7)*100 -> 3.1097033 | G14: 33
B15: Total | C15: =SUBTOTAL(109,Table1[Pajamos]) -> 23672967 | D15: =SUBTOTAL(109,Table1[Žiūrovų skaičius]) -> 3571852 | E15: =SUBTOTAL(109,Table1[Pajamos %]) -> 100 | F15: =SUBTOTAL(109,Table1[Žiūrovų skaičius %]) -> 100 | G15: =SUBTOTAL(109,Table1[Filmų skaičius]) -> 389
B46: Pasiskirstymas pagal platintojus | J46: TOP 8
A47: Eil. nr | B47: Platintojas | C47: Pajamos | D47: Žiūrovų skaičius | E47: Filmų skaičius | F47: Pajamos % | G47: Žiūrovų skaičius % | J47: Platintojas | K47: Pajamos %
A48: =IF(B48<>"",ROWS($B$48:B48),"") -> 1 | B48: ACME Film | C48: 5685576.5 | D48: 819268 | E48: 76 | F48: =(Table18[[#This Row],[Pajamos]]/Table18[[#Totals],[Pajamos]])*100 -> 24.017169 | G48: =(Table18[[#This Row],[Žiūrovų skaičius]]/Table18[[#Totals],[Žiūrovų skaičius]])*100 -> 22.936785 | I48: 1 | J48: ACME Film | K48: =Table18[[#This Row],[Pajamos %]] -> 24.017169
A49: =IF(B49<>"",ROWS($B$48:B49),"") -> 2 | B49: Theatrical Film Distribution / WDSMPI | C49: 4103191.6 | D49: 613979 | E49: 21 | F49: =(Table18[[#This Row],[Pajamos]]/Table18[[#Totals],[Pajamos]])*100 -> 17.332815 | G49: =(Table18[[#This Row],[Žiūrovų skaičius]]/Table18[[#Totals],[Žiūrovų skaičius]])*100 -> 17.189374 | I49: 2 | J49: Theatrical Film Distribution / WDSMPI | K49: =Table18[[#This Row],[Pajamos %]] -> 17.332815
A50: =IF(B50<>"",ROWS($B$48:B50),"") -> 3 | B50: ACME Film / WB | C50: 3548249.1 | D50: 507634 | E50: 17 | F50: =(Table18[[#This Row],[Pajamos]]/Table18[[#Totals],[Pajamos]])*100 -> 14.988612 | G50: =(Table18[[#This Row],[Žiūrovų skaičius]]/Table18[[#Totals],[Žiūrovų skaičius]])*100 -> 14.212067 | I50: 3 | J50: ACME Film / WB | K50: =Table18[[#This Row],[Pajamos %]] -> 14.988612
A51: =IF(B51<>"",ROWS($B$48:B51),"") -> 4 | B51: Dukine Film Distribution / Universal Pictures | C51: 2601460.9 | D51: 408162 | E51: 25 | F51: =(Table18[[#This Row],[Pajamos]]/Table18[[#Totals],[Pajamos]])*100 -> 10.989163 | G51: =(Table18[[#This Row],[Žiūrovų skaičius]]/Table18[[#Totals],[Žiūrovų skaičius]])*100 -> 11.427181 | I51: 4 | J51: Dukine Film Distribution / Universal Pictures | K51: =Table18[[#This Row],[Pajamos %]] -> 10.989163
A52: =IF(B52<>"",ROWS($B$48:B52),"") -> 5 | B52: ACME Film / SONY | C52: 1376252.5 | D52: 208180 | E52: 17 | F52: =(Table18[[#This Row],[Pajamos]]/Table18[[#Totals],[Pajamos]])*100 -> 5.8136036 | G52: =(Table18[[#This Row],[Žiūrovų skaičius]]/Table18[[#Totals],[Žiūrovų skaičius]])*100 -> 5.828349 | I52: 5 | J52: ACME Film / SONY | K52: =Table18[[#This Row],[Pajamos %]] -> 5.8136036
A53: =IF(B53<>"",ROWS($B$48:B53),"") -> 6 | B53: Dukine Film Distribution / Paramount Pictures | C53: 1332917.2 | D53: 219952 | E53: 10 | F53: =(Table18[[#This Row],[Pajamos]]/Table18[[#Totals],[Pajamos]])*100 -> 5.6305457 | G53: =(Table18[[#This Row],[Žiūrovų skaičius]]/Table18[[#Totals],[Žiūrovų skaičius]])*100 -> 6.1579259 | I53: 6 | J53: Dukine Film Distribution / Paramount Pictures | K53: =Table18[[#This Row],[Pajamos %]] -> 5.6305457
A54: =IF(B54<>"",ROWS($B$48:B54),"") -> 7 | B54: Europos kinas | C54: 1208038.1 | D54: 182974 | E54: 50 | F54: =(Table18[[#This Row],[Pajamos]]/Table18[[#Totals],[Pajamos]])*100 -> 5.1030279 | G54: =(Table18[[#This Row],[Žiūrovų skaičius]]/Table18[[#Totals],[Žiūrovų skaičius]])*100 -> 5.1226647 | I54: 7 | J54: Europos kinas | K54: =Table18[[#This Row],[Pajamos %]] -> 5.1030279
A55: =IF(B55<>"",ROWS($B$48:B55),"") -> 8 | B55: Garsų pasaulio įrašai | C55: 720263 | D55: 123142 | E55: 25 | F55: =(Table18[[#This Row],[Pajamos]]/Table18[[#Totals],[Pajamos]])*100 -> 3.0425548 | G55: =(Table18[[#This Row],[Žiūrovų skaičius]]/Table18[[#Totals],[Žiūrovų skaičius]])*100 -> 3.4475673 | I55: 8 | J55: Garsų pasaulio įrašai | K55: =Table18[[#This Row],[Pajamos %]] -> 3.0425548
A56: =IF(B56<>"",ROWS($B$48:B56),"") -> 9 | B56: Vabalo filmai | C56: 659542 | D56: 88154 | E56: 1 | F56: =(Table18[[#This Row],[Pajamos]]/Table18[[#Totals],[Pajamos]])*100 -> 2.7860555 | G56: =(Table18[[#This Row],[Žiūrovų skaičius]]/Table18[[#Totals],[Žiūrovų skaičius]])*100 -> 2.4680194
A57: =IF(B57<>"",ROWS($B$48:B57),"") -> 10 | B57: Adastra Cinema | C57: 639308.03 | D57: 115329 | E57: 29 | F57: =(Table18[[#This Row],[Pajamos]]/Table18[[#Totals],[Pajamos]])*100 -> 2.7005826 | G57: =(Table18[[#This Row],[Žiūrovų skaičius]]/Table18[[#Totals],[Žiūrovų skaičius]])*100 -> 3.2288292
A58: =IF(B58<>"",ROWS($B$48:B58),"") -> 11 | B58: MB Aistis Mickevičius | C58: 466897.11 | D58: 65527 | E58: 1 | F58: =(Table18[[#This Row],[Pajamos]]/Table18[[#Totals],[Pajamos]])*100 -> 1.9722797 | G58: =(Table18[[#This Row],[Žiūrovų skaičius]]/Table18[[#Totals],[Žiūrovų skaičius]])*100 -> 1.8345385
A59: =IF(B59<>"",ROWS($B$48:B59),"") -> 12 | B59: Dublis LT | C59: 245865.19 | D59: 37436 | E59: 1 | F59: =(Table18[[#This Row],[Pajamos]]/Table18[[#Totals],[Pajamos]])*100 -> 1.0385905 | G59: =(Table18[[#This Row],[Žiūrovų skaičius]]/Table18[[#Totals],[Žiūrovų skaičius]])*100 -> 1.0480837
A60: =IF(B60<>"",ROWS($B$48:B60),"") -> 13 | B60: A-One Films | C60: 244142.73 | D60: 39446 | E60: 22 | F60: =(Table18[[#This Row],[Pajamos]]/Table18[[#Totals],[Pajamos]])*100 -> 1.0313145 | G60: =(Table18[[#This Row],[Žiūrovų skaičius]]/Table18[[#Totals],[Žiūrovų skaičius]])*100 -> 1.1043571
A61: =IF(B61<>"",ROWS($B$48:B61),"") -> 14 | B61: Theatrical Film Distribution | C61: 208843.91 | D61: 31937 | E61: 14 | F61: =(Table18[[#This Row],[Pajamos]]/Table18[[#Totals],[Pajamos]])*100 -> 0.88220421 | G61: =(Table18[[#This Row],[Žiūrovų skaičius]]/Table18[[#Totals],[Žiūrovų skaičius]])*100 -> 0.89412999
A62: =IF(B62<>"",ROWS($B$48:B62),"") -> 15 | B62: Cinema Ads | C62: 121411.84 | D62: 18786 | E62: 3 | F62: =(Table18[[#This Row],[Pajamos]]/Table18[[#Totals],[Pajamos]])*100 -> 0.51287126 | G62: =(Table18[[#This Row],[Žiūrovų skaičius]]/Table18[[#Totals],[Žiūrovų skaičius]])*100 -> 0.52594564
A63: =IF(B63<>"",ROWS($B$48:B63),"") -> 16 | B63: Estinfilm | C63: 116914.52 | D63: 20519 | E63: 24 | F63: =(Table18[[#This Row],[Pajamos]]/Table18[[#Totals],[Pajamos]])*100 -> 0.49387354 | G63: =(Table18[[#This Row],[Žiūrovų skaičius]]/Table18[[#Totals],[Žiūrovų skaičius]])*100 -> 0.57446389
A64: =IF(B64<>"",ROWS($B$48:B64),"") -> 17 | B64: Best Film | C64: 85298.26 | D64: 16338 | E64: 14 | F64: =(Table18[[#This Row],[Pajamos]]/Table18[[#Totals],[Pajamos]])*100 -> 0.36031926 | G64: =(Table18[[#This Row],[Žiūrovų skaičius]]/Table18[[#Totals],[Žiūrovų skaičius]])*100 -> 0.45740977
A65: =IF(B65<>"",ROWS($B$48:B65),"") -> 18 | B65: Naratyvas | C65: 74642.4 | D65: 11718 | E65: 3 | F65: =(Table18[[#This Row],[Pajamos]]/Table18[[#Totals],[Pajamos]])*100 -> 0.31530649 | G65: =(Table18[[#This Row],[Žiūrovų skaičius]]/Table18[[#Totals],[Žiūrovų skaičius]])*100 -> 0.3280651
A66: =IF(B66<>"",ROWS($B$48:B66),"") -> 19 | B66: Urbs TV | C66: 40648 | D66: 6212 | E66: 1 | F66: =(Table18[[#This Row],[Pajamos]]/Table18[[#Totals],[Pajamos]])*100 -> 0.1717064 | G66: =(Table18[[#This Row],[Žiūrovų skaičius]]/Table18[[#Totals],[Žiūrovų skaičius]])*100 -> 0.17391538
A67: =IF(B67<>"",ROWS($B$48:B67),"") -> 20 | B67: Baltic Productions | C67: 39012 | D67: 6277 | E67: 1 | F67: =(Table18[[#This Row],[Pajamos]]/Table18[[#Totals],[Pajamos]])*100 -> 0.16479557 | G67: =(Table18[[#This Row],[Žiūrovų skaičius]]/Table18[[#Totals],[Žiūrovų skaičius]])*100 -> 0.17573516
... A80: =IF(B80<>"",ROWS($B$48:B80),"") -> 33 | B80: Artbox | C80: 363.5 | D80: 82 | E80: 2 | F80: =(Table18[[#This Row],[Pajamos]]/Table18[[#Totals],[Pajamos]])*100 -> 0.0015355067 | G80: =(Table18[[#This Row],[Žiūrovų skaičius]]/Table18[[#Totals],[Žiūrovų skaičius]])*100 -> 0.0022957278
A81: Total | C81: =SUBTOTAL(109,Table18[Pajamos]) -> 23672967 | D81: =SUBTOTAL(109,Table18[Žiūrovų skaičius]) -> 3571852 | E81: =SUBTOTAL(109,Table18[Filmų skaičius]) -> 389 | F81: =SUBTOTAL(109,Table18[Pajamos %]) -> 100 | G81: =SUBTOTAL(109,Table18[Žiūrovų skaičius %]) -> 100
A84: LT TOP
A85: Eil. Nr. | B85: Filmo pavadinimas | C85: Pajamos | D85: Žiūrovų skaičius | E85: Premjeros data | F85: Platintojas
A86: 1 | B86: Pietinia Kronikas | C86: 3144187.4 | D86: 412521 | E86: 45681 | F86: ACME Film
A87: 2 | B87: Reemigrantai 2 | C87: 659542 | D87: 88154 | E87: 45646 | F87: Vabalo filmai
A88: 3 | B88: Legendinės legendos. FELICITÀ | C88: 466897.11 | D88: 65527 | E88: 45702 | F88: MB Aistis Mickevičius
A89: 4 | B89: Laimingos žvaigždės | C89: 245865.19 | D89: 37436 | E89: 45961 | F89: Dublis LT
A90: 5 | B90: Akiplėša | C90: 208608.41 | D90: 31958 | E90: 45740 | F90: Europos kinas
A91: 6 | B91: Aktyvistas | C91: 74571.9 | D91: 11701 | E91: 45919 | F91: Naratyvas
A92: 7 | B92: Irena | C92: 66827.34 | D92: 10980 | E92: 45954 | F92: Europos kinas
A93: 8 | B93: Smėlis tavo plaukuose | C93: 61881.48 | D93: 9769 | E93: 46010 | F93: Cinema Ads
A94: 9 | B94: BIX – beveik Nirvana | C94: 48410.41 | D94: 7085 | E94: 45975 | F94: Cinema Ads
A95: 10 | B95: Paslapties kaina | C95: 40648 | D95: 6212 | E95: 45989 | F95: Urbs TV

Sheet 2025
A1: 2025
A2: Lietuvos kino teatruose rodytų filmų TOP
A5: Eil. Nr. | B5: Filmo pavadinimas | C5: Filmo pavadinimas originalo kalba | D5: Kilmės šalis | E5: Pajamos | F5: Žiūrovų skaičius | G5: Kopijų skaičius | H5: Premjeros data | I5: Platintojas
A6: =IF(B6<>"",ROWS($B$6:B6),"") -> 1 | B6: Pietinia Kronikas | C6: Pietinia Kronikas | D6: LT | E6: 3144187.4 | F6: 412521 | G6: 23 | H6: 45681 | I6: ACME Film
A7: =IF(B7<>"",ROWS($B$6:B7),"") -> 2 | B7: Minecraft filmas | C7: A Minecraft Movie | D7: US | E7: 1242208.7 | F7: 197265 | G7: 19 | H7: 45751 | I7: ACME Film / WB
A8: =IF(B8<>"",ROWS($B$6:B8),"") -> 3 | B8: Įsikūnijimas. Ugnis ir pelenai | C8: Avatar: Fire and Ash | D8: US | E8: 1089984.7 | F8: 122355 | G8: 33 | H8: 46010 | I8: Theatrical Film Distribution / WDSMPI
A9: =IF(B9<>"",ROWS($B$6:B9),"") -> 4 | B9: Zootropolis 2 | C9: Zootopia 2 | D9: US | E9: 923000.44 | F9: 147335 | G9: 40 | H9: 45989 | I9: Theatrical Film Distribution / WDSMPI
A10: =IF(B10<>"",ROWS($B$6:B10),"") -> 5 | B10: F1 | C10: F1 | D10: US | E10: 822898.81 | F10: 110128 | G10: 19 | H10: 45835 | I10: ACME Film / WB
A11: =IF(B11<>"",ROWS($B$6:B11),"") -> 6 | B11: Lilo ir Stičas | C11: Lilo & Stitch | D11: US | E11: 667776.51 | F11: 121226 | G11: 31 | H11: 45800 | I11: Theatrical Film Distribution / WDSMPI
A12: =IF(B12<>"",ROWS($B$6:B12),"") -> 7 | B12: Reemigrantai 2 | C12: Reemigrantai 2 | D12: LT | E12: 659542 | F12: 88154 | G12: – | H12: 45646 | I12: Vabalo filmai
A13: =IF(B13<>"",ROWS($B$6:B13),"") -> 8 | B13: Ežiukas Sonic 3 | C13: Sonic the Hedgehog 3 | D13: US, JP | E13: 499194.9 | F13: 85363 | G13: 24 | H13: 45653 | I13: Dukine Film Distribution / Paramount Pictures
A14: =IF(B14<>"",ROWS($B$6:B14),"") -> 9 | B14: Legendinės legendos. FELICITÀ | C14: Legendinės legendos. FELICITÀ | D14: LT | E14: 466897.11 | F14: 65527 | G14: 14 | H14: 45702 | I14: MB Aistis Mickevičius
A15: =IF(B15<>"",ROWS($B$6:B15),"") -> 10 | B15: Blogiukai 2 | C15: The Bad Guys | D15: US | E15: 442709.31 | F15: 80213 | G15: 31 | H15: 45870 | I15: Dukine Film Distribution / Universal Pictures
A16: =IF(B16<>"",ROWS($B$6:B16),"") -> 11 | B16: Išvarymas 4: Paskutinės apeigos | C16: The Conjuring 4: Last Rites | D16: US | E16: 437318.96 | F16: 54446 | G16: 16 | H16: 45905 | I16: ACME Film / WB
A17: =IF(B17<>"",ROWS($B$6:B17),"") -> 12 | B17: Kaip prisijaukinti slibiną | C17: How To Train Your Dragon | D17: US | E17: 432390.64 | F17: 74395 | G17: 35 | H17: 45821 | I17: Dukine Film Distribution / Universal Pictures
A18: =IF(B18<>"",ROWS($B$6:B18),"") -> 13 | B18: Gera mergaitė | C18: Babygirl | D18: US | E18: 431243.26 | F18: 56300 | G18: 24 | H18: 45667 | I18: Europos kinas
A19: =IF(B19<>"",ROWS($B$6:B19),"") -> 14 | B19: Meškiukas Padingtonas: Nuotykiai Peru | C19: Paddington in Peru | D19: UK, US, JP, FR | E19: 396563.21 | F19: 69619 | G19: 19 | H19: 45681 | I19: ACME Film / SONY
A20: =IF(B20<>"",ROWS($B$6:B20),"") -> 15 | B20: Potvynis | C20: Flow | D20: LV, BE, FR | E20: 375513.3 | F20: 63289 | G20: 29 | H20: 45744 | I20: Europos kinas
A21: =IF(B21<>"",ROWS($B$6:B21),"") -> 16 | B21: Spermagedonas | C21: Spermaggedon | D21: NO | E21: 318853.48 | F21: 41188 | G21: 17 | H21: 45975 | I21: ACME Film
A22: =IF(B22<>"",ROWS($B$6:B22),"") -> 17 | B22: Penkios naktys pas Fredį 2 | C22: Five Nights at Freddy's 2 | D22: US | E22: 315296.99 | F22: 42648 | G22: 19 | H22: 45996 | I22: Dukine Film Distribution / Universal Pictures
A23: =IF(B23<>"",ROWS($B$6:B23),"") -> 18 | B23: Mūšis po mūšio | C23: One Battle After Another | D23: US | E23: 311400.88 | F23: 40304 | G23: 20 | H23: 45926 | I23: ACME Film / WB
A24: =IF(B24<>"",ROWS($B$6:B24),"") -> 19 | B24: Materialistai | C24: Materialists | D24: US | E24: 259456.56 | F24: 34703 | G24: 20 | H24: 45891 | I24: ACME Film / SONY
... A77: =IF(B77<>"",ROWS($B$6:B77),"") -> 72 | B77: Chainsaw man filmas: Reze arka | C77: Chainsaw Man – The Movie: Reze Arc | D77: JP | E77: 63305.21 | F77: 8735 | G77: 13 | H77: 45961 | I77: ACME Film / SONY
A78: =IF(B78<>"",ROWS($B$6:B78),"") -> 73 | B78: Smėlis tavo plaukuose | C78: Smėlis tavo plaukuose | D78: LT | E78: 61881.48 | F78: 9769 | G78: – | H78: 46010 | I78: Cinema Ads
A79: =IF(B79<>"",ROWS($B$6:B79),"") -> 74 | B79: Panda vardu Mėnulis | C79: Moon the Panda | D79: FR | E79: 61626.89 | F79: 12751 | G79: 19 | H79: 45765 | I79: ACME Film
A80: =IF(B80<>"",ROWS($B$6:B80),"") -> 75 | B80: Diletantas | C80: The Amateur | D80: US | E80: 61088.96 | F80: 9135 | G80: 15 | H80: 45758 | I80: Theatrical Film Distribution / WDSMPI
A81: =IF(B81<>"",ROWS($B$6:B81),"") -> 76 | B81: Agentas Hitpigas | C81: Hitpig | D81: UK | E81: 59957.02 | F81: 11741 | G81: 17 | H81: 45688 | I81: Adastra Cinema
A82: =IF(B82<>"",ROWS($B$6:B82),"") -> 77 | B82: Žinau, ką padarei aną vasarą | C82: I Know What You Did Last Summer | D82: US | E82: 58379.43 | F82: 8930 | G82: 16 | H82: 45856 | I82: ACME Film / SONY
A83: =IF(B83<>"",ROWS($B$6:B83),"") -> 78 | B83: Dieviškas bardakas | C83: Good Fortune | D83: US | E83: 55377.56 | F83: 8508 | G83: 17 | H83: 45954 | I83: ACME Film
A84: =IF(B84<>"",ROWS($B$6:B84),"") -> 79 | B84: Emilija Perez | C84: Emilia Pérez | D84: FR | E84: 54366.2 | F84: 8877 | G84: 16 | H84: 45674 | I84: A-One Films
A85: =IF(B85<>"",ROWS($B$6:B85),"") -> 80 | B85: Vagišius | C85: Roofman | D85: US | E85: 52047.52 | F85: 8052 | G85: 17 | H85: 45940 | I85: ACME Film
A86: =IF(B86<>"",ROWS($B$6:B86),"") -> 81 | B86: Anakonda | C86: Anaconda | D86: US | E86: 51162.39 | F86: 6798 | G86: 12 | H86: 46017 | I86: ACME Film / SONY
A87: =IF(B87<>"",ROWS($B$6:B87),"") -> 82 | B87: Atvira santuoka | C87: Splitsville | D87: US | E87: 50940 | F87: 7627 | G87: 19 | H87: 45912 | I87: Garsų pasaulio įrašai
A88: =IF(B88<>"",ROWS($B$6:B88),"") -> 83 | B88: Finikiečių schema | C88: The Phoenician Scheme | D88: US | E88: 49773.49 | F88: 7783 | G88: 19 | H88: 45807 | I88: Dukine Film Distribution / Universal Pictures
A89: =IF(B89<>"",ROWS($B$6:B89),"") -> 84 | B89: Miškų bastūnai | C89: Woodwalkers | D89: DE | E89: 49043 | F89: 8907 | G89: 15 | H89: 45723 | I89: Garsų pasaulio įrašai
A90: =IF(B90<>"",ROWS($B$6:B90),"") -> 85 | B90: BIX – beveik Nirvana | C90: BIX – beveik Nirvana | D90: LT | E90: 48410.41 | F90: 7085 | G90: 18 | H90: 45975 | I90: Cinema Ads
... A184: =IF(B184<>"",ROWS($B$6:B184),"") -> 179 | B184: Bernardo užduotis Marse | C184: Bernard: Mission Mars | D184: CH | E184: 9150.84 | F184: 1890 | G184: 14 | H184: 45877 | I184: Unlimited Media OÜ
A185: =IF(B185<>"",ROWS($B$6:B185),"") -> 180 | B185: Tėvas Motina Sesuo Brolis | C185: Father Mother Sister Brother | D185: US | E185: 9063 | F185: 1288 | G185: – | H185: 0 | I185: A-One Films
A186: =IF(B186<>"",ROWS($B$6:B186),"") -> 181 | B186: Springsteen. Išvaduok mane iš nežinios | C186: Springsteen: Deliver Me from Nowhere | D186: US | E186: 8502.29 | F186: 1300 | G186: 17 | H186: 45954 | I186: Theatrical Film Distribution / WDSMPI
A187: =IF(B187<>"",ROWS($B$6:B187),"") -> 182 | B187: Seksas | C187: Sex | D187: NO | E187: 8113.39 | F187: 1871 | G187: 8 | H187: 45856 | I187: Best Film
A188: =IF(B188<>"",ROWS($B$6:B188),"") -> 183 | B188: Gardutė | C188: Gardutė | D188: LT | E188: 7934.09 | F188: 1351 | G188: 6 | H188: 45625 | I188: ACME Film
A189: =IF(B189<>"",ROWS($B$6:B189),"") -> 184 | B189: Aistrų virtuvė | C189: La Cocina | D189: US, MX | E189: 7891.64 | F189: 1178 | G189: 18 | H189: 45660 | I189: ACME Film
A190: =IF(B190<>"",ROWS($B$6:B190),"") -> 185 | B190: Svajonės | C190: Drømmer | D190: NO | E190: 7724.67 | F190: 1029 | G190: 7 | H190: 46017 | I190: Best Film
A191: =IF(B191<>"",ROWS($B$6:B191),"") -> 186 | B191: Motelis Destino | C191: Motel Destino | D191: BR | E191: 7674.7 | F191: 1429 | G191: – | H191: 45793 | I191: A-One Films
A192: =IF(B192<>"",ROWS($B$6:B192),"") -> 187 | B192: Jei galėčiau, tau įspirčiau | C192: If I Had Legs I’d Kick You | D192: US | E192: 7575 | F192: 1214 | G192: 16 | H192: 45968 | I192: Adastra Cinema
A193: =IF(B193<>"",ROWS($B$6:B193),"") -> 188 | B193: Nepageidaujama viešnia | C193: Anniversary | D193: US | E193: 7369.6 | F193: 1129 | G193: 12 | H193: 45968 | I193: ACME Film
A194: =IF(B194<>"",ROWS($B$6:B194),"") -> 189 | B194: Banglentininkas | C194: The Surfer | D194: AU, US, IE, UK | E194: 7235.5 | F194: 1104 | G194: 15 | H194: 45786 | I194: Theatrical Film Distribution
A195: =IF(B195<>"",ROWS($B$6:B195),"") -> 190 | B195: Laimės išmintis | C195: Wisdom of Happiness | D195: CH | E195: 7112.9 | F195: 1079 | G195: 8 | H195: 45842 | I195: Best Film
A196: =IF(B196<>"",ROWS($B$6:B196),"") -> 191 | B196: Barbora. Laikas nuotykiams | C196: Basia. Radzę sobie! | D196: LT, PL | E196: 7062.51 | F196: 1607 | G196: 21 | H196: 45712 | I196: Art shot
A197: =IF(B197<>"",ROWS($B$6:B197),"") -> 192 | B197: Orwell: 2+2=5 | C197: Orwell: 2+2=5 | D197: FR, US | E197: 7024.4 | F197: 1251 | G197: – | H197: 46003 | I197: A-One Films
A198: =IF(B198<>"",ROWS($B$6:B198),"") -> 193 | B198: Fanfaros | C198: En Fanfare | D198: FR | E198: 6913.2 | F198: 1131 | G198: 16 | H198: 45740 | I198: Europos kinas
A199: =IF(B199<>"",ROWS($B$6:B199),"") -> 194 | B199: Angelo kiaušinis (4K restauracija) | C199: Tenshi no Tamago (4K restoration) | D199: JP | E199: 6825.86 | F199: 1101 | G199: 16 | H199: 45989 | I199: Adastra Cinema
A200: =IF(B200<>"",ROWS($B$6:B200),"") -> 195 | B200: Super Čarlis | C200: Super-Charlie | D200: SE | E200: 6816.2 | F200: 1174 | G200: 14 | H200: 45884 | I200: Estinfilm
A201: =IF(B201<>"",ROWS($B$6:B201),"") -> 196 | B201: Šuo kuris keliavo traukiniu | C201: Lampo The Travelling Dog | D201: PL | E201: 6801 | F201: 1702 | G201: 3 | H201: 45583 | I201: ACME Film
A202: =IF(B202<>"",ROWS($B$6:B202),"") -> 197 | B202: Pabaiga | C202: The End | D202: DK | E202: 6746.99 | F202: 1200 | G202: 6 | H202: 45709 | I202: A-One Films
A203: =IF(B203<>"",ROWS($B$6:B203),"") -> 198 | B203: Ozi. Miško balsas | C203: Ozi: Voice Of The Forest | D203: UK, FR, US, CN | E203: 6651.35 | F203: 2085 | G203: 6 | H203: 45541 | I203: Adastra Cinema
A204: =IF(B204<>"",ROWS($B$6:B204),"") -> 199 | B204: Juodoji arbata | C204: Black tea | D204: FR, LU, MR, TW | E204: 6141.28 | F204: 1040 | G204: 15 | H204: 45947 | I204: Taip toliau
A205: =IF(B205<>"",ROWS($B$6:B205),"") -> 200 | B205: 10 katino gyvenimų | C205: 10 Lives | D205: UK | E205: 6134.75 | F205: 2329 | G205: 5 | H205: 45562 | I205: ACME Film
A206: =IF(B206<>"",ROWS($B$6:B206),"") -> 201 | B206: Johatsu | C206: Johatsu | D206: LT | E206: 6124.25 | F206: 1233 | G206: 19 | H206: 45758 | I206: Europos kinas
A207: =IF(B207<>"",ROWS($B$6:B207),"") -> 202 | B207: Modi: Trys dienos ant beprotybės sparno | C207: Modi: Three Days on the Wing of Madness | D207: US | E207: 6015.87 | F207: 959 | G207: 17 | H207: 45695 | I207: Theatrical Film Distribution
A208: =IF(B208<>"",ROWS($B$6:B208),"") -> 203 | B208: Naktinis seansas | C208: Naktinis seansas | D208: LT | E208: 5893 | F208: 1122 | G208: 12 | H208: 45667 | I208: Film Jam
A209: =IF(B209<>"",ROWS($B$6:B209),"") -> 204 | B209: Maksimalus greitis | C209: Faster | D209: FR, BE | E209: 5893 | F209: 1010 | G209: 14 | H209: 45856 | I209: Garsų pasaulio įrašai
... A229: =IF(B229<>"",ROWS($B$6:B229),"") -> 224 | B229: Žvaigždės pranašauja | C229: Wishing on a Star | D229: IT, SK, CZ, AT, HR | E229: 4554.27 | F229: 751 | G229: 7 | H229: 45740 | I229: Europos kinas
A230: =IF(B230<>"",ROWS($B$6:B230),"") -> 225 | B230: Plastikiniai pistoletai | C230: Les pistolets en plastique | D230: FR | E230: 4411.8 | F230: 915 | G230: – | H230: 45765 | I230: A-One Films
A231: =IF(B231<>"",ROWS($B$6:B231),"") -> 226 | B231: Apsaugoti bet kokia kaina | C231: She Rides Shotgun | D231: US | E231: 4355.7 | F231: 742 | G231: 14 | H231: 45877 | I231: ACME Film
A232: =IF(B232<>"",ROWS($B$6:B232),"") -> 227 | B232: Rytoj būsiu drąsus | C232: Ab morgen bin ich mutig | D232: DE | E232: 4346 | F232: 1044 | G232: 4 | H232: 45926 | I232: Kauno kino centras „Romuva“
A233: =IF(B233<>"",ROWS($B$6:B233),"") -> 228 | B233: Vasaros knyga | C233: The Summer Book | D233: US | E233: 4343.25 | F233: 678 | G233: 9 | H233: 45856 | I233: Estinfilm
A234: =IF(B234<>"",ROWS($B$6:B234),"") -> 229 | B234: Deimantai | C234: Diamanti | D234: IT | E234: 4319.09 | F234: 716 | G234: 5 | H234: 45807 | I234: Best Film
A235: =IF(B235<>"",ROWS($B$6:B235),"") -> 230 | B235: Džiunė ir Džonas | C235: June and John | D235: FR | E235: 4181.97 | F235: 678 | G235: 14 | H235: 45779 | I235: Adastra Cinema
A236: =IF(B236<>"",ROWS($B$6:B236),"") -> 231 | B236: Senio kelionės | C236: Senio kelionės | D236: LT | E236: 3969 | F236: 765 | G236: 5 | H236: 45989 | I236: Film Jam
A237: =IF(B237<>"",ROWS($B$6:B237),"") -> 232 | B237: Čia | C237: Here | D237: US | E237: 3951 | F237: 583 | G237: 2 | H237: 45632 | I237: Garsų pasaulio įrašai
A238: =IF(B238<>"",ROWS($B$6:B238),"") -> 233 | B238: Baltoji paukštė | C238: White Bird a Wonder Story | D238: US | E238: 3928.45 | F238: 951 | G238: 3 | H238: 45359 | I238: ACME Film
A239: =IF(B239<>"",ROWS($B$6:B239),"") -> 234 | B239: Paskutinė Froido sesija | C239: Freud's Last Session | D239: US | E239: 3918.75 | F239: 537 | G239: 3 | H239: 45611 | I239: Best Film
A240: =IF(B240<>"",ROWS($B$6:B240),"") -> 235 | B240: Mano ypatingas sūnus | C240: Unbreakable boy | D240: US | E240: 3908.8 | F240: 834 | G240: 14 | H240: 45758 | I240: ACME Film
A241: =IF(B241<>"",ROWS($B$6:B241),"") -> 236 | B241: Vermiljas | C241: Vermiglio | D241: IT | E241: 3817.6 | F241: 613 | G241: 18 | H241: 45740 | I241: Europos kinas
A242: =IF(B242<>"",ROWS($B$6:B242),"") -> 237 | B242: Kai ateina ruduo | C242: When Fall Is Coming | D242: FR | E242: 3731.5 | F242: 815 | G242: – | H242: 45618 | I242: A-One Films
A243: =IF(B243<>"",ROWS($B$6:B243),"") -> 238 | B243: Laisvėje | C243: Fuori | D243: IT | E243: 3607 | F243: 811 | G243: 5 | H243: 45954 | I243: Best Film
A244: =IF(B244<>"",ROWS($B$6:B244),"") -> 239 | B244: Garfildas | C244: The Garfield Movie | D244: US | E244: 3599.8 | F244: 1432 | G244: 5 | H244: 45436 | I244: ACME Film / SONY
A245: =IF(B245<>"",ROWS($B$6:B245),"") -> 240 | B245: Ledo griūtis | C245: Ice Fall | D245: US, BG | E245: 3484.86 | F245: 473 | G245: 11 | H245: 45947 | I245: Theatrical Film Distribution
A246: =IF(B246<>"",ROWS($B$6:B246),"") -> 241 | B246: Kodas raudonas | C246: Red One | D246: US | E246: 3475.87 | F246: 533 | G246: 3 | H246: 45604 | I246: ACME Film / WB
A247: =IF(B247<>"",ROWS($B$6:B247),"") -> 242 | B247: Pont Neuf meilužiai | C247: Les Amants du Pont-Neuf | D247: FR | E247: 3456.4 | F247: 550 | G247: 7 | H247: 45740 | I247: Europos kinas
A248: =IF(B248<>"",ROWS($B$6:B248),"") -> 243 | B248: Opus | C248: Opus | D248: US | E248: 3433.14 | F248: 555 | G248: 16 | H248: 45758 | I248: ACME Film
A249: =IF(B249<>"",ROWS($B$6:B249),"") -> 244 | B249: Madam Clicquot | C249: Widow Clicquot | D249: US | E249: 3382.75 | F249: 452 | G249: 1 | H249: 45548 | I249: ACME Film
A250: =IF(B250<>"",ROWS($B$6:B250),"") -> 245 | B250: Malonė | C250: La Grazia | D250: IT | E250: 3350.9 | F250: 262 | G250: 2 | H250: 0 | I250: Europos kinas
A251: =IF(B251<>"",ROWS($B$6:B251),"") -> 246 | B251: Niki | C251: Niki | D251: FR | E251: 3313.04 | F251: 777 | G251: 6 | H251: 45751 | I251: Best Film
A252: =IF(B252<>"",ROWS($B$6:B252),"") -> 247 | B252: Visa, kas tu esi | C252: Alle die Du bist | D252: DE | E252: 3278.7 | F252: 741 | G252: – | H252: 45772 | I252: A-One Films
A253: =IF(B253<>"",ROWS($B$6:B253),"") -> 248 | B253: Drugelio Širdis | C253: Drugelio Širdis | D253: LT | E253: 3233.87 | F253: 860 | G253: 4 | H253: 44659 | I253: ACME Film
A254: =IF(B254<>"",ROWS($B$6:B254),"") -> 249 | B254: Vienaragio mirtis | C254: Death of a Unicorn | D254: US, HU | E254: 3203.65 | F254: 483 | G254: 14 | H254: 45786 | I254: Adastra Cinema
A255: =IF(B255<>"",ROWS($B$6:B255),"") -> 250 | B255: Katinas vaiduoklis Andzu | C255: Ghost Cat Anzu | D255: JP, FR | E255: 3083.55 | F255: 604 | G255: 9 | H255: 45740 | I255: Europos kinas
A256: =IF(B256<>"",ROWS($B$6:B256),"") -> 251 | B256: Dieviškoji Sara Bernar | C256: The Divine Sarah Bernhardt | D256: FR | E256: 3056.95 | F256: 567 | G256: 3 | H256: 45828 | I256: Best Film
A257: =IF(B257<>"",ROWS($B$6:B257),"") -> 252 | B257: 13 dienų, 13 naktų | C257: 13 jours, 13 nuits | D257: FR | E257: 3039.82 | F257: 520 | G257: 12 | H257: 45898 | I257: Adastra Cinema
A258: =IF(B258<>"",ROWS($B$6:B258),"") -> 253 | B258: Šventosios figos sėkla | C258: Dane-ye anjir-e ma'abed | D258: IR | E258: 2968.8 | F258: 491 | G258: 6 | H258: 45740 | I258: Europos kinas
A259: =IF(B259<>"",ROWS($B$6:B259),"") -> 254 | B259: Spirk arba mirk | C259: Fight or Flight | D259: US, UK | E259: 2895.07 | F259: 435 | G259: 11 | H259: 45765 | I259: Adastra Cinema
A260: =IF(B260<>"",ROWS($B$6:B260),"") -> 255 | B260: Suleimano istorija | C260: L´Histoire de Souleymane | D260: FR | E260: 2801.6 | F260: 572 | G260: 8 | H260: 45740 | I260: Europos kinas
A261: =IF(B261<>"",ROWS($B$6:B261),"") -> 256 | B261: Žokėjus | C261: El Jockey | D261: AR | E261: 2695.15 | F261: 457 | G261: 9 | H261: 45740 | I261: Europos kinas
A262: =IF(B262<>"",ROWS($B$6:B262),"") -> 257 | B262: Viškis piškis ir švilpiko paslaptis | C262: Chickenhare and the Secret of the Groundhog | D262: BE, FR, NL | E262: 2606.35 | F262: 455 | G262: 3 | H262: 0 | I262: Adastra Cinema
A263: =IF(B263<>"",ROWS($B$6:B263),"") -> 258 | B263: Paukštis | C263: Bird | D263: UK, US, FR, DE | E263: 2595.35 | F263: 400 | G263: 12 | H263: 45740 | I263: Europos kinas
A264: =IF(B264<>"",ROWS($B$6:B264),"") -> 259 | B264: Substancija | C264: The Substance | D264: UK | E264: 2570.2 | F264: 385 | G264: 4 | H264: 45562 | I264: Adastra Cinema
A265: =IF(B265<>"",ROWS($B$6:B265),"") -> 260 | B265: Laivas | C265: Laivas | D265: LT | E265: 2564.15 | F265: 385 | G265: 6 | H265: 45989 | I265: Taip toliau
A266: =IF(B266<>"",ROWS($B$6:B266),"") -> 261 | B266: Rugsėja sako | C266: September Says | D266: IE | E266: 2525.7 | F266: 585 | H266: 45905 | I266: A-One Films
...

Sheet Platintojų pasiskirstymas
A1: Platintojas | B1: Filmo pavadinimas | C1: Pajamos | D1: Žiūrovų skaičius | E1: Pajamos % | F1: Žiūrovų skaičius % | G1: Premjeros data
A2: ACME Film | B2: Pietinia Kronikas (Pietinia Kronikas) | C2: 3144187.4 | D2: 412521 | E2: =_xlfn.PERCENTOF(Table14[[#This Row],[Pajamos]],[1]!_2025[[#Totals],[Pajamos]]) -> 0.13281967 | F2: =_xlfn.PERCENTOF(Table14[[#This Row],[Žiūrovų skaičius]],[1]!_2025[[#Totals],[Žiūrovų skaičius]]) -> 0.11549529 | G2: 45681
B3: Spermagedonas (Spermaggedon) | C3: 318853.48 | D3: 41188 | E3: =_xlfn.PERCENTOF(Table14[[#This Row],[Pajamos]],[1]!_2025[[#Totals],[Pajamos]]) -> 0.013469303 | F3: =_xlfn.PERCENTOF(Table14[[#This Row],[Žiūrovų skaičius]],[1]!_2025[[#Totals],[Žiūrovų skaičius]]) -> 0.011531583 | G3: 45975
B4: Konklava (Conclave) | C4: 223257.61 | D4: 33415 | E4: =_xlfn.PERCENTOF(Table14[[#This Row],[Pajamos]],[1]!_2025[[#Totals],[Pajamos]]) -> 0.0094310542 | F4: =_xlfn.PERCENTOF(Table14[[#This Row],[Žiūrovų skaičius]],[1]!_2025[[#Totals],[Žiūrovų skaičius]]) -> 0.0093553423 | G4: 45688
B5: Apgaulės meistrai 3 (Now You See Me Now You Don’t) | C5: 216462.55 | D5: 29198 | E5: =_xlfn.PERCENTOF(Table14[[#This Row],[Pajamos]],[1]!_2025[[#Totals],[Pajamos]]) -> 0.009144011 | F5: =_xlfn.PERCENTOF(Table14[[#This Row],[Žiūrovų skaičius]],[1]!_2025[[#Totals],[Žiūrovų skaičius]]) -> 0.0081746905 | G5: 45982
B6: Didžiosios lenktynės po Europą (Grand Prix of Europe) | C6: 128252.27 | D6: 23231 | E6: =_xlfn.PERCENTOF(Table14[[#This Row],[Pajamos]],[1]!_2025[[#Totals],[Pajamos]]) -> 0.0054177509 | F6: =_xlfn.PERCENTOF(Table14[[#This Row],[Žiūrovų skaičius]],[1]!_2025[[#Totals],[Žiūrovų skaičius]]) -> 0.0065040837 | G6: 45940
B7: Balerina (Ballerina) | C7: 119533.2 | D7: 16136 | E7: =_xlfn.PERCENTOF(Table14[[#This Row],[Pajamos]],[1]!_2025[[#Totals],[Pajamos]]) -> 0.0050494318 | F7: =_xlfn.PERCENTOF(Table14[[#This Row],[Žiūrovų skaičius]],[1]!_2025[[#Totals],[Žiūrovų skaičius]]) -> 0.0045176658 | G7: 45814
B8: Kaip peliukai Kalėdas griovė (A Mouse Hunt for Christmas) | C8: 113945.7 | D8: 21143 | E8: =_xlfn.PERCENTOF(Table14[[#This Row],[Pajamos]],[1]!_2025[[#Totals],[Pajamos]]) -> 0.0048133995 | F8: =_xlfn.PERCENTOF(Table14[[#This Row],[Žiūrovų skaičius]],[1]!_2025[[#Totals],[Žiūrovų skaičius]]) -> 0.0059194973 | G8: 46010
B9: Marija Kalas (Maria) | C9: 102122.88 | D9: 16988 | E9: =_xlfn.PERCENTOF(Table14[[#This Row],[Pajamos]],[1]!_2025[[#Totals],[Pajamos]]) -> 0.004313969 | F9: =_xlfn.PERCENTOF(Table14[[#This Row],[Žiūrovų skaičius]],[1]!_2025[[#Totals],[Žiūrovų skaičius]]) -> 0.004756204 | G9: 45744
B10: Šuo, kuris keliavo traukiniu 2 (Lampo, The Travelling Dog 2) | C10: 88863.02 | D10: 16461 | E10: =_xlfn.PERCENTOF(Table14[[#This Row],[Pajamos]],[1]!_2025[[#Totals],[Pajamos]]) -> 0.0037538338 | F10: =_xlfn.PERCENTOF(Table14[[#This Row],[Žiūrovų skaičius]],[1]!_2025[[#Totals],[Žiūrovų skaičius]]) -> 0.0046086575 | G10: 45947
B11: Mirtinas pasivaikščiojimas (Long Walk) | C11: 83975.96 | D11: 11956 | E11: =_xlfn.PERCENTOF(Table14[[#This Row],[Pajamos]],[1]!_2025[[#Totals],[Pajamos]]) -> 0.0035473901 | F11: =_xlfn.PERCENTOF(Table14[[#This Row],[Žiūrovų skaičius]],[1]!_2025[[#Totals],[Žiūrovų skaičius]]) -> 0.0033473731 | G11: 45933
B12: Slaptažodis: Kalėdos (Mission Santa: Yoyo to the Rescue) | C12: 83239.73 | D12: 14139 | E12: =_xlfn.PERCENTOF(Table14[[#This Row],[Pajamos]],[1]!_2025[[#Totals],[Pajamos]]) -> 0.0035162896 | F12: =_xlfn.PERCENTOF(Table14[[#This Row],[Žiūrovų skaičius]],[1]!_2025[[#Totals],[Žiūrovų skaičius]]) -> 0.0039585571 | G12: 46003
B13: Darbininkas (Working Man) | C13: 76376.71 | D13: 10306 | E13: =_xlfn.PERCENTOF(Table14[[#This Row],[Pajamos]],[1]!_2025[[#Totals],[Pajamos]]) -> 0.0032263755 | F13: =_xlfn.PERCENTOF(Table14[[#This Row],[Žiūrovų skaičius]],[1]!_2025[[#Totals],[Žiūrovų skaičius]]) -> 0.0028854155 | G13: 45744
B14: Svajonių kedai (Sneaks) | C14: 66323.46 | D14: 13168 | E14: =_xlfn.PERCENTOF(Table14[[#This Row],[Pajamos]],[1]!_2025[[#Totals],[Pajamos]]) -> 0.0028016969 | F14: =_xlfn.PERCENTOF(Table14[[#This Row],[Žiūrovų skaičius]],[1]!_2025[[#Totals],[Žiūrovų skaičius]]) -> 0.003686702 | G14: 45891
... B77: Kalėdos džiunglėse (Christmas in the Jungle) | C77: 114.45 | D77: 21 | E77: =_xlfn.PERCENTOF(Table14[[#This Row],[Pajamos]],[1]!_2025[[#Totals],[Pajamos]]) -> 4.8347026e-06 | F77: =_xlfn.PERCENTOF(Table14[[#This Row],[Žiūrovų skaičius]],[1]!_2025[[#Totals],[Žiūrovų skaičius]]) -> 5.879461e-06 | G77: 44547
A78: ACME Film Total | B78: =COUNTA(B2:B77) -> 76 | C78: 5685576.5 | D78: 819268 | E78: =_xlfn.PERCENTOF(Table14[[#This Row],[Pajamos]],[1]!_2025[[#Totals],[Pajamos]]) -> 0.24017538 | F78: =_xlfn.PERCENTOF(Table14[[#This Row],[Žiūrovų skaičius]],[1]!_2025[[#Totals],[Žiūrovų skaičius]]) -> 0.22937401
A79: Theatrical Film Distribution / WDSMPI | B79: Įsikūnijimas. Ugnis ir pelenai (Avatar: Fire and Ash) | C79: 1089984.7 | D79: 122355 | E79: =_xlfn.PERCENTOF(Table14[[#This Row],[Pajamos]],[1]!_2025[[#Totals],[Pajamos]]) -> 0.046044141 | F79: =_xlfn.PERCENTOF(Table14[[#This Row],[Žiūrovų skaičius]],[1]!_2025[[#Totals],[Žiūrovų skaičius]]) -> 0.034256259 | G79: 46010
B80: Zootropolis 2 (Zootopia 2) | C80: 923000.44 | D80: 147335 | E80: =_xlfn.PERCENTOF(Table14[[#This Row],[Pajamos]],[1]!_2025[[#Totals],[Pajamos]]) -> 0.038990237 | F80: =_xlfn.PERCENTOF(Table14[[#This Row],[Žiūrovų skaičius]],[1]!_2025[[#Totals],[Žiūrovų skaičius]]) -> 0.041250018 | G80: 45989
B81: Lilo ir Stičas (Lilo & Stitch) | C81: 667776.51 | D81: 121226 | E81: =_xlfn.PERCENTOF(Table14[[#This Row],[Pajamos]],[1]!_2025[[#Totals],[Pajamos]]) -> 0.028208832 | F81: =_xlfn.PERCENTOF(Table14[[#This Row],[Žiūrovų skaičius]],[1]!_2025[[#Totals],[Žiūrovų skaičius]]) -> 0.033940168 | G81: 45800
B82: Vajana 2 (Moana 2) | C82: 238993.46 | D82: 40851 | E82: =_xlfn.PERCENTOF(Table14[[#This Row],[Pajamos]],[1]!_2025[[#Totals],[Pajamos]]) -> 0.010095782 | F82: =_xlfn.PERCENTOF(Table14[[#This Row],[Žiūrovų skaičius]],[1]!_2025[[#Totals],[Žiūrovų skaičius]]) -> 0.011437231 | G82: 45625
B83: Elio (Elio) | C83: 170979.37 | D83: 33385 | E83: =_xlfn.PERCENTOF(Table14[[#This Row],[Pajamos]],[1]!_2025[[#Totals],[Pajamos]]) -> 0.0072226685 | F83: =_xlfn.PERCENTOF(Table14[[#This Row],[Žiūrovų skaičius]],[1]!_2025[[#Totals],[Žiūrovų skaičius]]) -> 0.0093469431 | G83: 45835
B84: Fantastiškas ketvertas. Pirmieji žingsniai (The Fanstastic 4. First Steps) | C84: 162826.16 | D84: 24252 | E84: =_xlfn.PERCENTOF(Table14[[#This Row],[Pajamos]],[1]!_2025[[#Totals],[Pajamos]]) -> 0.006878253 | F84: =_xlfn.PERCENTOF(Table14[[#This Row],[Žiūrovų skaičius]],[1]!_2025[[#Totals],[Žiūrovų skaičius]]) -> 0.0067899375 | G84: 45863
B85: Mufasa. Liūtas karalius (Mufasa: The Lion King) | C85: 161225.09 | D85: 26391 | E85: =_xlfn.PERCENTOF(Table14[[#This Row],[Pajamos]],[1]!_2025[[#Totals],[Pajamos]]) -> 0.0068106192 | F85: =_xlfn.PERCENTOF(Table14[[#This Row],[Žiūrovų skaičius]],[1]!_2025[[#Totals],[Žiūrovų skaičius]]) -> 0.0073888026 | G85: 45646
B86: Thunderbolts* (Thunderbolts*) | C86: 142548.99 | D86: 18866 | E86: =_xlfn.PERCENTOF(Table14[[#This Row],[Pajamos]],[1]!_2025[[#Totals],[Pajamos]]) -> 0.0060216861 | F86: =_xlfn.PERCENTOF(Table14[[#This Row],[Žiūrovų skaičius]],[1]!_2025[[#Totals],[Žiūrovų skaičius]]) -> 0.0052819957 | G86: 45779
B87: Kapitonas Amerika. Drąsus naujas pasaulis (Captain America: Brave New World) | C87: 114999.99 | D87: 17061 | E87: =_xlfn.PERCENTOF(Table14[[#This Row],[Pajamos]],[1]!_2025[[#Totals],[Pajamos]]) -> 0.0048579358 | F87: =_xlfn.PERCENTOF(Table14[[#This Row],[Žiūrovų skaičius]],[1]!_2025[[#Totals],[Žiūrovų skaičius]]) -> 0.0047766421 | G87: 45702
B88: Grobuonis. Pavojaus zona (Predator: Badlands) | C88: 105777.51 | D88: 13507 | E88: =_xlfn.PERCENTOF(Table14[[#This Row],[Pajamos]],[1]!_2025[[#Totals],[Pajamos]]) -> 0.0044683513 | F88: =_xlfn.PERCENTOF(Table14[[#This Row],[Žiūrovų skaičius]],[1]!_2025[[#Totals],[Žiūrovų skaičius]]) -> 0.0037816133 | G88: 45968
B89: Tronas: Arėjas (Tron: Ares) | C89: 90298.64 | D89: 11828 | E89: =_xlfn.PERCENTOF(Table14[[#This Row],[Pajamos]],[1]!_2025[[#Totals],[Pajamos]]) -> 0.0038144786 | F89: =_xlfn.PERCENTOF(Table14[[#This Row],[Žiūrovų skaičius]],[1]!_2025[[#Totals],[Žiūrovų skaičius]]) -> 0.0033115364 | G89: 45940
B90: Diletantas (The Amateur) | C90: 61088.96 | D90: 9135 | E90: =_xlfn.PERCENTOF(Table14[[#This Row],[Pajamos]],[1]!_2025[[#Totals],[Pajamos]]) -> 0.0025805763 | F90: =_xlfn.PERCENTOF(Table14[[#This Row],[Žiūrovų skaičius]],[1]!_2025[[#Totals],[Žiūrovų skaičius]]) -> 0.0025575655 | G90: 45758
B91: Keistesnis penktadienis (Freakier Friday) | C91: 44492.77 | D91: 7254 | E91: =_xlfn.PERCENTOF(Table14[[#This Row],[Pajamos]],[1]!_2025[[#Totals],[Pajamos]]) -> 0.0018795047 | F91: =_xlfn.PERCENTOF(Table14[[#This Row],[Žiūrovų skaičius]],[1]!_2025[[#Totals],[Žiūrovų skaičius]]) -> 0.0020309338 | G91: 45877
... B99: Prasti reikalai (Poor Things) | C99: 28 | D99: 5 | E99: =_xlfn.PERCENTOF(Table14[[#This Row],[Pajamos]],[1]!_2025[[#Totals],[Pajamos]]) -> 1.1828019e-06 | F99: =_xlfn.PERCENTOF(Table14[[#This Row],[Žiūrovų skaičius]],[1]!_2025[[#Totals],[Žiūrovų skaičius]]) -> 1.3998717e-06 | G99: 45310
A100: Theatrical Film Distribution / WDSMPI Total | B100: =COUNTA(B79:B99) -> 21 | C100: 4103191.6 | D100: 613979 | E100: =_xlfn.PERCENTOF(Table14[[#This Row],[Pajamos]],[1]!_2025[[#Totals],[Pajamos]]) -> 0.17333081 | F100: =_xlfn.PERCENTOF(Table14[[#This Row],[Žiūrovų skaičius]],[1]!_2025[[#Totals],[Žiūrovų skaičius]]) -> 0.17189836
A101: ACME Film / WB | B101: Minecraft filmas (A Minecraft Movie) | C101: 1242208.7 | D101: 197265 | E101: =_xlfn.PERCENTOF(Table14[[#This Row],[Pajamos]],[1]!_2025[[#Totals],[Pajamos]]) -> 0.052474526 | F101: =_xlfn.PERCENTOF(Table14[[#This Row],[Žiūrovų skaičius]],[1]!_2025[[#Totals],[Žiūrovų skaičius]]) -> 0.055229137 | G101: 45751
B102: F1 (F1) | C102: 822898.81 | D102: 110128 | E102: =_xlfn.PERCENTOF(Table14[[#This Row],[Pajamos]],[1]!_2025[[#Totals],[Pajamos]]) -> 0.034761652 | F102: =_xlfn.PERCENTOF(Table14[[#This Row],[Žiūrovų skaičius]],[1]!_2025[[#Totals],[Žiūrovų skaičius]]) -> 0.030833013 | G102: 45835
B103: Išvarymas 4: Paskutinės apeigos (The Conjuring 4: Last Rites) | C103: 437318.96 | D103: 54446 | E103: =_xlfn.PERCENTOF(Table14[[#This Row],[Pajamos]],[1]!_2025[[#Totals],[Pajamos]]) -> 0.018473631 | F103: =_xlfn.PERCENTOF(Table14[[#This Row],[Žiūrovų skaičius]],[1]!_2025[[#Totals],[Žiūrovų skaičius]]) -> 0.015243482 | G103: 45905
B104: Mūšis po mūšio (One Battle After Another) | C104: 311400.88 | D104: 40304 | E104: =_xlfn.PERCENTOF(Table14[[#This Row],[Pajamos]],[1]!_2025[[#Totals],[Pajamos]]) -> 0.013154484 | F104: =_xlfn.PERCENTOF(Table14[[#This Row],[Žiūrovų skaičius]],[1]!_2025[[#Totals],[Žiūrovų skaičius]]) -> 0.011284085 | G104: 45926
B105: Išnykimo valanda (Weapons) | C105: 199541.06 | D105: 28664 | E105: =_xlfn.PERCENTOF(Table14[[#This Row],[Pajamos]],[1]!_2025[[#Totals],[Pajamos]]) -> 0.0084291978 | F105: =_xlfn.PERCENTOF(Table14[[#This Row],[Žiūrovų skaičius]],[1]!_2025[[#Totals],[Žiūrovų skaičius]]) -> 0.0080251843 | G105: 45877
B106: Galutinis tikslas. Kraujo linija (Final Destination. Bloodlines) | C106: 124061.4 | D106: 17478 | E106: =_xlfn.PERCENTOF(Table14[[#This Row],[Pajamos]],[1]!_2025[[#Totals],[Pajamos]]) -> 0.0052407163 | F106: =_xlfn.PERCENTOF(Table14[[#This Row],[Žiūrovų skaičius]],[1]!_2025[[#Totals],[Žiūrovų skaičius]]) -> 0.0048933914 | G106: 45793
B107: Mikis 17 (Mickey 17) | C107: 119015.53 | D107: 16597 | E107: =_xlfn.PERCENTOF(Table14[[#This Row],[Pajamos]],[1]!_2025[[#Totals],[Pajamos]]) -> 0.0050275639 | F107: =_xlfn.PERCENTOF(Table14[[#This Row],[Žiūrovų skaičius]],[1]!_2025[[#Totals],[Žiūrovų skaičius]]) -> 0.004646734 | G107: 45723
B108: Supermenas (Superman: Legacy) | C108: 117753.7 | D108: 17551 | E108: =_xlfn.PERCENTOF(Table14[[#This Row],[Pajamos]],[1]!_2025[[#Totals],[Pajamos]]) -> 0.0049742606 | F108: =_xlfn.PERCENTOF(Table14[[#This Row],[Žiūrovų skaičius]],[1]!_2025[[#Totals],[Žiūrovų skaičius]]) -> 0.0049138295 | G108: 45849
B109: Nusidėjėliai (Sinners) | C109: 82434.73 | D109: 11985 | E109: =_xlfn.PERCENTOF(Table14[[#This Row],[Pajamos]],[1]!_2025[[#Totals],[Pajamos]]) -> 0.003482284 | F109: =_xlfn.PERCENTOF(Table14[[#This Row],[Žiūrovų skaičius]],[1]!_2025[[#Totals],[Žiūrovų skaičius]]) -> 0.0033554924 | G109: 45765
B110: Sąskaitininas 2 (Accountant 2) | C110: 43502.67 | D110: 6046 | E110: =_xlfn.PERCENTOF(Table14[[#This Row],[Pajamos]],[1]!_2025[[#Totals],[Pajamos]]) -> 0.00183768 | F110: =_xlfn.PERCENTOF(Table14[[#This Row],[Žiūrovų skaičius]],[1]!_2025[[#Totals],[Žiūrovų skaičius]]) -> 0.0016927248 | G110: 45772
B111: Už gretimų durų (The Room Next Door) | C111: 22578.44 | D111: 3514 | E111: =_xlfn.PERCENTOF(Table14[[#This Row],[Pajamos]],[1]!_2025[[#Totals],[Pajamos]]) -> 0.00095377932 | F111: =_xlfn.PERCENTOF(Table14[[#This Row],[Žiūrovų skaičius]],[1]!_2025[[#Totals],[Žiūrovų skaičius]]) -> 0.0009838298 | G111: 45639
B112: Palydovė (Companion) | C112: 19840.36 | D112: 2805 | E112: =_xlfn.PERCENTOF(Table14[[#This Row],[Pajamos]],[1]!_2025[[#Totals],[Pajamos]]) -> 0.00083811481 | F112: =_xlfn.PERCENTOF(Table14[[#This Row],[Žiūrovų skaičius]],[1]!_2025[[#Totals],[Žiūrovų skaičius]]) -> 0.000785328 | G112: 45688
B113: Kodas raudonas (Red One) | C113: 3475.87 | D113: 533 | E113: =_xlfn.PERCENTOF(Table14[[#This Row],[Pajamos]],[1]!_2025[[#Totals],[Pajamos]]) -> 0.00014683091 | F113: =_xlfn.PERCENTOF(Table14[[#This Row],[Žiūrovų skaičius]],[1]!_2025[[#Totals],[Žiūrovų skaičius]]) -> 0.00014922632 | G113: 45604
... B117: Elvis (Elvis) | C117: 270 | D117: 45 | E117: =_xlfn.PERCENTOF(Table14[[#This Row],[Pajamos]],[1]!_2025[[#Totals],[Pajamos]]) -> 1.1405589e-05 | F117: =_xlfn.PERCENTOF(Table14[[#This Row],[Žiūrovų skaičius]],[1]!_2025[[#Totals],[Žiūrovų skaičius]]) -> 1.2598845e-05 | G117: 44736
A118: ACME Film / WB Total | B118: =COUNTA(B101:B117) -> 17 | C118: 3548249.1 | D118: 507634 | E118: =_xlfn.PERCENTOF(Table14[[#This Row],[Pajamos]],[1]!_2025[[#Totals],[Pajamos]]) -> 0.14988842 | F118: =_xlfn.PERCENTOF(Table14[[#This Row],[Žiūrovų skaičius]],[1]!_2025[[#Totals],[Žiūrovų skaičius]]) -> 0.14212449
A119: Dukine Film Distribution / Universal Pictures International | B119: Blogiukai 2 (The Bad Guys) | C119: 442709.31 | D119: 80213 | E119: =_xlfn.PERCENTOF(Table14[[#This Row],[Pajamos]],[1]!_2025[[#Totals],[Pajamos]]) -> 0.018701336 | F119: =_xlfn.PERCENTOF(Table14[[#This Row],[Žiūrovų skaičius]],[1]!_2025[[#Totals],[Žiūrovų skaičius]]) -> 0.022457581 | G119: 45870
B120: Kaip prisijaukinti slibiną (How To Train Your Dragon) | C120: 432390.64 | D120: 74395 | E120: =_xlfn.PERCENTOF(Table14[[#This Row],[Pajamos]],[1]!_2025[[#Totals],[Pajamos]]) -> 0.018265445 | F120: =_xlfn.PERCENTOF(Table14[[#This Row],[Žiūrovų skaičius]],[1]!_2025[[#Totals],[Žiūrovų skaičius]]) -> 0.02082869 | G120: 45821
B121: Penkios naktys pas Fredį 2 (Five Nights at Freddy's 2) | C121: 315296.99 | D121: 42648 | E121: =_xlfn.PERCENTOF(Table14[[#This Row],[Pajamos]],[1]!_2025[[#Totals],[Pajamos]]) -> 0.013319067 | F121: =_xlfn.PERCENTOF(Table14[[#This Row],[Žiūrovų skaičius]],[1]!_2025[[#Totals],[Žiūrovų skaičius]]) -> 0.011940345 | G121: 45996
B122: Juros periodo pasaulis. Atgimimas (Jurassic World Rebirth) | C122: 249856.77 | D122: 38080 | E122: =_xlfn.PERCENTOF(Table14[[#This Row],[Pajamos]],[1]!_2025[[#Totals],[Pajamos]]) -> 0.01055468 | F122: =_xlfn.PERCENTOF(Table14[[#This Row],[Žiūrovų skaičius]],[1]!_2025[[#Totals],[Žiūrovų skaičius]]) -> 0.010661423 | G122: 45840
B123: Bridžita Džouns. Pakvaišusi dėl vaikino (Bridget Jones: Mad About the Boy) | C123: 231142.44 | D123: 31583 | E123: =_xlfn.PERCENTOF(Table14[[#This Row],[Pajamos]],[1]!_2025[[#Totals],[Pajamos]]) -> 0.0097641325 | F123: =_xlfn.PERCENTOF(Table14[[#This Row],[Žiūrovų skaičius]],[1]!_2025[[#Totals],[Žiūrovų skaičius]]) -> 0.0088424293 | G123: 45702
B124: Nosferatu (Nosferatu) | C124: 229738.71 | D124: 30843 | E124: =_xlfn.PERCENTOF(Table14[[#This Row],[Pajamos]],[1]!_2025[[#Totals],[Pajamos]]) -> 0.0097048348 | F124: =_xlfn.PERCENTOF(Table14[[#This Row],[Žiūrovų skaičius]],[1]!_2025[[#Totals],[Žiūrovų skaičius]]) -> 0.0086352483 | G124: 45660
B125: Piktoji. Antra dalis (Wicked: For Good) | C125: 129927.86 | D125: 19809 | E125: =_xlfn.PERCENTOF(Table14[[#This Row],[Pajamos]],[1]!_2025[[#Totals],[Pajamos]]) -> 0.0054885327 | F125: =_xlfn.PERCENTOF(Table14[[#This Row],[Žiūrovų skaičius]],[1]!_2025[[#Totals],[Žiūrovų skaičius]]) -> 0.0055460115 | G125: 45982
B126: Juodas telefonas 2 (The Black Phone 2) | C126: 128201.95 | D126: 17743 | E126: =_xlfn.PERCENTOF(Table14[[#This Row],[Pajamos]],[1]!_2025[[#Totals],[Pajamos]]) -> 0.0054156252 | F126: =_xlfn.PERCENTOF(Table14[[#This Row],[Žiūrovų skaičius]],[1]!_2025[[#Totals],[Žiūrovų skaičius]]) -> 0.0049675846 | G126: 45947
B127: Bugonija (Bugonia) | C127: 74145.8 | D127: 10839 | E127: =_xlfn.PERCENTOF(Table14[[#This Row],[Pajamos]],[1]!_2025[[#Totals],[Pajamos]]) -> 0.0031321354 | F127: =_xlfn.PERCENTOF(Table14[[#This Row],[Žiūrovų skaičius]],[1]!_2025[[#Totals],[Žiūrovų skaičius]]) -> 0.0030346418 | G127: 45961
B128: Dogmeno nuotykiai (Dog Man) | C128: 74080.74 | D128: 14067 | E128: =_xlfn.PERCENTOF(Table14[[#This Row],[Pajamos]],[1]!_2025[[#Totals],[Pajamos]]) -> 0.003129387 | F128: =_xlfn.PERCENTOF(Table14[[#This Row],[Žiūrovų skaičius]],[1]!_2025[[#Totals],[Žiūrovų skaičius]]) -> 0.0039383989 | G128: 45702
B129: Gabės lėlių namai. Filmas (Gabby's Dollhouse: The Movie) | C129: 69315.54 | D129: 12496 | E129: =_xlfn.PERCENTOF(Table14[[#This Row],[Pajamos]],[1]!_2025[[#Totals],[Pajamos]]) -> 0.0029280911 | F129: =_xlfn.PERCENTOF(Table14[[#This Row],[Žiūrovų skaičius]],[1]!_2025[[#Totals],[Žiūrovų skaičius]]) -> 0.0034985593 | G129: 45926
B130: Finikiečių schema (The Phoenician Scheme) | C130: 49773.49 | D130: 7783 | E130: =_xlfn.PERCENTOF(Table14[[#This Row],[Pajamos]],[1]!_2025[[#Totals],[Pajamos]]) -> 0.0021025777 | F130: =_xlfn.PERCENTOF(Table14[[#This Row],[Žiūrovų skaičius]],[1]!_2025[[#Totals],[Žiūrovų skaičius]]) -> 0.0021790402 | G130: 45807
B131: Piktoji (Wicked) | C131: 43230.59 | D131: 6958 | E131: =_xlfn.PERCENTOF(Table14[[#This Row],[Pajamos]],[1]!_2025[[#Totals],[Pajamos]]) -> 0.0018261865 | F131: =_xlfn.PERCENTOF(Table14[[#This Row],[Žiūrovų skaičius]],[1]!_2025[[#Totals],[Žiūrovų skaičius]]) -> 0.0019480614 | G131: 45632
... B143: Bjaurusis aš 4 (Despicable Me 4) | C143: 131.1 | D143: 22 | E143: =_xlfn.PERCENTOF(Table14[[#This Row],[Pajamos]],[1]!_2025[[#Totals],[Pajamos]]) -> 5.5380473e-06 | F143: =_xlfn.PERCENTOF(Table14[[#This Row],[Žiūrovų skaičius]],[1]!_2025[[#Totals],[Žiūrovų skaičius]]) -> 6.1594353e-06 | G143: 45478
A144: Dukine Film Distribution / Universal Pictures International Total | B144: =COUNTA(B119:B143) -> 25 | C144: 2601460.9 | D144: 408162 | E144: =_xlfn.PERCENTOF(Table14[[#This Row],[Pajamos]],[1]!_2025[[#Totals],[Pajamos]]) -> 0.10989331 | F144: =_xlfn.PERCENTOF(Table14[[#This Row],[Žiūrovų skaičius]],[1]!_2025[[#Totals],[Žiūrovų skaičius]]) -> 0.11427488
A145: ACME Film / SONY | B145: Meškiukas Padingtonas: Nuotykiai Peru (Paddington in Peru) | C145: 396563.21 | D145: 69619 | E145: =_xlfn.PERCENTOF(Table14[[#This Row],[Pajamos]],[1]!_2025[[#Totals],[Pajamos]]) -> 0.016751989 | F145: =_xlfn.PERCENTOF(Table14[[#This Row],[Žiūrovų skaičius]],[1]!_2025[[#Totals],[Žiūrovų skaičius]]) -> 0.019491533 | G145: 45681
B146: Materialistai (Materialists) | C146: 259456.56 | D146: 34703 | E146: =_xlfn.PERCENTOF(Table14[[#This Row],[Pajamos]],[1]!_2025[[#Totals],[Pajamos]]) -> 0.010960204 | F146: =_xlfn.PERCENTOF(Table14[[#This Row],[Žiūrovų skaičius]],[1]!_2025[[#Totals],[Žiūrovų skaičius]]) -> 0.0097159492 | G146: 45891
B147: 28 metai po (28 Years Later) | C147: 210896.63 | D147: 29631 | E147: =_xlfn.PERCENTOF(Table14[[#This Row],[Pajamos]],[1]!_2025[[#Totals],[Pajamos]]) -> 0.0089088902 | F147: =_xlfn.PERCENTOF(Table14[[#This Row],[Žiūrovų skaičius]],[1]!_2025[[#Totals],[Žiūrovų skaičius]]) -> 0.0082959194 | G147: 45828
B148: Demon Slayer: Kimetsu no Yaiba begalybės pilis (Demon Slayer: Kimetsu no Yaiba Infinity Castle) | C148: 100969.84 | D148: 13427 | E148: =_xlfn.PERCENTOF(Table14[[#This Row],[Pajamos]],[1]!_2025[[#Totals],[Pajamos]]) -> 0.0042652612 | F148: =_xlfn.PERCENTOF(Table14[[#This Row],[Žiūrovų skaičius]],[1]!_2025[[#Totals],[Žiūrovų skaičius]]) -> 0.0037592154 | G148: 45912
B149: Iki aušros (Until Dawn) | C149: 83235.14 | D149: 12364 | E149: =_xlfn.PERCENTOF(Table14[[#This Row],[Pajamos]],[1]!_2025[[#Totals],[Pajamos]]) -> 0.0035160957 | F149: =_xlfn.PERCENTOF(Table14[[#This Row],[Žiūrovų skaičius]],[1]!_2025[[#Totals],[Žiūrovų skaičius]]) -> 0.0034616026 | G149: 45772
B150: Chainsaw man filmas: Reze arka (Chainsaw Man – The Movie: Reze Arc) | C150: 63305.21 | D150: 8735 | E150: =_xlfn.PERCENTOF(Table14[[#This Row],[Pajamos]],[1]!_2025[[#Totals],[Pajamos]]) -> 0.0026741972 | F150: =_xlfn.PERCENTOF(Table14[[#This Row],[Žiūrovų skaičius]],[1]!_2025[[#Totals],[Žiūrovų skaičius]]) -> 0.0024455758 | G150: 45961
B151: Žinau, ką padarei aną vasarą (I Know What You Did Last Summer) | C151: 58379.43 | D151: 8930 | E151: =_xlfn.PERCENTOF(Table14[[#This Row],[Pajamos]],[1]!_2025[[#Totals],[Pajamos]]) -> 0.0024661178 | F151: =_xlfn.PERCENTOF(Table14[[#This Row],[Žiūrovų skaičius]],[1]!_2025[[#Totals],[Žiūrovų skaičius]]) -> 0.0025001708 | G151: 45856
B152: Anakonda (Anaconda) | C152: 51162.39 | D152: 6798 | E152: =_xlfn.PERCENTOF(Table14[[#This Row],[Pajamos]],[1]!_2025[[#Totals],[Pajamos]]) -> 0.0021612489 | F152: =_xlfn.PERCENTOF(Table14[[#This Row],[Žiūrovų skaičius]],[1]!_2025[[#Totals],[Žiūrovų skaičius]]) -> 0.0019032655 | G152: 46017
B153: Didelė drąsi graži kelionė (Big Bold Beautiful Journey) | C153: 46654.77 | D153: 7040 | E153: =_xlfn.PERCENTOF(Table14[[#This Row],[Pajamos]],[1]!_2025[[#Totals],[Pajamos]]) -> 0.0019708339 | F153: =_xlfn.PERCENTOF(Table14[[#This Row],[Žiūrovų skaičius]],[1]!_2025[[#Totals],[Žiūrovų skaičius]]) -> 0.0019710193 | G153: 45919
B154: Grąžink ją atgal (Bring Her Back) | C154: 46161.62 | D154: 6532 | E154: =_xlfn.PERCENTOF(Table14[[#This Row],[Pajamos]],[1]!_2025[[#Totals],[Pajamos]]) -> 0.0019500018 | F154: =_xlfn.PERCENTOF(Table14[[#This Row],[Žiūrovų skaičius]],[1]!_2025[[#Totals],[Žiūrovų skaičius]]) -> 0.0018287923 | G154: 45870
B155: Karatė vaikis: Legendos (Karate Kid: Legends) | C155: 33420.07 | D155: 5444 | E155: =_xlfn.PERCENTOF(Table14[[#This Row],[Pajamos]],[1]!_2025[[#Totals],[Pajamos]]) -> 0.0014117615 | F155: =_xlfn.PERCENTOF(Table14[[#This Row],[Žiūrovų skaičius]],[1]!_2025[[#Totals],[Žiūrovų skaičius]]) -> 0.0015241803 | G155: 45807
B156: Prigautas (Caught Stealing) | C156: 17747.34 | D156: 2750 | E156: =_xlfn.PERCENTOF(Table14[[#This Row],[Pajamos]],[1]!_2025[[#Totals],[Pajamos]]) -> 0.00074969953 | F156: =_xlfn.PERCENTOF(Table14[[#This Row],[Žiūrovų skaičius]],[1]!_2025[[#Totals],[Žiūrovų skaičius]]) -> 0.00076992941 | G156: 45898
B157: Garfildas (The Garfield Movie) | C157: 3599.8 | D157: 1432 | E157: =_xlfn.PERCENTOF(Table14[[#This Row],[Pajamos]],[1]!_2025[[#Totals],[Pajamos]]) -> 0.00015206608 | F157: =_xlfn.PERCENTOF(Table14[[#This Row],[Žiūrovų skaičius]],[1]!_2025[[#Totals],[Žiūrovų skaičius]]) -> 0.00040092324 | G157: 45436
... B161: Medžiotojas Kreivenas (Kraven the Hunter) | C161: 439.15 | D161: 56 | E161: =_xlfn.PERCENTOF(Table14[[#This Row],[Pajamos]],[1]!_2025[[#Totals],[Pajamos]]) -> 1.855098e-05 | F161: =_xlfn.PERCENTOF(Table14[[#This Row],[Žiūrovų skaičius]],[1]!_2025[[#Totals],[Žiūrovų skaičius]]) -> 1.5678563e-05 | G161: 45639
A162: ACME Film / SONY Total | B162: =COUNTA(B145:B161) -> 17 | C162: 1376252.5 | D162: 208180 | E162: =_xlfn.PERCENTOF(Table14[[#This Row],[Pajamos]],[1]!_2025[[#Totals],[Pajamos]]) -> 0.058136928 | F162: =_xlfn.PERCENTOF(Table14[[#This Row],[Žiūrovų skaičius]],[1]!_2025[[#Totals],[Žiūrovų skaičius]]) -> 0.058285056
A163: Dukine Film Distribution / Paramount Pictures | B163: Ežiukas Sonic 3 (Sonic the Hedgehog 3) | C163: 499194.9 | D163: 85363 | E163: =_xlfn.PERCENTOF(Table14[[#This Row],[Pajamos]],[1]!_2025[[#Totals],[Pajamos]]) -> 0.021087452 | F163: =_xlfn.PERCENTOF(Table14[[#This Row],[Žiūrovų skaičius]],[1]!_2025[[#Totals],[Žiūrovų skaičius]]) -> 0.023899449 | G163: 45653
B164: Neįmanoma misija. Galutinis atpildas (Mission: Impossible - The Final Reckoning) | C164: 239773.99 | D164: 33991 | E164: =_xlfn.PERCENTOF(Table14[[#This Row],[Pajamos]],[1]!_2025[[#Totals],[Pajamos]]) -> 0.010128754 | F164: =_xlfn.PERCENTOF(Table14[[#This Row],[Žiūrovų skaičius]],[1]!_2025[[#Totals],[Žiūrovų skaičius]]) -> 0.0095166075 | G164: 45800
B165: Smurfų filmas (Smurfs) | C165: 214962.25 | D165: 41654 | E165: =_xlfn.PERCENTOF(Table14[[#This Row],[Pajamos]],[1]!_2025[[#Totals],[Pajamos]]) -> 0.0090806339 | F165: =_xlfn.PERCENTOF(Table14[[#This Row],[Žiūrovų skaičius]],[1]!_2025[[#Totals],[Žiūrovų skaičius]]) -> 0.011662051 | G165: 45856
B166: Kempiniukas plačiakelnis. Kelnių paieškos (SpongeBob Movie: Search for SquarePants) | C166: 152737.49 | D166: 25300 | E166: =_xlfn.PERCENTOF(Table14[[#This Row],[Pajamos]],[1]!_2025[[#Totals],[Pajamos]]) -> 0.0064520781 | F166: =_xlfn.PERCENTOF(Table14[[#This Row],[Žiūrovų skaičius]],[1]!_2025[[#Totals],[Žiūrovų skaičius]]) -> 0.0070833506 | G166: 46017
B167: Nuogas ginklas (The Naked Gun) | C167: 123924.16 | D167: 18651 | E167: =_xlfn.PERCENTOF(Table14[[#This Row],[Pajamos]],[1]!_2025[[#Totals],[Pajamos]]) -> 0.0052349188 | F167: =_xlfn.PERCENTOF(Table14[[#This Row],[Žiūrovų skaičius]],[1]!_2025[[#Totals],[Žiūrovų skaičius]]) -> 0.0052218013 | G167: 45870
B168: Bėgantis žmogus (The Running Man) | C168: 35466.35 | D168: 5153 | E168: =_xlfn.PERCENTOF(Table14[[#This Row],[Pajamos]],[1]!_2025[[#Totals],[Pajamos]]) -> 0.0014982023 | F168: =_xlfn.PERCENTOF(Table14[[#This Row],[Žiūrovų skaičius]],[1]!_2025[[#Totals],[Žiūrovų skaičius]]) -> 0.0014427077 | G168: 45975
B169: Gladiatorius 2 (Gladiator 2) | C169: 33563.47 | D169: 4386 | E169: =_xlfn.PERCENTOF(Table14[[#This Row],[Pajamos]],[1]!_2025[[#Totals],[Pajamos]]) -> 0.0014178191 | F169: =_xlfn.PERCENTOF(Table14[[#This Row],[Žiūrovų skaičius]],[1]!_2025[[#Totals],[Žiūrovų skaičius]]) -> 0.0012279674 | G169: 45611
B170: Novokainas (Novocaine) | C170: 16766.53 | D170: 2924 | E170: =_xlfn.PERCENTOF(Table14[[#This Row],[Pajamos]],[1]!_2025[[#Totals],[Pajamos]]) -> 0.00070826725 | F170: =_xlfn.PERCENTOF(Table14[[#This Row],[Žiūrovų skaičius]],[1]!_2025[[#Totals],[Žiūrovų skaičius]]) -> 0.00081864495 | G170: 45737
B171: Rugsėjo penktoji (September 5) | C171: 16225.57 | D171: 2479 | E171: =_xlfn.PERCENTOF(Table14[[#This Row],[Pajamos]],[1]!_2025[[#Totals],[Pajamos]]) -> 0.00068541552 | F171: =_xlfn.PERCENTOF(Table14[[#This Row],[Žiūrovų skaičius]],[1]!_2025[[#Totals],[Žiūrovų skaičius]]) -> 0.00069405637 | G171: 45716
B172: Transformeriai. Pradžia (Transformers One) | C172: 302.5 | D172: 51 | E172: =_xlfn.PERCENTOF(Table14[[#This Row],[Pajamos]],[1]!_2025[[#Totals],[Pajamos]]) -> 1.2778484e-05 | F172: =_xlfn.PERCENTOF(Table14[[#This Row],[Žiūrovų skaičius]],[1]!_2025[[#Totals],[Žiūrovų skaičius]]) -> 1.4278691e-05 | G172: 45555
A173: Dukine Film Distribution / Paramount Pictures Total | B173: =COUNTA(B163:B172) -> 10 | C173: 1332917.2 | D173: 219952 | E173: =_xlfn.PERCENTOF(Table14[[#This Row],[Pajamos]],[1]!_2025[[#Totals],[Pajamos]]) -> 0.05630632 | F173: =_xlfn.PERCENTOF(Table14[[#This Row],[Žiūrovų skaičius]],[1]!_2025[[#Totals],[Žiūrovų skaičius]]) -> 0.061580914
A174: Europos kinas | B174: Gera mergaitė (Babygirl) | C174: 431243.26 | D174: 56300 | E174: =_xlfn.PERCENTOF(Table14[[#This Row],[Pajamos]],[1]!_2025[[#Totals],[Pajamos]]) -> 0.018216976 | F174: =_xlfn.PERCENTOF(Table14[[#This Row],[Žiūrovų skaičius]],[1]!_2025[[#Totals],[Žiūrovų skaičius]]) -> 0.015762555 | G174: 45667
B175: Potvynis (Flow) | C175: 375513.3 | D175: 63289 | E175: =_xlfn.PERCENTOF(Table14[[#This Row],[Pajamos]],[1]!_2025[[#Totals],[Pajamos]]) -> 0.01586278 | F175: =_xlfn.PERCENTOF(Table14[[#This Row],[Žiūrovų skaičius]],[1]!_2025[[#Totals],[Žiūrovų skaičius]]) -> 0.017719295 | G175: 45744
B176: Akiplėša (Akiplėša) | C176: 208608.41 | D176: 31958 | E176: =_xlfn.PERCENTOF(Table14[[#This Row],[Pajamos]],[1]!_2025[[#Totals],[Pajamos]]) -> 0.0088122291 | F176: =_xlfn.PERCENTOF(Table14[[#This Row],[Žiūrovų skaičius]],[1]!_2025[[#Totals],[Žiūrovų skaičius]]) -> 0.0089474197 | G176: 45740
B177: Irena (Irena) | C177: 66827.34 | D177: 10980 | E177: =_xlfn.PERCENTOF(Table14[[#This Row],[Pajamos]],[1]!_2025[[#Totals],[Pajamos]]) -> 0.0028229822 | F177: =_xlfn.PERCENTOF(Table14[[#This Row],[Žiūrovų skaičius]],[1]!_2025[[#Totals],[Žiūrovų skaičius]]) -> 0.0030741182 | G177: 45954
B178: Svečias (Svečias) | C178: 34437.2 | D178: 5373 | E178: =_xlfn.PERCENTOF(Table14[[#This Row],[Pajamos]],[1]!_2025[[#Totals],[Pajamos]]) -> 0.001454728 | F178: =_xlfn.PERCENTOF(Table14[[#This Row],[Žiūrovų skaičius]],[1]!_2025[[#Totals],[Žiūrovų skaičius]]) -> 0.0015043021 | G178: 45926
B179: Skyrybų vakarėlis (Volveréis) | C179: 9698.96 | D179: 1379 | E179: =_xlfn.PERCENTOF(Table14[[#This Row],[Pajamos]],[1]!_2025[[#Totals],[Pajamos]]) -> 0.00040971243 | F179: =_xlfn.PERCENTOF(Table14[[#This Row],[Žiūrovų skaičius]],[1]!_2025[[#Totals],[Žiūrovų skaičius]]) -> 0.0003860846 | G179: 45740
B180: Povas (Phau) | C180: 9439.22 | D180: 1436 | E180: =_xlfn.PERCENTOF(Table14[[#This Row],[Pajamos]],[1]!_2025[[#Totals],[Pajamos]]) -> 0.00039874025 | F180: =_xlfn.PERCENTOF(Table14[[#This Row],[Žiūrovų skaičius]],[1]!_2025[[#Totals],[Žiūrovų skaičius]]) -> 0.00040204314 | G180: 45740
B181: Fanfaros (En Fanfare) | C181: 6913.2 | D181: 1131 | E181: =_xlfn.PERCENTOF(Table14[[#This Row],[Pajamos]],[1]!_2025[[#Totals],[Pajamos]]) -> 0.00029203378 | F181: =_xlfn.PERCENTOF(Table14[[#This Row],[Žiūrovų skaičius]],[1]!_2025[[#Totals],[Žiūrovų skaičius]]) -> 0.00031665097 | G181: 45740
B182: Johatsu (Johatsu) | C182: 6124.25 | D182: 1233 | E182: =_xlfn.PERCENTOF(Table14[[#This Row],[Pajamos]],[1]!_2025[[#Totals],[Pajamos]]) -> 0.00025870623 | F182: =_xlfn.PERCENTOF(Table14[[#This Row],[Žiūrovų skaičius]],[1]!_2025[[#Totals],[Žiūrovų skaičius]]) -> 0.00034520835 | G182: 45758
B183: Mylimiausias mano pyragas (Keyke mahboobe man) | C183: 5545.8 | D183: 857 | E183: =_xlfn.PERCENTOF(Table14[[#This Row],[Pajamos]],[1]!_2025[[#Totals],[Pajamos]]) -> 0.00023427081 | F183: =_xlfn.PERCENTOF(Table14[[#This Row],[Žiūrovų skaičius]],[1]!_2025[[#Totals],[Žiūrovų skaičius]]) -> 0.000239938 | G183: 45639
B184: Trys draugės (Trois Amies) | C184: 4785.38 | D184: 763 | E184: =_xlfn.PERCENTOF(Table14[[#This Row],[Pajamos]],[1]!_2025[[#Totals],[Pajamos]]) -> 0.00020214844 | F184: =_xlfn.PERCENTOF(Table14[[#This Row],[Žiūrovų skaičius]],[1]!_2025[[#Totals],[Žiūrovų skaičius]]) -> 0.00021362042 | G184: 45740
B185: Žvaigždės pranašauja (Wishing on a Star) | C185: 4554.27 | D185: 751 | E185: =_xlfn.PERCENTOF(Table14[[#This Row],[Pajamos]],[1]!_2025[[#Totals],[Pajamos]]) -> 0.00019238568 | F185: =_xlfn.PERCENTOF(Table14[[#This Row],[Žiūrovų skaičius]],[1]!_2025[[#Totals],[Žiūrovų skaičius]]) -> 0.00021026072 | G185: 45740
B186: Vermiljas (Vermiglio) | C186: 3817.6 | D186: 613 | E186: =_xlfn.PERCENTOF(Table14[[#This Row],[Pajamos]],[1]!_2025[[#Totals],[Pajamos]]) -> 0.00016126659 | F186: =_xlfn.PERCENTOF(Table14[[#This Row],[Žiūrovų skaičius]],[1]!_2025[[#Totals],[Žiūrovų skaičius]]) -> 0.00017162427 | G186: 45740
...

Sheet Sausis
A1: ='2025'!A1 -> 2025
A2: ='2025'!A2 -> Lietuvos kino teatruose rodytų filmų TOP
A3: Sausis
A5: Eil. Nr. | B5: Filmo pavadinimas | C5: Filmo pavadinimas originalo kalba | D5: Kilmės šalis | E5: Pajamos | F5: Žiūrovų skaičius | G5: Kopijų skaičius | H5: Premjeros data | I5: Platintojas
A6: =IF(B6<>"",ROWS($B$6:B6),"") -> 1 | B6: Pietinia Kronikas | C6: Pietinia Kronikas | D6: LT | E6: 787196.21 | F6: 104355 | G6: 22 | H6: 45681 | I6: ACME Film
A7: =IF(B7<>"",ROWS($B$6:B7),"") -> 2 | B7: Reemigrantai 2 | C7: Reemigrantai 2 | D7: LT | E7: 616456 | F7: 82393 | G7: – | H7: 45646 | I7: Vabalo filmai
A8: =IF(B8<>"",ROWS($B$6:B8),"") -> 3 | B8: Ežiukas Sonic 3 | C8: Sonic the Hedgehog 3 | D8: US, JP | E8: 393144.06 | F8: 66696 | G8: 24 | H8: 45653 | I8: Dukine Film Distribution / Paramount Pictures
A9: =IF(B9<>"",ROWS($B$6:B9),"") -> 4 | B9: Gera mergaitė | C9: Babygirl | D9: US | E9: 373160.23 | F9: 48420 | G9: 24 | H9: 45667 | I9: Europos kinas
A10: =IF(B10<>"",ROWS($B$6:B10),"") -> 5 | B10: Nosferatu | C10: Nosferatu | D10: US, UK, HU | E10: 218296.77 | F10: 29167 | G10: 17 | H10: 45660 | I10: Dukine Film Distribution / Universal Pictures
A11: =IF(B11<>"",ROWS($B$6:B11),"") -> 6 | B11: Vajana 2 | C11: Moana 2 | D11: US, CA | E11: 182755.42 | F11: 31186 | G11: 19 | H11: 45625 | I11: Theatrical Film Distribution / WDSMPI
A12: =IF(B12<>"",ROWS($B$6:B12),"") -> 7 | B12: Mufasa. Liūtas karalius | C12: Mufasa: The Lion King | D12: US | E12: 130653.16 | F12: 21485 | G12: 28 | H12: 45646 | I12: Theatrical Film Distribution / WDSMPI
A13: =IF(B13<>"",ROWS($B$6:B13),"") -> 8 | B13: Meškiukas Padingtonas: Nuotykiai Peru | C13: Paddington in Peru | D13: UK, US, JP, FR | E13: 128537.33 | F13: 22364 | G13: 19 | H13: 45681 | I13: ACME Film / SONY
A14: =IF(B14<>"",ROWS($B$6:B14),"") -> 9 | B14: Partenopė | C14: Parthenope | D14: IT | E14: 90784 | F14: 12883 | G14: 16 | H14: 45653 | I14: A-One Films
A15: =IF(B15<>"",ROWS($B$6:B15),"") -> 10 | B15: Tokie smulkūs dalykai | C15: Small Things Like These | D15: IE, US, BE | E15: 61877 | F15: 9376 | G15: 18 | H15: 45660 | I15: Garsų pasaulio įrašai
A16: =IF(B16<>"",ROWS($B$6:B16),"") -> 11 | B16: Piktoji | C16: Wicked | D16: US | E16: 40489.97 | F16: 6500 | G16: 16 | H16: 45632 | I16: Dukine Film Distribution / Universal Pictures
A17: =IF(B17<>"",ROWS($B$6:B17),"") -> 12 | B17: Emilija Perez | C17: Emilia Pérez | D17: FR | E17: 37289.6 | F17: 6130 | G17: 14 | H17: 45674 | I17: A-One Films
A18: =IF(B18<>"",ROWS($B$6:B18),"") -> 13 | B18: Gladiatorius 2 | C18: Gladiator 2 | D18: US, UK | E18: 33563.47 | F18: 4386 | G18: 9 | H18: 45611 | I18: Dukine Film Distribution / Paramount Pictures
A19: =IF(B19<>"",ROWS($B$6:B19),"") -> 14 | B19: Super elfai | C19: Super Elfkins | D19: DE | E19: 32412.57 | F19: 6186 | G19: 17 | H19: 45667 | I19: ACME Film
... A70: =IF(B70<>"",ROWS($B$6:B70),"") -> 65 | B70: žeme, stop | C70: stop-zemlia | D70: UA | E70: 100 | F70: 17 | G70: 1 | H70: 44707 | I70: Skalvijos kino centras
E71: =SUBTOTAL(109,Table3[Pajamos]) -> 3315382 | F71: =SUBTOTAL(109,Table3[Žiūrovų skaičius]) -> 481633

Sheet Vasaris
A1: ='2025'!A1 -> 2025
A2: ='2025'!A2 -> Lietuvos kino teatruose rodytų filmų TOP
A3: Vasaris
A5: Eil. Nr. | B5: Filmo pavadinimas | C5: Filmo pavadinimas originalo kalba | D5: Kilmės šalis | E5: Pajamos | F5: Žiūrovų skaičius | G5: Kopijų skaičius | H5: Premjeros data | I5: Platintojas
A6: =IF(B6<>"",ROWS($B$6:B6),"") -> 1 | B6: Pietinia Kronikas | C6: Pietinia Kronikas | D6: LT | E6: 1652806.8 | F6: 215379 | G6: 22 | H6: 45681 | I6: ACME Film
A7: =IF(B7<>"",ROWS($B$6:B7),"") -> 2 | B7: Legendinės legendos. FELICITÀ | C7: Legendinės legendos. FELICITÀ | D7: LT | E7: 353379.12 | F7: 48040 | G7: 14 | H7: 45702 | I7: MB Aistis Mickevičius
A8: =IF(B8<>"",ROWS($B$6:B8),"") -> 3 | B8: Bridžita Džouns. Pakvaišusi dėl vaikino | C8: Bridget Jones: Mad About the Boy | D8: US, UK, FR | E8: 176085.73 | F8: 23824 | G8: 20 | H8: 45702 | I8: Dukine Film Distribution / Universal Pictures
A9: =IF(B9<>"",ROWS($B$6:B9),"") -> 4 | B9: Meškiukas Padingtonas: Nuotykiai Peru | C9: Paddington in Peru | D9: UK, US, JP, FR | E9: 173713.86 | F9: 30551 | G9: 19 | H9: 45681 | I9: ACME Film / SONY
A10: =IF(B10<>"",ROWS($B$6:B10),"") -> 5 | B10: Konklava | C10: Conclave | D10: UK, US | E10: 123775.12 | F10: 18640 | G10: 19 | H10: 45688 | I10: ACME Film
A11: =IF(B11<>"",ROWS($B$6:B11),"") -> 6 | B11: Kapitonas Amerika. Drąsus naujas pasaulis | C11: Captain America: Brave New World | D11: US | E11: 93846.91 | F11: 13949 | G11: 20 | H11: 45702 | I11: Theatrical Film Distribution / WDSMPI
A12: =IF(B12<>"",ROWS($B$6:B12),"") -> 7 | B12: Ežiukas Sonic 3 | C12: Sonic the Hedgehog 3 | D12: US, JP | E12: 79651.68 | F12: 13979 | G12: 17 | H12: 45653 | I12: Dukine Film Distribution / Paramount Pictures
A13: =IF(B13<>"",ROWS($B$6:B13),"") -> 8 | B13: Dogmeno nuotykiai | C13: Dog Man | D13: US, UK | E13: 61381.3 | F13: 11716 | G13: 22 | H13: 45702 | I13: Dukine Film Distribution / Universal Pictures
A14: =IF(B14<>"",ROWS($B$6:B14),"") -> 9 | B14: Gera mergaitė | C14: Babygirl | D14: US | E14: 55935.08 | F14: 7606 | G14: 20 | H14: 45667 | I14: Europos kinas
A15: =IF(B15<>"",ROWS($B$6:B15),"") -> 10 | B15: Agentas Hitpigas | C15: Hitpig | D15: UK | E15: 54598.41 | F15: 10166 | G15: 17 | H15: 45688 | I15: Adastra Cinema
A16: =IF(B16<>"",ROWS($B$6:B16),"") -> 11 | B16: Reemigrantai 2 | C16: Reemigrantai 2 | D16: LT | E16: 43086 | F16: 5761 | G16: – | H16: 45646 | I16: Vabalo filmai
A17: =IF(B17<>"",ROWS($B$6:B17),"") -> 12 | B17: Vajana 2 | C17: Moana 2 | D17: US, CA | E17: 36718.09 | F17: 6292 | G17: 13 | H17: 45625 | I17: Theatrical Film Distribution / WDSMPI
A18: =IF(B18<>"",ROWS($B$6:B18),"") -> 13 | B18: Užburtas miškas | C18: Angelo dans la forêt mystérieuse | D18: FR | E18: 31952.96 | F18: 6120 | G18: 20 | H18: 45709 | I18: Adastra Cinema
A19: =IF(B19<>"",ROWS($B$6:B19),"") -> 14 | B19: Būtybė | C19: Presence | D19: US | E19: 30127.06 | F19: 4349 | G19: 12 | H19: 45695 | I19: ACME Film
A20: =IF(B20<>"",ROWS($B$6:B20),"") -> 15 | B20: Bob Dylan: Visiškai nežinomas | C20: A Complete Unknown | D20: US | E20: 30093.66 | F20: 4521 | G20: 18 | H20: 45695 | I20: Theatrical Film Distribution / WDSMPI
A21: =IF(B21<>"",ROWS($B$6:B21),"") -> 16 | B21: Mufasa. Liūtas karalius | C21: Mufasa: The Lion King | D21: US | E21: 26746.91 | F21: 4345 | G21: 11 | H21: 45646 | I21: Theatrical Film Distribution / WDSMPI
A22: =IF(B22<>"",ROWS($B$6:B22),"") -> 17 | B22: Beždžionė | C22: Monkey | D22: US | E22: 26685.71 | F22: 4121 | G22: 12 | H22: 45709 | I22: ACME Film
A23: =IF(B23<>"",ROWS($B$6:B23),"") -> 18 | B23: Išpuikusi princesė | C23: Proud Princess | D23: CZ | E23: 24895.43 | F23: 4671 | G23: 19 | H23: 45695 | I23: ACME Film
A24: =IF(B24<>"",ROWS($B$6:B24),"") -> 19 | B24: Šventė | C24: Šventė | D24: LT | E24: 23819.33 | F24: 3437 | G24: 6 | H24: 45695 | I24: Lietuvos nacionalinis kultūros centras
A25: =IF(B25<>"",ROWS($B$6:B25),"") -> 20 | B25: Partenopė | C25: Parthenope | D25: IT | E25: 16991.8 | F25: 2465 | G25: 5 | H25: 45653 | I25: A-One Films
A26: =IF(B26<>"",ROWS($B$6:B26),"") -> 21 | B26: Tattoo vaikinai. Tiesiai į širdį | C26: Marked Men | D26: US | E26: 16900 | F26: 2666 | G26: 12 | H26: 45709 | I26: Garsų pasaulio įrašai
A27: =IF(B27<>"",ROWS($B$6:B27),"") -> 22 | B27: Palydovė | C27: Companion | D27: US | E27: 16145.49 | F27: 2320 | G27: 11 | H27: 45688 | I27: ACME Film / WB
A28: =IF(B28<>"",ROWS($B$6:B28),"") -> 23 | B28: Emilija Perez | C28: Emilia Pérez | D28: FR | E28: 12971.2 | F28: 1955 | G28: 16 | H28: 45674 | I28: A-One Films
... A80: =IF(B80<>"",ROWS($B$6:B80),"") -> 75 | B80: Šuniškas procesas | C80: Le Procès du Chien | D80: FR | E80: 3 | F80: 1 | G80: 1 | H80: 45667 | I80: Adastra Cinema
E81: =SUBTOTAL(109,Table3_Vasaris[Pajamos]) -> 3259431.1 | F81: =SUBTOTAL(109,Table3_Vasaris[Žiūrovų skaičius]) -> 463623

Sheet Kovas
A1: ='2025'!A1 -> 2025
A2: ='2025'!A2 -> Lietuvos kino teatruose rodytų filmų TOP
A3: Kovas
A5: Eil. Nr. | B5: Filmo pavadinimas | C5: Filmo pavadinimas originalo kalba | D5: Kilmės šalis | E5: Pajamos | F5: Žiūrovų skaičius | G5: Kopijų skaičius | H5: Premjeros data | I5: Platintojas
A6: =IF(B6<>"",ROWS($B$6:B6),"") -> 1 | B6: Pietinia Kronikas | C6: Pietinia Kronikas | D6: LT | E6: 496310.12 | F6: 62499 | G6: 23 | H6: 45681 | I6: ACME Film
A7: =IF(B7<>"",ROWS($B$6:B7),"") -> 2 | B7: Legendinės legendos. FELICITÀ | C7: Legendinės legendos. FELICITÀ | D7: LT | E7: 113517.99 | F7: 17487 | G7: 10 | H7: 45702 | I7: MB Aistis Mickevičius
A8: =IF(B8<>"",ROWS($B$6:B8),"") -> 3 | B8: Mikis 17 | C8: Mickey 17 | D8: US | E8: 112296.69 | F8: 15614 | G8: 19 | H8: 45723 | I8: ACME Film / WB
A9: =IF(B9<>"",ROWS($B$6:B9),"") -> 4 | B9: Potvynis | C9: Flow | D9: LV, BE, FR | E9: 104520.39 | F9: 16512 | G9: 29 | H9: 45744 | I9: Europos kinas
A10: =IF(B10<>"",ROWS($B$6:B10),"") -> 5 | B10: Meškiukas Padingtonas: Nuotykiai Peru | C10: Paddington in Peru | D10: UK, US, JP, FR | E10: 80451.06 | F10: 14021 | G10: 14 | H10: 45681 | I10: ACME Film / SONY
A11: =IF(B11<>"",ROWS($B$6:B11),"") -> 6 | B11: Akiplėša | C11: Akiplėša | D11: LT | E11: 72120.93 | F11: 11554 | G11: 23 | H11: 45740 | I11: Europos kinas
A12: =IF(B12<>"",ROWS($B$6:B12),"") -> 7 | B12: Bridžita Džouns. Pakvaišusi dėl vaikino | C12: Bridget Jones: Mad About the Boy | D12: US, UK, FR | E12: 54819.71 | F12: 7718 | G12: 16 | H12: 45702 | I12: Dukine Film Distribution / Universal Pictures
A13: =IF(B13<>"",ROWS($B$6:B13),"") -> 8 | B13: Užburtas miškas | C13: Angelo dans la forêt mystérieuse | D13: FR | E13: 49843.4 | F13: 9572 | G13: 19 | H13: 45709 | I13: Adastra Cinema
A14: =IF(B14<>"",ROWS($B$6:B14),"") -> 9 | B14: Miškų bastūnai | C14: Woodwalkers | D14: DE | E14: 46385 | F14: 8354 | G14: 15 | H14: 45723 | I14: Garsų pasaulio įrašai
A15: =IF(B15<>"",ROWS($B$6:B15),"") -> 10 | B15: Konklava | C15: Conclave | D15: UK, US | E15: 43912.25 | F15: 6738 | G15: 14 | H15: 45688 | I15: ACME Film
A16: =IF(B16<>"",ROWS($B$6:B16),"") -> 11 | B16: Darbininkas | C16: Working Man | D16: US | E16: 33325.5 | F16: 4462 | G16: 12 | H16: 45744 | I16: ACME Film
A17: =IF(B17<>"",ROWS($B$6:B17),"") -> 12 | B17: Marija Kalas | C17: Maria | D17: CL, IT, DE, US | E17: 32787.86 | F17: 5010 | G17: 19 | H17: 45744 | I17: ACME Film
... A99: =IF(B99<>"",ROWS($B$6:B99),"") -> 94 | B99: Super elfai | C99: Super Elfkins | D99: DE | E99: 22.98 | F99: 4 | G99: 1 | H99: 45667 | I99: ACME Film
E100: =SUBTOTAL(109,Table3_Vasaris5[Pajamos]) -> 1539696.6 | F100: =SUBTOTAL(109,Table3_Vasaris5[Žiūrovų skaičius]) -> 230105

Sheet Balandis
A1: ='2025'!A1 -> 2025
A2: ='2025'!A2 -> Lietuvos kino teatruose rodytų filmų TOP
A3: Balandis
A5: Eil. Nr. | B5: Filmo pavadinimas | C5: Filmo pavadinimas originalo kalba | D5: Kilmės šalis | E5: Pajamos | F5: Žiūrovų skaičius | G5: Kopijų skaičius | H5: Premjeros data | I5: Platintojas
A6: =IF(B6<>"",ROWS($B$6:B6),"") -> 1 | B6: Minecraft filmas | C6: A Minecraft Movie | D6: US | E6: 1046336.2 | F6: 162954 | G6: 19 | H6: 45751 | I6: ACME Film / WB
A7: =IF(B7<>"",ROWS($B$6:B7),"") -> 2 | B7: Potvynis | C7: Flow | D7: LV, BE, FR | E7: 193084.5 | F7: 32982 | G7: 24 | H7: 45744 | I7: Europos kinas
A8: =IF(B8<>"",ROWS($B$6:B8),"") -> 3 | B8: Pietinia Kronikas | C8: Pietinia Kronikas | D8: LT | E8: 127434.82 | F8: 18122 | G8: 20 | H8: 45681 | I8: ACME Film
A9: =IF(B9<>"",ROWS($B$6:B9),"") -> 4 | B9: Akiplėša | C9: Akiplėša | D9: LT | E9: 106332.1 | F9: 16071 | G9: 22 | H9: 45740 | I9: Europos kinas
A10: =IF(B10<>"",ROWS($B$6:B10),"") -> 5 | B10: Diletantas | C10: The Amateur | D10: US | E10: 54234.77 | F10: 8177 | G10: 15 | H10: 45758 | I10: Theatrical Film Distribution / WDSMPI
A11: =IF(B11<>"",ROWS($B$6:B11),"") -> 6 | B11: Marija Kalas | C11: Maria | D11: CL, IT, DE, US | E11: 53311.31 | F11: 8827 | G11: 20 | H11: 45744 | I11: ACME Film
A12: =IF(B12<>"",ROWS($B$6:B12),"") -> 7 | B12: Nusidėjėliai | C12: Sinners | D12: US | E12: 43979.54 | F12: 6421 | G12: 14 | H12: 45765 | I12: ACME Film / WB
A13: =IF(B13<>"",ROWS($B$6:B13),"") -> 8 | B13: Darbininkas | C13: Working Man | D13: US | E13: 43051.21 | F13: 5844 | G13: 12 | H13: 45744 | I13: ACME Film
A14: =IF(B14<>"",ROWS($B$6:B14),"") -> 9 | B14: Iki aušros | C14: Until Dawn | D14: US | E14: 39721.7 | F14: 6129 | G14: 13 | H14: 45772 | I14: ACME Film / SONY
A15: =IF(B15<>"",ROWS($B$6:B15),"") -> 10 | B15: Panda vardu Mėnulis | C15: Moon the Panda | D15: FR | E15: 33213.42 | F15: 6456 | G15: 19 | H15: 45765 | I15: ACME Film
A16: =IF(B16<>"",ROWS($B$6:B16),"") -> 11 | B16: Brutalistas | C16: The Brutalist | D16: US | E16: 27299.53 | F16: 4089 | G16: 20 | H16: 45751 | I16: Dukine Film Distribution / Universal Pictures
A17: =IF(B17<>"",ROWS($B$6:B17),"") -> 12 | B17: Sąskaitininas 2 | C17: Accountant 2 | D17: US | E17: 26305.88 | F17: 3710 | G17: 15 | H17: 45772 | I17: ACME Film / WB
... A36: =IF(B36<>"",ROWS($B$6:B36),"") -> 31 | B36: Povas | C36: Phau | D36: AT, DE | E36: 2621.48 | F36: 340 | G36: 10 | H36: 45740 | I36: Europos kinas
A37: =IF(B37<>"",ROWS($B$6:B37),"") -> 32 | B37: Plastikiniai pistoletai | C37: Les pistolets en plastique | D37: FR | E37: 2252.8 | F37: 445 | G37: – | H37: 45765 | I37: A-One Films
A38: =IF(B38<>"",ROWS($B$6:B38),"") -> 33 | B38: Niki | C38: Niki | D38: FR | E38: 2004.05 | F38: 435 | G38: 6 | H38: 45751 | I38: Best Film
A39: =IF(B39<>"",ROWS($B$6:B39),"") -> 34 | B39: Fanfaros | C39: En Fanfare | D39: FR | E39: 1903.22 | F39: 309 | G39: 13 | H39: 45740 | I39: Europos kinas
A40: =IF(B40<>"",ROWS($B$6:B40),"") -> 35 | B40: Žvaigždės pranašauja | C40: Wishing on a Star | D40: IT, SK, CZ, AT, HR | E40: 1582.16 | F40: 196 | G40: 5 | H40: 45740 | I40: Europos kinas
A41: =IF(B41<>"",ROWS($B$6:B41),"") -> 36 | B41: Ežiukas Sonic 3 | C41: Sonic the Hedgehog 3 | D41: US, JP | E41: 1370.29 | F41: 258 | G41: 8 | H41: 45653 | I41: Dukine Film Distribution / Paramount Pictures
A42: =IF(B42<>"",ROWS($B$6:B42),"") -> 37 | B42: Trys draugės | C42: Trois Amies | D42: FR | E42: 1249.32 | F42: 176 | G42: 9 | H42: 45740 | I42: Europos kinas
A43: =IF(B43<>"",ROWS($B$6:B43),"") -> 38 | B43: Verti meilės | C43: Elskling | D43: NO | E43: 1205.5 | F43: 263 | G43: 4 | H43: 45709 | I43: Estinfilm
A44: =IF(B44<>"",ROWS($B$6:B44),"") -> 39 | B44: Vermiljas | C44: Vermiglio | D44: IT | E44: 1134.2 | F44: 177 | G44: 12 | H44: 45740 | I44: Europos kinas
A45: =IF(B45<>"",ROWS($B$6:B45),"") -> 40 | B45: Sing Singo kalėjimas | C45: Sing Sing | D45: US | E45: 1126.78 | F45: 184 | G45: 16 | H45: 45744 | I45: ACME Film
A46: =IF(B46<>"",ROWS($B$6:B46),"") -> 41 | B46: Visa, kas tu esi | C46: Alle die Du bist | D46: DE | E46: 1077.7 | F46: 212 | G46: – | H46: 45772 | I46: A-One Films
A47: =IF(B47<>"",ROWS($B$6:B47),"") -> 42 | B47: Partenopė | C47: Parthenope | D47: IT | E47: 971 | F47: 250 | G47: – | H47: 45653 | I47: A-One Films
A48: =IF(B48<>"",ROWS($B$6:B48),"") -> 43 | B48: Šventosios figos sėkla | C48: Dane-ye anjir-e ma'abed | D48: IR | E48: 930.1 | F48: 154 | G48: 5 | H48: 45740 | I48: Europos kinas
A49: =IF(B49<>"",ROWS($B$6:B49),"") -> 44 | B49: Beždžionė | C49: Monkey | D49: US | E49: 886.9 | F49: 114 | G49: 1 | H49: 45709 | I49: ACME Film
A50: =IF(B50<>"",ROWS($B$6:B50),"") -> 45 | B50: Katinas vaiduoklis Andzu | C50: Ghost Cat Anzu | D50: JP, FR | E50: 861.09 | F50: 143 | G50: 9 | H50: 45740 | I50: Europos kinas
A51: =IF(B51<>"",ROWS($B$6:B51),"") -> 46 | B51: Novokainas | C51: Novocaine | D51: US | E51: 710.16 | F51: 120 | G51: 8 | H51: 45737 | I51: Dukine Film Distribution / Paramount Pictures
A52: =IF(B52<>"",ROWS($B$6:B52),"") -> 47 | B52: Pont Neuf meilužiai | C52: Les Amants du Pont-Neuf | D52: FR | E52: 652.25 | F52: 92 | G52: 4 | H52: 45740 | I52: Europos kinas
A53: =IF(B53<>"",ROWS($B$6:B53),"") -> 48 | B53: Žokėjus | C53: El Jockey | D53: AR | E53: 615.7 | F53: 81 | G53: 5 | H53: 45740 | I53: Europos kinas
A54: =IF(B54<>"",ROWS($B$6:B54),"") -> 49 | B54: Balkonetės | C54: Les femmes au balcon | D54: FR | E54: 592 | F54: 115 | G54: – | H54: 45702 | I54: A-One Films
A55: =IF(B55<>"",ROWS($B$6:B55),"") -> 50 | B55: Ozi. Miško balsas | C55: Ozi: Voice Of The Forest | D55: UK, FR, US, CN | E55: 517.48 | F55: 151 | G55: 3 | H55: 45541 | I55: Adastra Cinema
A56: =IF(B56<>"",ROWS($B$6:B56),"") -> 51 | B56: Larsas yra LOL | C56: Lars er LOL | D56: NO | E56: 513 | F56: 124 | G56: 1 | H56: 45592 | I56: Skalvijos kino centras
A57: =IF(B57<>"",ROWS($B$6:B57),"") -> 52 | B57: Armandas | C57: Armand | D57: NO | E57: 497.35 | F57: 77 | G57: 9 | H57: 45740 | I57: Europos kinas
A58: =IF(B58<>"",ROWS($B$6:B58),"") -> 53 | B58: Didieji planetos sergėtojai | C58: Les gardiennes de la planete | D58: FR | E58: 474 | F58: 137 | G58: 1 | H58: 45233 | I58: Estinfilm
A59: =IF(B59<>"",ROWS($B$6:B59),"") -> 54 | B59: Vajana 2 | C59: Moana 2 | D59: US, CA | E59: 463.07 | F59: 84 | G59: 4 | H59: 45625 | I59: Theatrical Film Distribution / WDSMPI
A60: =IF(B60<>"",ROWS($B$6:B60),"") -> 55 | B60: Drugelio Širdis | C60: Drugelio Širdis | D60: LT | E60: 395.4 | F60: 95 | G60: 3 | H60: 44659 | I60: ACME Film
A61: =IF(B61<>"",ROWS($B$6:B61),"") -> 56 | B61: Apverstas bokštas | C61: Tagurpidi torn | D61: LV, EE | E61: 370 | F61: 111 | G61: 1 | H61: 44807 | I61: Skalvijos kino centras
A62: =IF(B62<>"",ROWS($B$6:B62),"") -> 57 | B62: Šuo kuris keliavo traukiniu | C62: Lampo The Travelling Dog | D62: PL | E62: 360 | F62: 90 | G62: 1 | H62: 45583 | I62: ACME Film
A63: =IF(B63<>"",ROWS($B$6:B63),"") -> 58 | B63: Chimera | C63: La Chimera | D63: IT | E63: 326 | F63: 113 | G63: – | H63: 45401 | I63: A-One Films
A64: =IF(B64<>"",ROWS($B$6:B64),"") -> 59 | B64: Skyrybų vakarėlis | C64: Volveréis | D64: ES | E64: 316.8 | F64: 58 | G64: 5 | H64: 45740 | I64: Europos kinas
A65: =IF(B65<>"",ROWS($B$6:B65),"") -> 60 | B65: Gauja | C65: Smecka | D65: CZ, SK, LV | E65: 314 | F65: 72 | G65: 1 | H65: 44302 | I65: Skalvijos kino centras
A66: =IF(B66<>"",ROWS($B$6:B66),"") -> 61 | B66: Paukštis | C66: Bird | D66: UK, US, FR, DE | E66: 284.6 | F66: 47 | G66: 3 | H66: 45740 | I66: Europos kinas
A67: =IF(B67<>"",ROWS($B$6:B67),"") -> 62 | B67: Laukinės širdys | C67: Ukjent Landskap | D67: NO | E67: 255.65 | F67: 44 | G67: 7 | H67: 45740 | I67: Europos kinas
A68: =IF(B68<>"",ROWS($B$6:B68),"") -> 63 | B68: Bridžita Džouns. Pakvaišusi dėl vaikino | C68: Bridget Jones: Mad About the Boy | D68: US, UK, FR | E68: 237 | F68: 41 | G68: 3 | H68: 45702 | I68: Dukine Film Distribution / Universal Pictures
A69: =IF(B69<>"",ROWS($B$6:B69),"") -> 64 | B69: Taip įsivaizduojame šviesą | C69: All We Imagine as Light | D69: FR, IN, NL, LU | E69: 223.5 | F69: 34 | G69: 6 | H69: 45740 | I69: Europos kinas
A70: =IF(B70<>"",ROWS($B$6:B70),"") -> 65 | B70: Suleimano istorija | C70: L´Histoire de Souleymane | D70: FR | E70: 200.9 | F70: 34 | G70: 3 | H70: 45740 | I70: Europos kinas
A71: =IF(B71<>"",ROWS($B$6:B71),"") -> 66 | B71: Queer | C71: Queer | D71: US, IT | E71: 192.5 | F71: 29 | G71: 4 | H71: 45740 | I71: Europos kinas
A72: =IF(B72<>"",ROWS($B$6:B72),"") -> 67 | B72: Tylieji | C72: De lydløse | D72: DK | E72: 174.4 | F72: 30 | G72: 5 | H72: 45740 | I72: Europos kinas
A73: =IF(B73<>"",ROWS($B$6:B73),"") -> 68 | B73: Agentas Hitpigas | C73: Hitpig | D73: UK | E73: 152 | F73: 32 | G73: 3 | H73: 45688 | I73: Adastra Cinema
A74: =IF(B74<>"",ROWS($B$6:B74),"") -> 69 | B74: Duokis, tuokis, žudyk | C74: F*** Marry Kill | D74: US, CA | E74: 128.2 | F74: 17 | G74: 2 | H74: 45730 | I74: ACME Film
A75: =IF(B75<>"",ROWS($B$6:B75),"") -> 70 | B75: Bjaurusis aš 4 | C75: Despicable Me 4 | D75: US | E75: 110.1 | F75: 18 | G75: 1 | H75: 45478 | I75: Dukine Film Distribution / Universal Pictures
... A84: =IF(B84<>"",ROWS($B$6:B84),"") -> 79 | B84: Žiuli vis tyli | C84: Julie Zwijgt | D84: BE | E84: 8.5 | F84: 2 | G84: 1 | H84: 45740 | I84: Europos kinas
E85: =SUBTOTAL(109,Table3_Balandis[Pajamos]) -> 1976910.5 | F85: =SUBTOTAL(109,Table3_Balandis[Žiūrovų skaičius]) -> 312047

Sheet Gegužė
A1: ='2025'!A1 -> 2025
A2: ='2025'!A2 -> Lietuvos kino teatruose rodytų filmų TOP
A3: Gegužė
A5: Eil. Nr. | B5: Filmo pavadinimas | C5: Filmo pavadinimas originalo kalba | D5: Kilmės šalis | E5: Pajamos | F5: Žiūrovų skaičius | G5: Kopijų skaičius | H5: Premjeros data | I5: Platintojas
A6: =IF(B6<>"",ROWS($B$6:B6),"") -> 1 | B6: Lilo ir Stičas | C6: Lilo & Stitch | D6: US | E6: 226801.64 | F6: 39927 | G6: 31 | H6: 45800 | I6: Theatrical Film Distribution / WDSMPI
A7: =IF(B7<>"",ROWS($B$6:B7),"") -> 2 | B7: Minecraft filmas | C7: A Minecraft Movie | D7: US | E7: 176782.09 | F7: 30052 | G7: 17 | H7: 45751 | I7: ACME Film / WB
A8: =IF(B8<>"",ROWS($B$6:B8),"") -> 3 | B8: Thunderbolts* | C8: Thunderbolts* | D8: US | E8: 139899.7 | F8: 18404 | G8: 20 | H8: 45779 | I8: Theatrical Film Distribution / WDSMPI
A9: =IF(B9<>"",ROWS($B$6:B9),"") -> 4 | B9: Neįmanoma misija. Galutinis atpildas | C9: Mission: Impossible - The Final Reckoning | D9: US | E9: 127531.99 | F9: 17354 | G9: 23 | H9: 45800 | I9: Dukine Film Distribution / Paramount Pictures
A10: =IF(B10<>"",ROWS($B$6:B10),"") -> 5 | B10: Galutinis tikslas. Kraujo linija | C10: Final Destination. Bloodlines | D10: US | E10: 100356.58 | F10: 13829 | G10: 16 | H10: 45793 | I10: ACME Film / WB
A11: =IF(B11<>"",ROWS($B$6:B11),"") -> 6 | B11: Potvynis | C11: Flow | D11: LV, BE, FR | E11: 61226.08 | F11: 10560 | G11: 18 | H11: 45744 | I11: Europos kinas
A12: =IF(B12<>"",ROWS($B$6:B12),"") -> 7 | B12: Pietinia Kronikas | C12: Pietinia Kronikas | D12: LT | E12: 49244.47 | F12: 7207 | G12: 18 | H12: 45681 | I12: ACME Film
A13: =IF(B13<>"",ROWS($B$6:B13),"") -> 8 | B13: Iki aušros | C13: Until Dawn | D13: US | E13: 43047.54 | F13: 6176 | G13: 13 | H13: 45772 | I13: ACME Film / SONY
A14: =IF(B14<>"",ROWS($B$6:B14),"") -> 9 | B14: Nusidėjėliai | C14: Sinners | D14: US | E14: 36920.79 | F14: 5338 | G14: 10 | H14: 45765 | I14: ACME Film / WB
A15: =IF(B15<>"",ROWS($B$6:B15),"") -> 10 | B15: Beprotiškos melodijos. Pliuškis ir Porkis gelbėja pasaulį | C15: The Day The Earth Blew Up: A Looney Tunes Movie | D15: US | E15: 35581 | F15: 6811 | G15: 1 | H15: 45779 | I15: Garsų pasaulio įrašai
A16: =IF(B16<>"",ROWS($B$6:B16),"") -> 11 | B16: Klounas kukurūzų lauke | C16: Clown in a Cornfield | D16: US | E16: 35342.74 | F16: 5178 | G16: 14 | H16: 45786 | I16: ACME Film
A17: =IF(B17<>"",ROWS($B$6:B17),"") -> 12 | B17: Konklava | C17: Conclave | D17: UK, US | E17: 30925.57 | F17: 4428 | G17: 12 | H17: 45688 | I17: ACME Film
... A33: =IF(B33<>"",ROWS($B$6:B33),"") -> 28 | B33: Velnio ritualas | C33: The Ritual | D33: US | E33: 6112.66 | F33: 822 | G33: 15 | H33: 45807 | I33: Adastra Cinema
A34: =IF(B34<>"",ROWS($B$6:B34),"") -> 29 | B34: Motelis Destino | C34: Motel Destino | D34: BR | E34: 5299.5 | F34: 874 | G34: – | H34: 45793 | I34: A-One Films
A35: =IF(B35<>"",ROWS($B$6:B35),"") -> 30 | B35: Narsioji Kajara | C35: Kayara | D35: PE, ES | E35: 4596.26 | F35: 1025 | G35: 17 | H35: 45807 | I35: Adastra Cinema
A36: =IF(B36<>"",ROWS($B$6:B36),"") -> 31 | B36: Džiunė ir Džonas | C36: June and John | D36: FR | E36: 4150.97 | F36: 672 | G36: 14 | H36: 45779 | I36: Adastra Cinema
A37: =IF(B37<>"",ROWS($B$6:B37),"") -> 32 | B37: Legenda apie Očį | C37: The Legend of Ochi | D37: US | E37: 3992.19 | F37: 676 | G37: 18 | H37: 45772 | I37: Adastra Cinema
A38: =IF(B38<>"",ROWS($B$6:B38),"") -> 33 | B38: Vienaragio mirtis | C38: Death of a Unicorn | D38: US, HU | E38: 3179.05 | F38: 478 | G38: 14 | H38: 45786 | I38: Adastra Cinema
A39: =IF(B39<>"",ROWS($B$6:B39),"") -> 34 | B39: Sing Singo kalėjimas | C39: Sing Sing | D39: US | E39: 2243.98 | F39: 272 | G39: 2 | H39: 45744 | I39: ACME Film
A40: =IF(B40<>"",ROWS($B$6:B40),"") -> 35 | B40: Plastikiniai pistoletai | C40: Les pistolets en plastique | D40: FR | E40: 2159 | F40: 470 | G40: – | H40: 45765 | I40: A-One Films
A41: =IF(B41<>"",ROWS($B$6:B41),"") -> 36 | B41: Brutalistas | C41: The Brutalist | D41: US | E41: 1903.44 | F41: 363 | G41: 5 | H41: 45751 | I41: Dukine Film Distribution / Universal Pictures
A42: =IF(B42<>"",ROWS($B$6:B42),"") -> 37 | B42: Meilė pagal Kafką | C42: Die Herrlichkeit des Lebens | D42: AT, DE | E42: 1758 | F42: 368 | G42: 2 | H42: 45688 | I42: Estinfilm
A43: =IF(B43<>"",ROWS($B$6:B43),"") -> 38 | B43: Sacrum ir profanum Pievėnuose | C43: Sacrum ir profanum Pievėnuose | D43: LT, LV | E43: 1750.8 | F43: 299 | G43: 5 | H43: 45758 | I43: Monoklis
A44: =IF(B44<>"",ROWS($B$6:B44),"") -> 39 | B44: Baltoji paukštė | C44: White Bird a Wonder Story | D44: US | E44: 1524.12 | F44: 390 | G44: 3 | H44: 45359 | I44: ACME Film
A45: =IF(B45<>"",ROWS($B$6:B45),"") -> 40 | B45: Larsas yra LOL | C45: Lars er LOL | D45: NO | E45: 1514 | F45: 333 | G45: 1 | H45: 45592 | I45: Skalvijos kino centras
A46: =IF(B46<>"",ROWS($B$6:B46),"") -> 41 | B46: Povas | C46: Phau | D46: AT, DE | E46: 1398.35 | F46: 173 | G46: 3 | H46: 45740 | I46: Europos kinas
A47: =IF(B47<>"",ROWS($B$6:B47),"") -> 42 | B47: Barbora. Laikas nuotykiams | C47: Basia. Radzę sobie! | D47: LT, PL | E47: 1371 | F47: 311 | G47: 2 | H47: 45712 | I47: Art shot
A48: =IF(B48<>"",ROWS($B$6:B48),"") -> 43 | B48: Atmintis | C48: Memory | D48: US | E48: 1350 | F48: 450 | G48: – | H48: 45597 | I48: A-One Films
A49: =IF(B49<>"",ROWS($B$6:B49),"") -> 44 | B49: Niki | C49: Niki | D49: FR | E49: 1308.99 | F49: 342 | G49: 4 | H49: 45751 | I49: Best Film
A50: =IF(B50<>"",ROWS($B$6:B50),"") -> 45 | B50: Verti meilės | C50: Elskling | D50: NO | E50: 1179.2 | F50: 206 | G50: 2 | H50: 45709 | I50: Estinfilm
A51: =IF(B51<>"",ROWS($B$6:B51),"") -> 46 | B51: Trys draugės | C51: Trois Amies | D51: FR | E51: 1142.21 | F51: 155 | G51: 3 | H51: 45740 | I51: Europos kinas
A52: =IF(B52<>"",ROWS($B$6:B52),"") -> 47 | B52: Užburtas miškas | C52: Angelo dans la forêt mystérieuse | D52: FR | E52: 1130.7 | F52: 222 | G52: 4 | H52: 45709 | I52: Adastra Cinema
A53: =IF(B53<>"",ROWS($B$6:B53),"") -> 48 | B53: Drugelio Širdis | C53: Drugelio Širdis | D53: LT | E53: 1051.92 | F53: 252 | G53: 4 | H53: 44659 | I53: ACME Film
A54: =IF(B54<>"",ROWS($B$6:B54),"") -> 49 | B54: Mano ypatingas sūnus | C54: Unbreakable boy | D54: US | E54: 937.64 | F54: 235 | G54: 7 | H54: 45758 | I54: ACME Film
A55: =IF(B55<>"",ROWS($B$6:B55),"") -> 50 | B55: Drop | C55: Drop | D55: US | E55: 849.96 | F55: 122 | G55: 5 | H55: 45765 | I55: Dukine Film Distribution / Universal Pictures
A56: =IF(B56<>"",ROWS($B$6:B56),"") -> 51 | B56: Visa, kas tu esi | C56: Alle die Du bist | D56: DE | E56: 781 | F56: 174 | G56: – | H56: 45772 | I56: A-One Films
A57: =IF(B57<>"",ROWS($B$6:B57),"") -> 52 | B57: Suleimano istorija | C57: L´Histoire de Souleymane | D57: FR | E57: 773 | F57: 182 | G57: 1 | H57: 45740 | I57: Europos kinas
A58: =IF(B58<>"",ROWS($B$6:B58),"") -> 53 | B58: Meškiukas Padingtonas: Nuotykiai Peru | C58: Paddington in Peru | D58: UK, US, JP, FR | E58: 771.25 | F58: 176 | G58: 3 | H58: 45681 | I58: ACME Film / SONY
A59: =IF(B59<>"",ROWS($B$6:B59),"") -> 54 | B59: Žvaigždės pranašauja | C59: Wishing on a Star | D59: IT, SK, CZ, AT, HR | E59: 752.66 | F59: 86 | G59: 2 | H59: 45740 | I59: Europos kinas
A60: =IF(B60<>"",ROWS($B$6:B60),"") -> 55 | B60: Ema ir juodasis jaguaras | C60: Le Dernier Jaguar | D60: FR, DE, CA | E60: 670.9 | F60: 197 | G60: 2 | H60: 45331 | I60: ACME Film
A61: =IF(B61<>"",ROWS($B$6:B61),"") -> 56 | B61: Šokių karalienė | C61: Dancing Queen | D61: NO | E61: 630 | F61: 105 | G61: 1 | H61: 45317 | I61: Estinfilm
A62: =IF(B62<>"",ROWS($B$6:B62),"") -> 57 | B62: Johatsu | C62: Johatsu | D62: LT | E62: 472.4 | F62: 64 | G62: 3 | H62: 45758 | I62: Europos kinas
A63: =IF(B63<>"",ROWS($B$6:B63),"") -> 58 | B63: Ozi. Miško balsas | C63: Ozi: Voice Of The Forest | D63: UK, FR, JAV, CN | E63: 454.46 | F63: 124 | G63: 2 | H63: 45541 | I63: Adastra Cinema
A64: =IF(B64<>"",ROWS($B$6:B64),"") -> 59 | B64: Apverstas bokštas | C64: Tagurpidi torn | D64: LV, EE | E64: 420 | F64: 68 | G64: 1 | H64: 44807 | I64: Skalvijos kino centras
A65: =IF(B65<>"",ROWS($B$6:B65),"") -> 60 | B65: Aš esu Zlatanas | C65: Jag är Zlatan | D65: SE | E65: 324 | F65: 77 | G65: 1 | H65: 44673 | I65: Estinfilm
A66: =IF(B66<>"",ROWS($B$6:B66),"") -> 61 | B66: Vištienos Lindai! | C66: Linda veut du poulet! | D66: FR, IT | E66: 320 | F66: 80 | G66: 1 | H66: 45564 | I66: Skalvijos kino centras
A67: =IF(B67<>"",ROWS($B$6:B67),"") -> 62 | B67: Šuo kuris keliavo traukiniu | C67: Lampo The Travelling Dog | D67: PL | E67: 304 | F67: 76 | G67: 1 | H67: 45583 | I67: ACME Film
A68: =IF(B68<>"",ROWS($B$6:B68),"") -> 63 | B68: Poetas | C68: Poetas | D68: LT | E68: 225 | F68: 50 | G68: 2 | H68: 44974 | I68: ACME Film
A69: =IF(B69<>"",ROWS($B$6:B69),"") -> 64 | B69: Kai ateina ruduo | C69: When Fall Is Coming | D69: FR | E69: 221 | F69: 42 | G69: – | H69: 45618 | I69: A-One Films
A70: =IF(B70<>"",ROWS($B$6:B70),"") -> 65 | B70: Mikis 17 | C70: Mickey 17 | D70: US | E70: 201 | F70: 27 | G70: 1 | H70: 45723 | I70: ACME Film / WB
A71: =IF(B71<>"",ROWS($B$6:B71),"") -> 66 | B71: Svajonių atostogos | C71: The Holdovers | D71: US | E71: 200 | F71: 40 | G71: 1 | H71: 45401 | I71: Dukine Film Distribution / Universal Pictures
A72: =IF(B72<>"",ROWS($B$6:B72),"") -> 67 | B72: Aistrų virtuvė | C72: La Cocina | D72: US, MX | E72: 181.5 | F72: 45 | G72: 1 | H72: 45660 | I72: ACME Film
A73: =IF(B73<>"",ROWS($B$6:B73),"") -> 68 | B73: Gurmaniška aistra | C73: Pot au Feu de Dodin Bouffant | D73: FR | E73: 181.5 | F73: 36 | G73: 1 | H73: 45254 | I73: ACME Film
A74: =IF(B74<>"",ROWS($B$6:B74),"") -> 69 | B74: Taip įsivaizduojame šviesą | C74: All We Imagine as Light | D74: FR, IN, NL, LU | E74: 178.8 | F74: 31 | G74: 1 | H74: 45740 | I74: Europos kinas
A75: =IF(B75<>"",ROWS($B$6:B75),"") -> 70 | B75: Vermiljas | C75: Vermiglio | D75: IT | E75: 176.8 | F75: 34 | G75: 2 | H75: 45740 | I75: Europos kinas
A76: =IF(B76<>"",ROWS($B$6:B76),"") -> 71 | B76: Mylimiausias mano pyragas | C76: Keyke mahboobe man | D76: IR, FR, SE, DE | E76: 165 | F76: 33 | G76: 1 | H76: 45639 | I76: Europos kinas
A77: =IF(B77<>"",ROWS($B$6:B77),"") -> 72 | B77: Interesų zona | C77: The Zone of Interest | D77: UK, US, PL | E77: 148 | F77: 37 | G77: 1 | H77: 45379 | I77: Europos kinas
A78: =IF(B78<>"",ROWS($B$6:B78),"") -> 73 | B78: Žokėjus | C78: El Jockey | D78: AR | E78: 140.95 | F78: 20 | G78: 2 | H78: 45740 | I78: Europos kinas
A79: =IF(B79<>"",ROWS($B$6:B79),"") -> 74 | B79: Armandas | C79: Armand | D79: NO | E79: 139 | F79: 28 | G79: 1 | H79: 45740 | I79: Europos kinas
A80: =IF(B80<>"",ROWS($B$6:B80),"") -> 75 | B80: Katinas vaiduoklis Andzu | C80: Ghost Cat Anzu | D80: JP, FR | E80: 108 | F80: 27 | G80: 2 | H80: 45740 | I80: Europos kinas
A81: =IF(B81<>"",ROWS($B$6:B81),"") -> 76 | B81: Lenos jūra | C81: Zeevonk | D81: BE, NL | E81: 96 | F81: 24 | G81: 1 | H81: 45214 | I81: Skalvijos kino centras
... A94: =IF(B94<>"",ROWS($B$6:B94),"") -> 89 | B94: Laisvės garsas | C94: Sound of Freedom | D94: US | E94: 5.37 | F94: 1 | G94: 1 | H94: 45156 | I94: Theatrical Film Distribution
E95: =SUBTOTAL(109,Table3_Gegužė[Pajamos]) -> 1321822.7 | F95: =SUBTOTAL(109,Table3_Gegužė[Žiūrovų skaičius]) -> 211332

Sheet Birželis
A1: ='2025'!A1 -> 2025
A2: ='2025'!A2 -> Lietuvos kino teatruose rodytų filmų TOP
A3: Birželis
A5: Eil. Nr. | B5: Filmo pavadinimas | C5: Filmo pavadinimas originalo kalba | D5: Kilmės šalis | E5: Pajamos | F5: Žiūrovų skaičius | G5: Kopijų skaičius | H5: Premjeros data | I5: Platintojas
A6: =IF(B6<>"",ROWS($B$6:B6),"") -> 1 | B6: Lilo ir Stičas | C6: Lilo & Stitch | D6: US | E6: 332952.43 | F6: 60954 | G6: 28 | H6: 45800 | I6: Theatrical Film Distribution / WDSMPI
A7: =IF(B7<>"",ROWS($B$6:B7),"") -> 2 | B7: Kaip prisijaukinti slibiną | C7: How To Train Your Dragon | D7: US | E7: 303765.55 | F7: 51450 | G7: 35 | H7: 45821 | I7: Dukine Film Distribution / Universal Pictures
A8: =IF(B8<>"",ROWS($B$6:B8),"") -> 3 | B8: F1 | C8: F1 | D8: US | E8: 174863.02 | F8: 22461 | G8: 18 | H8: 45835 | I8: ACME Film / WB
A9: =IF(B9<>"",ROWS($B$6:B9),"") -> 4 | B9: 28 metai po | C9: 28 Years Later | D9: UK | E9: 137047.29 | F9: 18924 | G9: 16 | H9: 45828 | I9: ACME Film / SONY
A10: =IF(B10<>"",ROWS($B$6:B10),"") -> 5 | B10: Balerina | C10: Ballerina | D10: US | E10: 114732.77 | F10: 15394 | G10: 15 | H10: 45814 | I10: ACME Film
A11: =IF(B11<>"",ROWS($B$6:B11),"") -> 6 | B11: Neįmanoma misija. Galutinis atpildas | C11: Mission: Impossible - The Final Reckoning | D11: US | E11: 101010.09 | F11: 14856 | G11: 20 | H11: 45800 | I11: Dukine Film Distribution / Paramount Pictures
A12: =IF(B12<>"",ROWS($B$6:B12),"") -> 7 | B12: Elio | C12: Elio | D12: US | E12: 41103.86 | F12: 7613 | G12: 24 | H12: 45835 | I12: Theatrical Film Distribution / WDSMPI
A13: =IF(B13<>"",ROWS($B$6:B13),"") -> 8 | B13: Finikiečių schema | C13: The Phoenician Scheme | D13: US | E13: 36269.65 | F13: 5773 | G13: 19 | H13: 45807 | I13: Dukine Film Distribution / Universal Pictures
A14: =IF(B14<>"",ROWS($B$6:B14),"") -> 9 | B14: Katytė Moksi | C14: Miss Moxy | D14: BE, NL | E14: 34490.74 | F14: 7030 | G14: 17 | H14: 45814 | I14: ACME Film
A15: =IF(B15<>"",ROWS($B$6:B15),"") -> 10 | B15: Velnio ritualas | C15: The Ritual | D15: US | E15: 33328.99 | F15: 4951 | G15: 15 | H15: 45807 | I15: Adastra Cinema
A16: =IF(B16<>"",ROWS($B$6:B16),"") -> 11 | B16: Karatė vaikis: Legendos | C16: Karate Kid: Legends | D16: US | E16: 25758.22 | F16: 4272 | G16: 17 | H16: 45807 | I16: ACME Film / SONY
A17: =IF(B17<>"",ROWS($B$6:B17),"") -> 12 | B17: Narsioji Kajara | C17: Kayara | D17: PE, ES | E17: 24693.43 | F17: 5210 | G17: 18 | H17: 45807 | I17: Adastra Cinema
... A39: =IF(B39<>"",ROWS($B$6:B39),"") -> 34 | B39: Nusidėjėliai | C39: Sinners | D39: US | E39: 1534.4 | F39: 226 | G39: 2 | H39: 45765 | I39: ACME Film / WB
A40: =IF(B40<>"",ROWS($B$6:B40),"") -> 35 | B40: Šešėlių pėdsakais | C40: Ghost Trail | D40: FR | E40: 1480 | F40: 370 | G40: – | H40: 45632 | I40: A-One Films
A41: =IF(B41<>"",ROWS($B$6:B41),"") -> 36 | B41: Visa, kas tu esi | C41: Alle die Du bist | D41: DE | E41: 1420 | F41: 355 | G41: – | H41: 45772 | I41: A-One Films
A42: =IF(B42<>"",ROWS($B$6:B42),"") -> 37 | B42: Bembis. Istorija apie gyvenimą miške | C42: Bambi, a Tale of Life in the Woods | D42: FR | E42: 1408.37 | F42: 391 | G42: 3 | H42: 45786 | I42: Best Film
A43: =IF(B43<>"",ROWS($B$6:B43),"") -> 38 | B43: Paskutinė šou mergina | C43: The Last Showgirl | D43: US | E43: 1365.75 | F43: 191 | G43: 5 | H43: 45786 | I43: Estinfilm
A44: =IF(B44<>"",ROWS($B$6:B44),"") -> 39 | B44: Užburtas miškas | C44: Angelo dans la forêt mystérieuse | D44: FR | E44: 1318 | F44: 313 | G44: 1 | H44: 45709 | I44: Adastra Cinema
A45: =IF(B45<>"",ROWS($B$6:B45),"") -> 40 | B45: Super elfai | C45: Super Elfkins | D45: DE | E45: 1086.3 | F45: 508 | G45: 5 | H45: 45667 | I45: ACME Film
A46: =IF(B46<>"",ROWS($B$6:B46),"") -> 41 | B46: Konklava | C46: Conclave | D46: UK, US | E46: 1037 | F46: 153 | G46: 4 | H46: 45688 | I46: ACME Film
A47: =IF(B47<>"",ROWS($B$6:B47),"") -> 42 | B47: Stebuklingoji boružėlė ir juodasis katinas | C47: Ladybug & Cat Noir: The Awakening | D47: FR | E47: 996.84 | F47: 433 | G47: 4 | H47: 45184 | I47: ACME Film
A48: =IF(B48<>"",ROWS($B$6:B48),"") -> 43 | B48: Lošėjos širdis | C48: On Swift Horses | D48: US | E48: 924.15 | F48: 181 | G48: 4 | H48: 45786 | I48: ACME Film
A49: =IF(B49<>"",ROWS($B$6:B49),"") -> 44 | B49: Motelis Destino | C49: Motel Destino | D49: BR | E49: 905.2 | F49: 135 | G49: – | H49: 45793 | I49: A-One Films
A50: =IF(B50<>"",ROWS($B$6:B50),"") -> 45 | B50: Gauja | C50: Smecka | D50: CZ, SK, LV | E50: 750 | F50: 285 | G50: 1 | H50: 44302 | I50: Skalvijos kino centras
A51: =IF(B51<>"",ROWS($B$6:B51),"") -> 46 | B51: Sent Egziuperi | C51: Saint-Exupéry | D51: FR, BE | E51: 722 | F51: 136 | G51: 2 | H51: 45772 | I51: Garsų pasaulio įrašai
A52: =IF(B52<>"",ROWS($B$6:B52),"") -> 47 | B52: Madam Luna | C52: Madame Luna | D52: SE | E52: 586.5 | F52: 108 | G52: 8 | H52: 45828 | I52: Estinfilm
A53: =IF(B53<>"",ROWS($B$6:B53),"") -> 48 | B53: Meškiukas Padingtonas: Nuotykiai Peru | C53: Paddington in Peru | D53: UK, US, JP, FR | E53: 577 | F53: 164 | G53: 1 | H53: 45681 | I53: ACME Film / SONY
A54: =IF(B54<>"",ROWS($B$6:B54),"") -> 49 | B54: Suleimano istorija | C54: L´Histoire de Souleymane | D54: FR | E54: 510 | F54: 102 | G54: 1 | H54: 45740 | I54: Europos kinas
A55: =IF(B55<>"",ROWS($B$6:B55),"") -> 50 | B55: Ema ir juodasis jaguaras | C55: Le Dernier Jaguar | D55: FR, DE, CA | E55: 497.4 | F55: 126 | G55: 2 | H55: 45331 | I55: ACME Film
A56: =IF(B56<>"",ROWS($B$6:B56),"") -> 51 | B56: Gera mergaitė | C56: Babygirl | D56: US | E56: 479.4 | F56: 55 | G56: 2 | H56: 45667 | I56: Europos kinas
A57: =IF(B57<>"",ROWS($B$6:B57),"") -> 52 | B57: Iki aušros | C57: Until Dawn | D57: US | E57: 465.9 | F57: 59 | G57: 1 | H57: 45772 | I57: ACME Film / SONY
A58: =IF(B58<>"",ROWS($B$6:B58),"") -> 53 | B58: Fanfaros | C58: En Fanfare | D58: FR | E58: 464.2 | F58: 75 | G58: 3 | H58: 45740 | I58: Europos kinas
A59: =IF(B59<>"",ROWS($B$6:B59),"") -> 54 | B59: Viena gyvybė | C59: One Life | D59: UK | E59: 456.03 | F59: 112 | G59: 1 | H59: 45303 | I59: ACME Film
A60: =IF(B60<>"",ROWS($B$6:B60),"") -> 55 | B60: Larsas yra LOL | C60: Lars er LOL | D60: NO | E60: 440 | F60: 88 | G60: 1 | H60: 45592 | I60: Skalvijos kino centras
A61: =IF(B61<>"",ROWS($B$6:B61),"") -> 56 | B61: Sacrum ir profanum Pievėnuose | C61: Sacrum ir profanum Pievėnuose | D61: LT, LV | E61: 434.6 | F61: 71 | G61: 2 | H61: 45758 | I61: Monoklis
... A67: =IF(B67<>"",ROWS($B$6:B67),"") -> 62 | B67: Paslapčių traukinys | C67: A Mystery on the Cattle Hill Express | D67: NO | E67: 371 | F67: 145 | G67: 1 | H67: 45492 | I67: Garsų pasaulio įrašai
A68: =IF(B68<>"",ROWS($B$6:B68),"") -> 63 | B68: Partenopė | C68: Parthenope | D68: IT | E68: 364 | F68: 54 | G68: – | H68: 45653 | I68: A-One Films
A69: =IF(B69<>"",ROWS($B$6:B69),"") -> 64 | B69: Meilė pagal Kafką | C69: Die Herrlichkeit des Lebens | D69: AT, DE | E69: 349.25 | F69: 45 | G69: 2 | H69: 45688 | I69: Estinfilm
A70: =IF(B70<>"",ROWS($B$6:B70),"") -> 65 | B70: Skyrybų vakarėlis | C70: Volveréis | D70: ES | E70: 346 | F70: 52 | G70: 1 | H70: 45740 | I70: Europos kinas
A71: =IF(B71<>"",ROWS($B$6:B71),"") -> 66 | B71: Mano ypatingas sūnus | C71: Unbreakable boy | D71: US | E71: 345.98 | F71: 78 | G71: 2 | H71: 45758 | I71: ACME Film
A72: =IF(B72<>"",ROWS($B$6:B72),"") -> 67 | B72: Drugelio Širdis | C72: Drugelio Širdis | D72: LT | E72: 323.78 | F72: 89 | G72: 2 | H72: 44659 | I72: ACME Film
A73: =IF(B73<>"",ROWS($B$6:B73),"") -> 68 | B73: Žvaigždės pranašauja | C73: Wishing on a Star | D73: IT, SK, CZ, AT, HR | E73: 310.5 | F73: 150 | G73: 2 | H73: 45740 | I73: Europos kinas
A74: =IF(B74<>"",ROWS($B$6:B74),"") -> 69 | B74: Vištienos Lindai! | C74: Linda veut du poulet! | D74: FR, IT | E74: 310 | F74: 122 | G74: 1 | H74: 45564 | I74: Skalvijos kino centras
A75: =IF(B75<>"",ROWS($B$6:B75),"") -> 70 | B75: Sparnuoti herojai | C75: Super Wings the Movie: Maximum Speed | D75: KR | E75: 305 | F75: 122 | G75: 4 | H75: 45338 | I75: Adastra Cinema
A76: =IF(B76<>"",ROWS($B$6:B76),"") -> 71 | B76: Viena vasara | C76: Le temps d'un été | D76: CA | E76: 300 | F76: 100 | G76: 1 | H76: 45492 | I76: Estinfilm
A77: =IF(B77<>"",ROWS($B$6:B77),"") -> 72 | B77: Baltoji paukštė | C77: White Bird a Wonder Story | D77: US | E77: 295 | F77: 59 | G77: 1 | H77: 45359 | I77: ACME Film
A78: =IF(B78<>"",ROWS($B$6:B78),"") -> 73 | B78: Lapių kelionė ledynuose | C78: Kina and Yuk | D78: IT, CA, FR | E78: 289.95 | F78: 79 | G78: 2 | H78: 45296 | I78: ACME Film
A79: =IF(B79<>"",ROWS($B$6:B79),"") -> 74 | B79: Verti meilės | C79: Elskling | D79: NO | E79: 289.5 | F79: 42 | G79: 2 | H79: 45709 | I79: Estinfilm
A80: =IF(B80<>"",ROWS($B$6:B80),"") -> 75 | B80: Tu man nieko neprimeni | C80: Tu man nieko neprimeni | D80: LT, ES, SE | E80: 248.15 | F80: 34 | G80: 1 | H80: 45191 | I80: Europos kinas
... A118: =IF(B118<>"",ROWS($B$6:B118),"") -> 113 | B118: Spirk arba mirk | C118: Fight or Flight | D118: US, UK | E118: 12 | F118: 2 | G118: 1 | H118: 45765 | I118: Adastra Cinema
E119: =SUBTOTAL(109,Table3_Birželis[Pajamos]) -> 1543708.5 | F119: =SUBTOTAL(109,Table3_Birželis[Žiūrovų skaičius]) -> 254594

Sheet Liepa
A1: ='2025'!A1 -> 2025
A2: ='2025'!A2 -> Lietuvos kino teatruose rodytų filmų TOP
A3: Liepa
A5: Eil. Nr. | B5: Filmo pavadinimas | C5: Filmo pavadinimas originalo kalba | D5: Kilmės šalis | E5: Pajamos | F5: Žiūrovų skaičius | G5: Kopijų skaičius | H5: Premjeros data | I5: Platintojas
A6: =IF(B6<>"",ROWS($B$6:B6),"") -> 1 | B6: F1 | C6: F1 | D6: US | E6: 442926.21 | F6: 58453 | G6: 19 | H6: 45835 | I6: ACME Film / WB
A7: =IF(B7<>"",ROWS($B$6:B7),"") -> 2 | B7: Juros periodo pasaulis. Atgimimas | C7: Jurassic World Rebirth | D7: US | E7: 224869.26 | F7: 34139 | G7: 23 | H7: 45840 | I7: Dukine Film Distribution / Universal Pictures
A8: =IF(B8<>"",ROWS($B$6:B8),"") -> 3 | B8: Smurfų filmas | C8: Smurfs | D8: US | E8: 143684.16 | F8: 28011 | G8: 21 | H8: 45856 | I8: Dukine Film Distribution / Paramount Pictures
A9: =IF(B9<>"",ROWS($B$6:B9),"") -> 4 | B9: Elio | C9: Elio | D9: US | E9: 120905.12 | F9: 24054 | G9: 30 | H9: 45835 | I9: Theatrical Film Distribution / WDSMPI
A10: =IF(B10<>"",ROWS($B$6:B10),"") -> 5 | B10: Kaip prisijaukinti slibiną | C10: How To Train Your Dragon | D10: US | E10: 114901.04 | F10: 20311 | G10: 26 | H10: 45821 | I10: Dukine Film Distribution / Universal Pictures
A11: =IF(B11<>"",ROWS($B$6:B11),"") -> 6 | B11: Supermenas | C11: Superman: Legacy | D11: US | E11: 105165.42 | F11: 15578 | G11: 18 | H11: 45849 | I11: ACME Film / WB
A12: =IF(B12<>"",ROWS($B$6:B12),"") -> 7 | B12: Fantastiškas ketvertas. Pirmieji žingsniai | C12: The Fanstastic 4. First Steps | D12: US | E12: 89878.49 | F12: 13608 | G12: 17 | H12: 45863 | I12: Theatrical Film Distribution / WDSMPI
A13: =IF(B13<>"",ROWS($B$6:B13),"") -> 8 | B13: Lilo ir Stičas | C13: Lilo & Stitch | D13: US | E13: 83373.43 | F13: 15811 | G13: 17 | H13: 45800 | I13: Theatrical Film Distribution / WDSMPI
A14: =IF(B14<>"",ROWS($B$6:B14),"") -> 9 | B14: 28 metai po | C14: 28 Years Later | D14: UK | E14: 72243.31 | F14: 10477 | G14: 13 | H14: 45828 | I14: ACME Film / SONY
A15: =IF(B15<>"",ROWS($B$6:B15),"") -> 10 | B15: Žinau, ką padarei aną vasarą | C15: I Know What You Did Last Summer | D15: US | E15: 52668.46 | F15: 8120 | G15: 16 | H15: 45856 | I15: ACME Film / SONY
A16: =IF(B16<>"",ROWS($B$6:B16),"") -> 11 | B16: Pasiutusios pamergės | C16: Bride Hard | D16: US | E16: 37108.68 | F16: 5114 | G16: 15 | H16: 45849 | I16: ACME Film
A17: =IF(B17<>"",ROWS($B$6:B17),"") -> 12 | B17: Ketvirtas aukštas | C17: The Home | D17: US | E17: 30787.78 | F17: 5120 | G17: 14 | H17: 45863 | I17: ACME Film
... A20: =IF(B20<>"",ROWS($B$6:B20),"") -> 15 | B20: Kaip Džeinė Ostin sugriovė mano gyvenimą | C20: Jane Austen a gâché ma vie | D20: FR | E20: 9413.94 | F20: 1621 | G20: 15 | H20: 45842 | I20: Theatrical Film Distribution
A21: =IF(B21<>"",ROWS($B$6:B21),"") -> 16 | B21: Blogiukai 2 | C21: The Bad Guys | D21: US | E21: 8506.44 | F21: 1564 | G21: 10 | H21: Preview | I21: Dukine Film Distribution / Universal Pictures
A22: =IF(B22<>"",ROWS($B$6:B22),"") -> 17 | B22: Keturi meilės laiškai | C22: Four Letters of Love | D22: UK, IE | E22: 8347 | F22: 1607 | G22: 18 | H22: 45863 | I22: Garsų pasaulio įrašai
A23: =IF(B23<>"",ROWS($B$6:B23),"") -> 18 | B23: M3gan 2.0 | C23: M3gan 2.0 | D23: US | E23: 7907.52 | F23: 1223 | G23: 14 | H23: 45835 | I23: Dukine Film Distribution / Universal Pictures
A24: =IF(B24<>"",ROWS($B$6:B24),"") -> 19 | B24: Laimės išmintis | C24: Wisdom of Happiness | D24: CH | E24: 7022 | F24: 1068 | G24: 8 | H24: 45842 | I24: Best Film
A25: =IF(B25<>"",ROWS($B$6:B25),"") -> 20 | B25: Maksimalus greitis | C25: Faster | D25: FR, BE | E25: 5379 | F25: 921 | G25: 14 | H25: 45856 | I25: Garsų pasaulio įrašai
A26: =IF(B26<>"",ROWS($B$6:B26),"") -> 21 | B26: Finikiečių schema | C26: The Phoenician Scheme | D26: US | E26: 5025.52 | F26: 723 | G26: 4 | H26: 45807 | I26: Dukine Film Distribution / Universal Pictures
A27: =IF(B27<>"",ROWS($B$6:B27),"") -> 22 | B27: Balerina | C27: Ballerina | D27: US | E27: 4800.43 | F27: 742 | G27: 7 | H27: 45814 | I27: ACME Film
A28: =IF(B28<>"",ROWS($B$6:B28),"") -> 23 | B28: Akiplėša | C28: Akiplėša | D28: LT | E28: 4674.7 | F28: 639 | G28: 3 | H28: 45740 | I28: Europos kinas
A29: =IF(B29<>"",ROWS($B$6:B29),"") -> 24 | B29: Pietinia Kronikas | C29: Pietinia Kronikas | D29: LT | E29: 3961.2 | F29: 597 | G29: 6 | H29: 45681 | I29: ACME Film
A30: =IF(B30<>"",ROWS($B$6:B30),"") -> 25 | B30: Seksas | C30: Sex | D30: NO | E30: 3562.39 | F30: 527 | G30: 8 | H30: 45856 | I30: Best Film
A31: =IF(B31<>"",ROWS($B$6:B31),"") -> 26 | B31: Dieviškoji Sara Bernar | C31: The Divine Sarah Bernhardt | D31: FR | E31: 3056.95 | F31: 567 | G31: 3 | H31: 45828 | I31: Best Film
A32: =IF(B32<>"",ROWS($B$6:B32),"") -> 27 | B32: Šis tas ypatingo | C32: Un p'tit truc en plus | D32: FR | E32: 2951.78 | F32: 644 | G32: 10 | H32: 45863 | I32: Adastra Cinema
A33: =IF(B33<>"",ROWS($B$6:B33),"") -> 28 | B33: Nuogas ginklas | C33: The Naked Gun | D33: US | E33: 2664.71 | F33: 379 | G33: 8 | H33: Preview | I33: Dukine Film Distribution / Paramount Pictures
A34: =IF(B34<>"",ROWS($B$6:B34),"") -> 29 | B34: Užburtas miškas | C34: Angelo dans la forêt mystérieuse | D34: FR | E34: 2593.5 | F34: 884 | G34: 7 | H34: 45709 | I34: Adastra Cinema
A35: =IF(B35<>"",ROWS($B$6:B35),"") -> 30 | B35: 10 Katino Gyvenimų | C35: 10 lives | D35: UK | E35: 2231 | F35: 888 | G35: 5 | H35: 45562 | I35: ACME Film
A36: =IF(B36<>"",ROWS($B$6:B36),"") -> 31 | B36: Mergaitė vardu Gluosnė | C36: Girl Named Willow | D36: DE | E36: 2217.5 | F36: 908 | G36: 7 | H36: 45794 | I36: ACME Film
A37: =IF(B37<>"",ROWS($B$6:B37),"") -> 32 | B37: Potvynis | C37: Flow | D37: LV, BE, FR | E37: 2043.55 | F37: 375 | G37: 5 | H37: 45744 | I37: Europos kinas
A38: =IF(B38<>"",ROWS($B$6:B38),"") -> 33 | B38: Vasaros knyga | C38: The Summer Book | D38: US | E38: 1985.65 | F38: 313 | G38: 9 | H38: 45856 | I38: Estinfilm
A39: =IF(B39<>"",ROWS($B$6:B39),"") -> 34 | B39: Agentas Hitpigas | C39: Hitpig | D39: UK | E39: 1938 | F39: 804 | G39: 4 | H39: 45688 | I39: Adastra Cinema
A40: =IF(B40<>"",ROWS($B$6:B40),"") -> 35 | B40: Afrika Pandastika | C40: Panda Bear in Africa | D40: DK, NL, FR, DE, EE, CN | E40: 1814 | F40: 742 | G40: 5 | H40: 45499 | I40: Adastra Cinema
A41: =IF(B41<>"",ROWS($B$6:B41),"") -> 36 | B41: Panda vardu Mėnulis | C41: Moon the Panda | D41: FR | E41: 1656.1 | F41: 664 | G41: 5 | H41: 45765 | I41: ACME Film
A42: =IF(B42<>"",ROWS($B$6:B42),"") -> 37 | B42: Marija Kalas | C42: Maria | D42: CL, IT, DE, US | E42: 1522.8 | F42: 252 | G42: 4 | H42: 45744 | I42: ACME Film
A43: =IF(B43<>"",ROWS($B$6:B43),"") -> 38 | B43: Motelis Destino | C43: Motel Destino | D43: BR | E43: 1470 | F43: 420 | G43: – | H43: 45793 | I43: A-One Films
A44: =IF(B44<>"",ROWS($B$6:B44),"") -> 39 | B44: Partenopė | C44: Parthenope | D44: IT | E44: 1400 | F44: 200 | G44: – | H44: 45653 | I44: A-One Films
A45: =IF(B45<>"",ROWS($B$6:B45),"") -> 40 | B45: Balkonetės | C45: Les femmes au balcon | D45: FR | E45: 1355 | F45: 240 | G45: – | H45: 45702 | I45: A-One Films
A46: =IF(B46<>"",ROWS($B$6:B46),"") -> 41 | B46: Chimera | C46: La Chimera | D46: IT | E46: 1355 | F46: 240 | G46: – | H46: 45401 | I46: A-One Films
A47: =IF(B47<>"",ROWS($B$6:B47),"") -> 42 | B47: Stebuklingoji boružėlė ir juodasis katinas | C47: Ladybug & Cat Noir: The Awakening | D47: FR | E47: 1128 | F47: 481 | G47: 4 | H47: 45184 | I47: ACME Film
A48: =IF(B48<>"",ROWS($B$6:B48),"") -> 43 | B48: Grąžink ją atgal | C48: Bring Her Back | D48: AU | E48: 1126.6 | F48: 170 | G48: 8 | H48: Preview | I48: ACME Film / SONY
A49: =IF(B49<>"",ROWS($B$6:B49),"") -> 44 | B49: Deimantai | C49: Diamanti | D49: IT | E49: 1085.55 | F49: 172 | G49: 2 | H49: 45807 | I49: Best Film
A50: =IF(B50<>"",ROWS($B$6:B50),"") -> 45 | B50: Gyvenk drąsiai | C50: Living large | D50: CZ, SK, FR | E50: 852 | F50: 154 | G50: 3 | H50: 45758 | I50: Garsų pasaulio įrašai
A51: =IF(B51<>"",ROWS($B$6:B51),"") -> 46 | B51: Ozi. Miško balsas | C51: Ozi: Voice Of The Forest | D51: UK, FR, JAV, CN | E51: 740.84 | F51: 281 | G51: 5 | H51: 45541 | I51: Adastra Cinema
A52: =IF(B52<>"",ROWS($B$6:B52),"") -> 47 | B52: Pont Neuf meilužiai | C52: Les Amants du Pont-Neuf | D52: FR | E52: 735.5 | F52: 103 | G52: 2 | H52: 45740 | I52: Europos kinas
A53: =IF(B53<>"",ROWS($B$6:B53),"") -> 48 | B53: Velnio ritualas | C53: The Ritual | D53: US | E53: 718.8 | F53: 88 | G53: 1 | H53: 45807 | I53: Adastra Cinema
A54: =IF(B54<>"",ROWS($B$6:B54),"") -> 49 | B54: Verti meilės | C54: Elskling | D54: NO | E54: 712.5 | F54: 109 | G54: 2 | H54: 45709 | I54: Estinfilm
A55: =IF(B55<>"",ROWS($B$6:B55),"") -> 50 | B55: Fanfaros | C55: En Fanfare | D55: FR | E55: 686 | F55: 109 | G55: 1 | H55: 45740 | I55: Europos kinas
A56: =IF(B56<>"",ROWS($B$6:B56),"") -> 51 | B56: Bembis. Istorija apie gyvenimą miške | C56: Bambi, a Tale of Life in the Woods | D56: FR | E56: 658.5 | F56: 121 | G56: 2 | H56: 45786 | I56: Best Film
A57: =IF(B57<>"",ROWS($B$6:B57),"") -> 52 | B57: Praėję gyvenimai | C57: Past lives | D57: US, KR | E57: 546 | F57: 87 | G57: 2 | H57: 45254 | I57: Europos kinas
A58: =IF(B58<>"",ROWS($B$6:B58),"") -> 53 | B58: Mūza | C58: Mūza | D58: LT | E58: 537 | F58: 166 | G58: 1 | H58: 45345 | I58: ACME Film
A59: =IF(B59<>"",ROWS($B$6:B59),"") -> 54 | B59: Ežiukas Sonic 3 | C59: Sonic the Hedgehog 3 | D59: US, JP | E59: 489 | F59: 80 | G59: 2 | H59: 45653 | I59: Dukine Film Distribution / Paramount Pictures
A60: =IF(B60<>"",ROWS($B$6:B60),"") -> 55 | B60: Meilė, melas, kraujas | C60: Love Lies Bleeding | D60: UK | E60: 469 | F60: 70 | G60: 2 | H60: 45555 | I60: Europos kinas
... A98: =IF(B98<>"",ROWS($B$6:B98),"") -> 93 | B98: Meškiukas Padingtonas: Nuotykiai Peru | C98: Paddington in Peru | D98: UK, US, JP, FR | E98: 5.2 | F98: 2 | G98: 1 | H98: 45681 | I98: ACME Film / SONY
E99: =SUBTOTAL(109,Table3_Liepa[Pajamos]) -> 1656600.9 | F99: =SUBTOTAL(109,Table3_Liepa[Žiūrovų skaičius]) -> 265233

Sheet Rugpjūtis
A1: ='2025'!A1 -> 2025
A2: ='2025'!A2 -> Lietuvos kino teatruose rodytų filmų TOP
A3: Rugpjūtis
A5: Eil. Nr. | B5: Filmo pavadinimas | C5: Filmo pavadinimas originalo kalba | D5: Kilmės šalis | E5: Pajamos | F5: Žiūrovų skaičius | G5: Kopijų skaičius | H5: Premjeros data | I5: Platintojas
A6: =IF(B6<>"",ROWS($B$6:B6),"") -> 1 | B6: Blogiukai 2 | C6: The Bad Guys | D6: US | E6: 298226.97 | F6: 54779 | G6: 31 | H6: 45870 | I6: Dukine Film Distribution / Universal Pictures
A7: =IF(B7<>"",ROWS($B$6:B7),"") -> 2 | B7: Materialistai | C7: Materialists | D7: US | E7: 175608.23 | F7: 22418 | G7: 20 | H7: 45891 | I7: ACME Film / SONY
A8: =IF(B8<>"",ROWS($B$6:B8),"") -> 3 | B8: F1 | C8: F1 | D8: US | E8: 175223.21 | F8: 24446 | G8: 16 | H8: 45835 | I8: ACME Film / WB
A9: =IF(B9<>"",ROWS($B$6:B9),"") -> 4 | B9: Išnykimo valanda | C9: Weapons | D9: US | E9: 170926.86 | F9: 24361 | G9: 15 | H9: 45877 | I9: ACME Film / WB
A10: =IF(B10<>"",ROWS($B$6:B10),"") -> 5 | B10: Nuogas ginklas | C10: The Naked Gun | D10: US | E10: 115141.47 | F10: 17298 | G10: 17 | H10: 45870 | I10: Dukine Film Distribution / Paramount Pictures
A11: =IF(B11<>"",ROWS($B$6:B11),"") -> 6 | B11: Fantastiškas ketvertas. Pirmieji žingsniai | C11: The Fanstastic 4. First Steps | D11: US | E11: 72379.01 | F11: 10535 | G11: 17 | H11: 45863 | I11: Theatrical Film Distribution / WDSMPI
A12: =IF(B12<>"",ROWS($B$6:B12),"") -> 7 | B12: Smurfų filmas | C12: Smurfs | D12: US | E12: 66931.42 | F12: 12759 | G12: 18 | H12: 45856 | I12: Dukine Film Distribution / Paramount Pictures
A13: =IF(B13<>"",ROWS($B$6:B13),"") -> 8 | B13: Svajonių kedai | C13: Sneaks | D13: US, IN, UK | E13: 45466.93 | F13: 9003 | G13: 18 | H13: 45891 | I13: ACME Film
A14: =IF(B14<>"",ROWS($B$6:B14),"") -> 9 | B14: Grąžink ją atgal | C14: Bring Her Back | D14: AU | E14: 45003.02 | F14: 6358 | G14: 16 | H14: 45870 | I14: ACME Film / SONY
A15: =IF(B15<>"",ROWS($B$6:B15),"") -> 10 | B15: Keistesnis penktadienis | C15: Freakier Friday | D15: US | E15: 44104.37 | F15: 7176 | G15: 15 | H15: 45877 | I15: Theatrical Film Distribution / WDSMPI
A16: =IF(B16<>"",ROWS($B$6:B16),"") -> 11 | B16: Drakula | C16: Dracula. A Love Tale | D16: FR | E16: 25022 | F16: 3999 | G16: 17 | H16: 45877 | I16: Garsų pasaulio įrašai
A17: =IF(B17<>"",ROWS($B$6:B17),"") -> 12 | B17: Niekas 2 | C17: Nobody 2 | D17: US | E17: 24887.1 | F17: 4142 | G17: 15 | H17: 45891 | I17: Dukine Film Distribution / Universal Pictures
... A42: =IF(B42<>"",ROWS($B$6:B42),"") -> 37 | B42: Pietinia Kronikas | C42: Pietinia Kronikas | D42: LT | E42: 2118.05 | F42: 310 | G42: 3 | H42: 45681 | I42: ACME Film
A43: =IF(B43<>"",ROWS($B$6:B43),"") -> 38 | B43: Pabaiga | C43: The End | D43: DK | E43: 1985 | F43: 397 | G43: – | H43: 45709 | I43: A-One Films
A44: =IF(B44<>"",ROWS($B$6:B44),"") -> 39 | B44: Urvas | C44: Il buco | D44: IT, FR, DE | E44: 1940 | F44: 388 | G44: – | H44: 44771 | I44: A-One Films
A45: =IF(B45<>"",ROWS($B$6:B45),"") -> 40 | B45: Partenopė | C45: Parthenope | D45: IT | E45: 1883.5 | F45: 265 | G45: – | H45: 45653 | I45: A-One Films
A46: =IF(B46<>"",ROWS($B$6:B46),"") -> 41 | B46: Garfildas | C46: The Garfield Movie | D46: US | E46: 1860 | F46: 746 | G46: 5 | H46: 45436 | I46: ACME Film / SONY
A47: =IF(B47<>"",ROWS($B$6:B47),"") -> 42 | B47: Paslapčių traukinys | C47: A Mystery on the Cattle Hill Express | D47: NO | E47: 1851 | F47: 761 | G47: 5 | H47: 45492 | I47: Garsų pasaulio įrašai
A48: =IF(B48<>"",ROWS($B$6:B48),"") -> 43 | B48: Meškiukas Padingtonas: Nuotykiai Peru | C48: Paddington in Peru | D48: UK, US, JP, FR | E48: 1826.01 | F48: 359 | G48: 4 | H48: 45681 | I48: ACME Film / SONY
A49: =IF(B49<>"",ROWS($B$6:B49),"") -> 44 | B49: Vasaros knyga | C49: The Summer Book | D49: US | E49: 1649.55 | F49: 246 | G49: 6 | H49: 45856 | I49: Estinfilm
A50: =IF(B50<>"",ROWS($B$6:B50),"") -> 45 | B50: Finikiečių schema | C50: The Phoenician Scheme | D50: US | E50: 1640.03 | F50: 242 | G50: 3 | H50: 45807 | I50: Dukine Film Distribution / Universal Pictures
A51: =IF(B51<>"",ROWS($B$6:B51),"") -> 46 | B51: 28 metai po | C51: 28 Years Later | D51: UK | E51: 1588.63 | F51: 228 | G51: 3 | H51: 45828 | I51: ACME Film / SONY
A52: =IF(B52<>"",ROWS($B$6:B52),"") -> 47 | B52: Keliautojos poreikiai | C52: Yeohaengjaui pilyo | D52: KR | E52: 1555.8 | F52: 312 | G52: – | H52: 45590 | I52: A-One Films
A53: =IF(B53<>"",ROWS($B$6:B53),"") -> 48 | B53: Marija Kalas | C53: Maria | D53: CL, IT, DE, US | E53: 1523.3 | F53: 256 | G53: 3 | H53: 45744 | I53: ACME Film
A54: =IF(B54<>"",ROWS($B$6:B54),"") -> 49 | B54: Skyrybų vakarėlis | C54: Volveréis | D54: ES | E54: 1344 | F54: 192 | G54: 1 | H54: 45740 | I54: Europos kinas
A55: =IF(B55<>"",ROWS($B$6:B55),"") -> 50 | B55: Užburtas miškas | C55: Angelo dans la forêt mystérieuse | D55: FR | E55: 1307.5 | F55: 494 | G55: 6 | H55: 45709 | I55: Adastra Cinema
A56: =IF(B56<>"",ROWS($B$6:B56),"") -> 51 | B56: Šis tas ypatingo | C56: Un p'tit truc en plus | D56: FR | E56: 1302.2 | F56: 195 | G56: 4 | H56: 45863 | I56: Adastra Cinema
A57: =IF(B57<>"",ROWS($B$6:B57),"") -> 52 | B57: Mergaitė vardu Gluosnė | C57: Girl Named Willow | D57: DE | E57: 1215.1 | F57: 482 | G57: 5 | H57: 45794 | I57: ACME Film
A58: =IF(B58<>"",ROWS($B$6:B58),"") -> 53 | B58: 13 dienų, 13 naktų | C58: 13 jours, 13 nuits | D58: FR | E58: 1192.03 | F58: 189 | G58: 11 | H58: 45898 | I58: Adastra Cinema
A59: =IF(B59<>"",ROWS($B$6:B59),"") -> 54 | B59: Potvynis | C59: Flow | D59: LV, BE, FR | E59: 1185.5 | F59: 195 | G59: 5 | H59: 45744 | I59: Europos kinas
A60: =IF(B60<>"",ROWS($B$6:B60),"") -> 55 | B60: Praėję gyvenimai | C60: Past lives | D60: US, KR | E60: 1073.25 | F60: 156 | G60: 4 | H60: 45254 | I60: Europos kinas
A61: =IF(B61<>"",ROWS($B$6:B61),"") -> 56 | B61: Substancija | C61: The Substance | D61: UK | E61: 1012.5 | F61: 154 | G61: 2 | H61: 45562 | I61: Adastra Cinema
A62: =IF(B62<>"",ROWS($B$6:B62),"") -> 57 | B62: Balkonetės | C62: Les femmes au balcon | D62: FR | E62: 919.5 | F62: 162 | G62: – | H62: 45702 | I62: A-One Films
A63: =IF(B63<>"",ROWS($B$6:B63),"") -> 58 | B63: Deimantai | C63: Diamanti | D63: IT | E63: 882.55 | F63: 136 | G63: 3 | H63: 45807 | I63: Best Film
A64: =IF(B64<>"",ROWS($B$6:B64),"") -> 59 | B64: Kai ateina ruduo | C64: When Fall Is Coming | D64: FR | E64: 704.5 | F64: 230 | G64: – | H64: 45618 | I64: A-One Films
A65: =IF(B65<>"",ROWS($B$6:B65),"") -> 60 | B65: Kaip Džeinė Ostin sugriovė mano gyvenimą | C65: Jane Austen a gâché ma vie | D65: FR | E65: 657.06 | F65: 126 | G65: 3 | H65: 45842 | I65: Theatrical Film Distribution
A66: =IF(B66<>"",ROWS($B$6:B66),"") -> 61 | B66: Puikios dienos | C66: Perfect days | D66: JP, DE | E66: 644.8 | F66: 77 | G66: – | H66: 45282 | I66: A-One Films
A67: =IF(B67<>"",ROWS($B$6:B67),"") -> 62 | B67: Meilė, melas, kraujas | C67: Love Lies Bleeding | D67: UK | E67: 630 | F67: 97 | G67: 2 | H67: 45555 | I67: Europos kinas
A68: =IF(B68<>"",ROWS($B$6:B68),"") -> 63 | B68: Panda vardu Mėnulis | C68: Moon the Panda | D68: FR | E68: 614 | F68: 247 | G68: 4 | H68: 45765 | I68: ACME Film
A69: =IF(B69<>"",ROWS($B$6:B69),"") -> 64 | B69: Patersonas | C69: Paterson | D69: US, FR, DE | E69: 551.55 | F69: 84 | G69: – | H69: 42776 | I69: A-One Films
A70: =IF(B70<>"",ROWS($B$6:B70),"") -> 65 | B70: Monstras | C70: Monster | D70: JP | E70: 503 | F70: 77 | G70: 2 | H70: 45379 | I70: Europos kinas
A71: =IF(B71<>"",ROWS($B$6:B71),"") -> 66 | B71: Tiesos kadras | C71: Lee | D71: US | E71: 474.5 | F71: 72 | G71: 1 | H71: 45597 | I71: ACME Film
A72: =IF(B72<>"",ROWS($B$6:B72),"") -> 67 | B72: Taip įsivaizduojame šviesą | C72: All We Imagine as Light | D72: FR, IN, NL, LU | E72: 452 | F72: 67 | G72: 2 | H72: 45740 | I72: Europos kinas
A73: =IF(B73<>"",ROWS($B$6:B73),"") -> 68 | B73: Gyvenk drąsiai | C73: Living large | D73: CZ, SK, FR | E73: 443 | F73: 95 | G73: 1 | H73: 45758 | I73: Garsų pasaulio įrašai
A74: =IF(B74<>"",ROWS($B$6:B74),"") -> 69 | B74: Madam Clicquot | C74: Widow Clicquot | D74: US | E74: 435.5 | F74: 65 | G74: 1 | H74: 45548 | I74: ACME Film
A75: =IF(B75<>"",ROWS($B$6:B75),"") -> 70 | B75: Emilija Perez | C75: Emilia Pérez | D75: FR | E75: 421.4 | F75: 74 | G75: – | H75: 45674 | I75: A-One Films
A76: =IF(B76<>"",ROWS($B$6:B76),"") -> 71 | B76: Gardutė | C76: Gardutė | D76: LT | E76: 350 | F76: 60 | G76: 1 | H76: 45625 | I76: ACME Film
A77: =IF(B77<>"",ROWS($B$6:B77),"") -> 72 | B77: Maksimalus greitis | C77: Faster | D77: FR, BE | E77: 334 | F77: 57 | G77: 2 | H77: 45856 | I77: Garsų pasaulio įrašai
A78: =IF(B78<>"",ROWS($B$6:B78),"") -> 73 | B78: Laikas gyventi | C78: We Live in Time | D78: FR, UK | E78: 325 | F78: 48 | G78: 1 | H78: 45590 | I78: Adastra Cinema
A79: =IF(B79<>"",ROWS($B$6:B79),"") -> 74 | B79: Sacrum ir profanum Pievėnuose | C79: Sacrum ir profanum Pievėnuose | D79: LT, LV | E79: 322.5 | F79: 47 | G79: 1 | H79: 45758 | I79: Monoklis
A80: =IF(B80<>"",ROWS($B$6:B80),"") -> 75 | B80: Chimera | C80: La Chimera | D80: IT | E80: 303 | F80: 46 | G80: – | H80: 45401 | I80: A-One Films
A81: =IF(B81<>"",ROWS($B$6:B81),"") -> 76 | B81: Liepsnojantis dangus | C81: Roter Himmel | D81: DE | E81: 285 | F81: 55 | G81: – | H81: 45303 | I81: A-One Films
A82: =IF(B82<>"",ROWS($B$6:B82),"") -> 77 | B82: Beprotiškos melodijos. Pliuškis ir Porkis gelbėja pasaulį | C82: The Day The Earth Blew Up: A Looney Tunes Movie | D82: US | E82: 222 | F82: 38 | G82: 1 | H82: 45779 | I82: Garsų pasaulio įrašai
A83: =IF(B83<>"",ROWS($B$6:B83),"") -> 78 | B83: Brutalistas | C83: The Brutalist | D83: US | E83: 205.9 | F83: 38 | G83: 1 | H83: 45751 | I83: Dukine Film Distribution / Universal Pictures
A84: =IF(B84<>"",ROWS($B$6:B84),"") -> 79 | B84: Super elfai | C84: Super Elfkins | D84: DE | E84: 201.65 | F84: 37 | G84: 1 | H84: 45667 | I84: ACME Film
A85: =IF(B85<>"",ROWS($B$6:B85),"") -> 80 | B85: Atmintis | C85: Memory | D85: US | E85: 200 | F85: 30 | G85: – | H85: 45597 | I85: A-One Films
A86: =IF(B86<>"",ROWS($B$6:B86),"") -> 81 | B86: Paskutinė šou mergina | C86: The Last Showgirl | D86: US | E86: 193.25 | F86: 27 | G86: 3 | H86: 45786 | I86: Estinfilm
A87: =IF(B87<>"",ROWS($B$6:B87),"") -> 82 | B87: Pont Neuf meilužiai | C87: Les Amants du Pont-Neuf | D87: FR | E87: 177 | F87: 24 | G87: 1 | H87: 45740 | I87: Europos kinas
A88: =IF(B88<>"",ROWS($B$6:B88),"") -> 83 | B88: Išgyventi vasarą | C88: Išgyventi vasarą | D88: LT | E88: 150 | F88: 30 | G88: 1 | H88: 43574 | I88: Europos kinas
A89: =IF(B89<>"",ROWS($B$6:B89),"") -> 84 | B89: Kung Fu Panda 4 | C89: Kung Fu Panda 4 | D89: US | E89: 137 | F89: 23 | G89: 2 | H89: 45359 | I89: Dukine Film Distribution / Universal Pictures
A90: =IF(B90<>"",ROWS($B$6:B90),"") -> 85 | B90: Katinas vaiduoklis Andzu | C90: Ghost Cat Anzu | D90: JP, FR | E90: 93.6 | F90: 36 | G90: 1 | H90: 45740 | I90: Europos kinas
A91: =IF(B91<>"",ROWS($B$6:B91),"") -> 86 | B91: Agentas Hitpigas | C91: Hitpig | D91: UK | E91: 92.6 | F91: 38 | G91: 2 | H91: 45688 | I91: Adastra Cinema
A92: =IF(B92<>"",ROWS($B$6:B92),"") -> 87 | B92: Laimės išmintis | C92: Wisdom of Happiness | D92: CH | E92: 90.9 | F92: 11 | G92: 1 | H92: 45842 | I92: Best Film
A93: =IF(B93<>"",ROWS($B$6:B93),"") -> 88 | B93: Pats brangiausias krovinys | C93: The Most Precious of Cargoes | D93: FR | E93: 86 | F93: 13 | G93: 1 | H93: 45821 | I93: Garsų pasaulio įrašai
A94: =IF(B94<>"",ROWS($B$6:B94),"") -> 89 | B94: Ozi. Miško balsas | C94: Ozi: Voice Of The Forest | D94: UK, FR, JAV, CN | E94: 85 | F94: 27 | G94: 2 | H94: 45541 | I94: Adastra Cinema
A95: =IF(B95<>"",ROWS($B$6:B95),"") -> 90 | B95: Aštuoni kalnai | C95: The Eight Mountains | D95: IT, BE, FR | E95: 80 | F95: 15 | G95: 1 | H95: 45012 | I95: Europos kinas
A96: =IF(B96<>"",ROWS($B$6:B96),"") -> 91 | B96: Tikras skausmas | C96: A Real Pain | D96: US | E96: 77.7 | F96: 15 | G96: 1 | H96: 45674 | I96: Theatrical Film Distribution / WDSMPI
A97: =IF(B97<>"",ROWS($B$6:B97),"") -> 92 | B97: Parazitas | C97: Gisaengchung | D97: KR | E97: 74.4 | F97: 10 | G97: 1 | H97: 43987 | I97: Europos kinas
A98: =IF(B98<>"",ROWS($B$6:B98),"") -> 93 | B98: Pamfiras | C98: Pamfir | D98: UA | E98: 68 | F98: 11 | G98: – | H98: 44974 | I98: A-One Films
A99: =IF(B99<>"",ROWS($B$6:B99),"") -> 94 | B99: Bob Dylan: Visiškai nežinomas | C99: A Complete Unknown | D99: US | E99: 67.8 | F99: 12 | G99: 1 | H99: 45695 | I99: Theatrical Film Distribution / WDSMPI
A100: =IF(B100<>"",ROWS($B$6:B100),"") -> 95 | B100: Gurmaniška aistra | C100: Pot au Feu de Dodin Bouffant | D100: FR | E100: 67.8 | F100: 8 | G100: 1 | H100: 45254 | I100: ACME Film
A101: =IF(B101<>"",ROWS($B$6:B101),"") -> 96 | B101: Interesų zona | C101: The Zone of Interest | D101: UK, US, PL | E101: 67 | F101: 11 | G101: 1 | H101: 45379 | I101: Europos kinas
A102: =IF(B102<>"",ROWS($B$6:B102),"") -> 97 | B102: Mylimiausias mano pyragas | C102: Keyke mahboobe man | D102: IR, FR, SE, DE | E102: 66 | F102: 10 | G102: 1 | H102: 45639 | I102: Europos kinas
A103: =IF(B103<>"",ROWS($B$6:B103),"") -> 98 | B103: Paukštis | C103: Bird | D103: UK, US, FR, DE | E103: 63 | F103: 10 | G103: 1 | H103: 45740 | I103: Europos kinas
A104: =IF(B104<>"",ROWS($B$6:B104),"") -> 99 | B104: Du už vieno kainą | C104: Zwei zu eins | D104: DE | E104: 60 | F104: 11 | G104: 1 | H104: 45660 | I104: Estinfilm
A105: =IF(B105<>"",ROWS($B$6:B105),"") -> 100 | B105: Trys draugės | C105: Trois Amies | D105: FR | E105: 44.25 | F105: 7 | G105: 1 | H105: 45740 | I105: Europos kinas
A106: =IF(B106<>"",ROWS($B$6:B106),"") -> 101 | B106: Kaimiečiai | C106: Chlopi | D106: PL, LT | E106: 36 | F106: 7 | G106: 1 | H106: 45379 | I106: Europos kinas
A107: =IF(B107<>"",ROWS($B$6:B107),"") -> 102 | B107: Už gretimų durų | C107: The Room Next Door | D107: US | E107: 34 | F107: 8 | G107: 1 | H107: 45639 | I107: ACME Film / WB
A108: =IF(B108<>"",ROWS($B$6:B108),"") -> 103 | B108: Blogiausias žmogus pasaulyje | C108: Verdens verste menneske | D108: NO, FR, SE, DK | E108: 29 | F108: 5 | G108: 1 | H108: 44655 | I108: Europos kinas
A109: =IF(B109<>"",ROWS($B$6:B109),"") -> 104 | B109: Prasti reikalai | C109: Poor Things | D109: IE, US, UK | E109: 28 | F109: 5 | G109: 1 | H109: 45310 | I109: Theatrical Film Distribution / WDSMPI
A110: =IF(B110<>"",ROWS($B$6:B110),"") -> 105 | B110: Meilė pagal Kafką | C110: Die Herrlichkeit des Lebens | D110: AT, DE | E110: 20.9 | F110: 2 | G110: 1 | H110: 45688 | I110: Estinfilm
A111: =IF(B111<>"",ROWS($B$6:B111),"") -> 106 | B111: Katytė Moksi | C111: Miss Moxy | D111: BE, NL | E111: 6 | F111: 2 | G111: 1 | H111: 45814 | I111: ACME Film
E112: =SUBTOTAL(109,Table3_Rugpjūtis[Pajamos]) -> 1524430.9 | F112: =SUBTOTAL(109,Table3_Rugpjūtis[Žiūrovų skaičius]) -> 245399

Sheet Rugsėjis
A1: ='2025'!A1 -> 2025
A2: ='2025'!A2 -> Lietuvos kino teatruose rodytų filmų TOP
A3: Rugsėjis
A5: Eil. Nr. | B5: Filmo pavadinimas | C5: Filmo pavadinimas originalo kalba | D5: Kilmės šalis | E5: Pajamos | F5: Žiūrovų skaičius | G5: Kopijų skaičius | H5: Premjeros data | I5: Platintojas
A6: =IF(B6<>"",ROWS($B$6:B6),"") -> 1 | B6: Išvarymas 4: Paskutinės apeigos | C6: The Conjuring 4: Last Rites | D6: US | E6: 384179.77 | F6: 47355 | G6: 16 | H6: 45905 | I6: ACME Film / WB
A7: =IF(B7<>"",ROWS($B$6:B7),"") -> 2 | B7: Demon Slayer: Kimetsu no Yaiba begalybės pilis | C7: Demon Slayer: Kimetsu no Yaiba Infinity Castle | D7: JP, US | E7: 90677.25 | F7: 12044 | G7: 16 | H7: 45912 | I7: ACME Film / SONY
A8: =IF(B8<>"",ROWS($B$6:B8),"") -> 3 | B8: Augintinių ekspresas | C8: Pets on a Train | D8: FR, US | E8: 83511.75 | F8: 15301 | G8: 19 | H8: 45905 | I8: Adastra Cinema
A9: =IF(B9<>"",ROWS($B$6:B9),"") -> 4 | B9: Blogiukai 2 | C9: The Bad Guys | D9: US | E9: 83252.89 | F9: 14428 | G9: 22 | H9: 45870 | I9: Dukine Film Distribution / Universal Pictures
A10: =IF(B10<>"",ROWS($B$6:B10),"") -> 5 | B10: Materialistai | C10: Materialists | D10: US | E10: 78773.17 | F10: 11552 | G10: 19 | H10: 45891 | I10: ACME Film / SONY
A11: =IF(B11<>"",ROWS($B$6:B11),"") -> 6 | B11: Mūšis po mūšio | C11: One Battle After Another | D11: US | E11: 58609.19 | F11: 7839 | G11: 19 | H11: 45926 | I11: ACME Film / WB
A12: =IF(B12<>"",ROWS($B$6:B12),"") -> 7 | B12: Aktyvistas | C12: Aktyvistas | D12: LT | E12: 56439.26 | F12: 9074 | G12: 22 | H12: 45919 | I12: Naratyvas
A13: =IF(B13<>"",ROWS($B$6:B13),"") -> 8 | B13: Atvira santuoka | C13: Splitsville | D13: US | E13: 47611 | F13: 7197 | G13: 19 | H13: 45912 | I13: Garsų pasaulio įrašai
A14: =IF(B14<>"",ROWS($B$6:B14),"") -> 9 | B14: Didelė drąsi graži kelionė | C14: Big Bold Beautiful Journey | D14: US, IE | E14: 39343.68 | F14: 5921 | G14: 19 | H14: 45919 | I14: ACME Film / SONY
A15: =IF(B15<>"",ROWS($B$6:B15),"") -> 10 | B15: Išnykimo valanda | C15: Weapons | D15: US | E15: 28200.75 | F15: 4250 | G15: 10 | H15: 45877 | I15: ACME Film / WB
A16: =IF(B16<>"",ROWS($B$6:B16),"") -> 11 | B16: F1 | C16: F1 | D16: US | E16: 26297.49 | F16: 4245 | G16: 11 | H16: 45835 | I16: ACME Film / WB
A17: =IF(B17<>"",ROWS($B$6:B17),"") -> 12 | B17: Gabės lėlių namai. Filmas | C17: Gabby's Dollhouse: The Movie | D17: US, CA | E17: 25036.28 | F17: 4517 | G17: 20 | H17: 45926 | I17: Dukine Film Distribution / Universal Pictures
... A33: =IF(B33<>"",ROWS($B$6:B33),"") -> 28 | B33: Mudu | C33: Together | D33: US, AU | E33: 3239.21 | F33: 526 | G33: 13 | H33: 45891 | I33: Adastra Cinema
A34: =IF(B34<>"",ROWS($B$6:B34),"") -> 29 | B34: Kai ateina ruduo | C34: When Fall Is Coming | D34: FR | E34: 2806 | F34: 543 | G34: – | H34: 45618 | I34: A-One Films
A35: =IF(B35<>"",ROWS($B$6:B35),"") -> 30 | B35: Emilija Perez | C35: Emilia Pérez | D35: FR | E35: 2800 | F35: 560 | G35: – | H35: 45674 | I35: A-One Films
A36: =IF(B36<>"",ROWS($B$6:B36),"") -> 31 | B36: Rugsėja sako | C36: September Says | D36: IE | E36: 2525.7 | F36: 585 | G36: – | H36: 45905 | I36: A-One Films
A37: =IF(B37<>"",ROWS($B$6:B37),"") -> 32 | B37: Akis už akį | C37: Eye for an Eye | D37: US | E37: 2253.67 | F37: 371 | G37: 13 | H37: 45898 | I37: ACME Film
A38: =IF(B38<>"",ROWS($B$6:B38),"") -> 33 | B38: Niekas 2 | C38: Nobody 2 | D38: US | E38: 2166.03 | F38: 374 | G38: 9 | H38: 45891 | I38: Dukine Film Distribution / Universal Pictures
A39: =IF(B39<>"",ROWS($B$6:B39),"") -> 34 | B39: Akiplėša | C39: Akiplėša | D39: LT | E39: 1922.35 | F39: 342 | G39: 4 | H39: 45740 | I39: Europos kinas
A40: =IF(B40<>"",ROWS($B$6:B40),"") -> 35 | B40: 13 dienų, 13 naktų | C40: 13 jours, 13 nuits | D40: FR | E40: 1847.79 | F40: 331 | G40: 12 | H40: 45898 | I40: Adastra Cinema
A41: =IF(B41<>"",ROWS($B$6:B41),"") -> 36 | B41: Gyvenimas pagal Čaką | C41: The Life of Chuck | D41: US | E41: 1516.1 | F41: 246 | G41: 4 | H41: 45828 | I41: Adastra Cinema
A42: =IF(B42<>"",ROWS($B$6:B42),"") -> 37 | B42: Potvynis | C42: Flow | D42: LV, BE, FR | E42: 1420.75 | F42: 262 | G42: 4 | H42: 45744 | I42: Europos kinas
A43: =IF(B43<>"",ROWS($B$6:B43),"") -> 38 | B43: Drakula | C43: Dracula. A Love Tale | D43: FR | E43: 1316 | F43: 209 | G43: 6 | H43: 45877 | I43: Garsų pasaulio įrašai
A44: =IF(B44<>"",ROWS($B$6:B44),"") -> 39 | B44: Vajana 2 | C44: Moana 2 | D44: US, CA | E44: 984.65 | F44: 201 | G44: 3 | H44: 45625 | I44: Theatrical Film Distribution / WDSMPI
A45: =IF(B45<>"",ROWS($B$6:B45),"") -> 40 | B45: Laiškai Sofijai | C45: Laiškai Sofijai | D45: LT, UK | E45: 920 | F45: 230 | G45: 1 | H45: 41515 | I45: ACME Film
A46: =IF(B46<>"",ROWS($B$6:B46),"") -> 41 | B46: Pietinia Kronikas | C46: Pietinia Kronikas | D46: LT | E46: 908.8 | F46: 149 | G46: 3 | H46: 45681 | I46: ACME Film
A47: =IF(B47<>"",ROWS($B$6:B47),"") -> 42 | B47: Juros periodo pasaulis. Atgimimas | C47: Jurassic World Rebirth | D47: US | E47: 900.1 | F47: 155 | G47: 2 | H47: 45840 | I47: Dukine Film Distribution / Universal Pictures
A48: =IF(B48<>"",ROWS($B$6:B48),"") -> 43 | B48: Meilė | C48: Love | D48: NO | E48: 877.9 | F48: 128 | G48: 4 | H48: 45884 | I48: Best Film
... A57: =IF(B57<>"",ROWS($B$6:B57),"") -> 52 | B57: Super Čarlis | C57: Super-Charlie | D57: SE | E57: 509.8 | F57: 115 | G57: 4 | H57: 45884 | I57: Estinfilm
A58: =IF(B58<>"",ROWS($B$6:B58),"") -> 53 | B58: Balkonetės | C58: Les femmes au balcon | D58: FR | E58: 509 | F58: 78 | G58: – | H58: 45702 | I58: A-One Films
A59: =IF(B59<>"",ROWS($B$6:B59),"") -> 54 | B59: Kaip prisijaukinti slibiną | C59: How To Train Your Dragon | D59: US | E59: 461.37 | F59: 90 | G59: 4 | H59: 45821 | I59: Dukine Film Distribution / Universal Pictures
A60: =IF(B60<>"",ROWS($B$6:B60),"") -> 55 | B60: Išvarymas 3: Velnias privertė mane tai padaryti | C60: Conjuring 3 | D60: US | E60: 458.44 | F60: 49 | G60: 2 | H60: 44351 | I60: ACME Film / WB
A61: =IF(B61<>"",ROWS($B$6:B61),"") -> 56 | B61: Mergaitė vardu Gluosnė | C61: Girl Named Willow | D61: DE | E61: 457.8 | F61: 150 | G61: 2 | H61: 45794 | I61: ACME Film
A62: =IF(B62<>"",ROWS($B$6:B62),"") -> 57 | B62: Partenopė | C62: Parthenope | D62: IT | E62: 450.85 | F62: 62 | G62: – | H62: 45653 | I62: A-One Films
A63: =IF(B63<>"",ROWS($B$6:B63),"") -> 58 | B63: Minecraft filmas | C63: A Minecraft Movie | D63: US | E63: 425.12 | F63: 112 | G63: 3 | H63: 45751 | I63: ACME Film / WB
A64: =IF(B64<>"",ROWS($B$6:B64),"") -> 59 | B64: Keistesnis penktadienis | C64: Freakier Friday | D64: US | E64: 388.4 | F64: 78 | G64: 4 | H64: 45877 | I64: Theatrical Film Distribution / WDSMPI
A65: =IF(B65<>"",ROWS($B$6:B65),"") -> 60 | B65: Eli ir jos monstrų komanda | C65: Elli and Her Monster Team | D65: DE | E65: 380 | F65: 83 | G65: 2 | H65: 45884 | I65: Garsų pasaulio įrašai
A66: =IF(B66<>"",ROWS($B$6:B66),"") -> 61 | B66: Aštuoni kalnai | C66: The Eight Mountains | D66: IT, BE, FR | E66: 351 | F66: 51 | G66: 1 | H66: 45012 | I66: Europos kinas
A67: =IF(B67<>"",ROWS($B$6:B67),"") -> 62 | B67: Puikios dienos | C67: Perfect days | D67: JP, DE | E67: 338.95 | F67: 41 | G67: – | H67: 45282 | I67: A-One Films
A68: =IF(B68<>"",ROWS($B$6:B68),"") -> 63 | B68: Rytoj būsiu drąsus | C68: Ab morgen bin ich mutig | D68: DE | E68: 294 | F68: 66 | G68: 3 | H68: 45926 | I68: Kauno kino centras „Romuva“
A69: =IF(B69<>"",ROWS($B$6:B69),"") -> 64 | B69: Interesų zona | C69: The Zone of Interest | D69: UK, US, PL | E69: 212 | F69: 53 | G69: 1 | H69: 45379 | I69: Europos kinas
A70: =IF(B70<>"",ROWS($B$6:B70),"") -> 65 | B70: Keturi meilės laiškai | C70: Four Letters of Love | D70: UK, IE | E70: 196 | F70: 46 | G70: 3 | H70: 45863 | I70: Garsų pasaulio įrašai
A71: =IF(B71<>"",ROWS($B$6:B71),"") -> 66 | B71: Tikras skausmas | C71: A Real Pain | D71: US | E71: 150 | F71: 50 | G71: 1 | H71: 45674 | I71: Theatrical Film Distribution / WDSMPI
A72: =IF(B72<>"",ROWS($B$6:B72),"") -> 67 | B72: Pats brangiausias krovinys | C72: The Most Precious of Cargoes | D72: FR | E72: 150 | F72: 39 | G72: 1 | H72: 45821 | I72: Garsų pasaulio įrašai
A73: =IF(B73<>"",ROWS($B$6:B73),"") -> 68 | B73: Maksimalus greitis | C73: Faster | D73: FR, BE | E73: 147 | F73: 21 | G73: 1 | H73: 45856 | I73: Garsų pasaulio įrašai
A74: =IF(B74<>"",ROWS($B$6:B74),"") -> 69 | B74: Kristis | C74: Christy | D74: IE, UK | E74: 144 | F74: 46 | G74: 1 | H74: 45931 | I74: Skalvijos kino centras
A75: =IF(B75<>"",ROWS($B$6:B75),"") -> 70 | B75: Larsas yra LOL | C75: Lars er LOL | D75: NO | E75: 100 | F75: 20 | G75: 1 | H75: 45592 | I75: Skalvijos kino centras
A76: =IF(B76<>"",ROWS($B$6:B76),"") -> 71 | B76: Apverstas bokštas | C76: Tagurpidi torn | D76: LV, EE | E76: 100 | F76: 22 | G76: 1 | H76: 44807 | I76: Skalvijos kino centras
A77: =IF(B77<>"",ROWS($B$6:B77),"") -> 72 | B77: Supermenas | C77: Superman: Legacy | D77: US | E77: 98.5 | F77: 18 | G77: 1 | H77: 45849 | I77: ACME Film / WB
A78: =IF(B78<>"",ROWS($B$6:B78),"") -> 73 | B78: Paskutinė šou mergina | C78: The Last Showgirl | D78: US | E78: 88.75 | F78: 12 | G78: 1 | H78: 45786 | I78: Estinfilm
A79: =IF(B79<>"",ROWS($B$6:B79),"") -> 74 | B79: Vesper | C79: Vesper | D79: LT | E79: 84.21 | F79: 17 | G79: 1 | H79: 44834 | I79: Europos kinas
... A88: =IF(B88<>"",ROWS($B$6:B88),"") -> 83 | B88: 28 metai po | C88: 28 Years Later | D88: UK | E88: 17.4 | F88: 2 | G88: 1 | H88: 45828 | I88: ACME Film / SONY
E89: =SUBTOTAL(109,Table3_Rugsėjis[Pajamos]) -> 1217723.1 | F89: =SUBTOTAL(109,Table3_Rugsėjis[Žiūrovų skaičius]) -> 181618

Sheet Spalis
A1: ='2025'!A1 -> 2025
A2: ='2025'!A2 -> Lietuvos kino teatruose rodytų filmų TOP
A3: Spalis
A5: Eil. Nr. | B5: Filmo pavadinimas | C5: Filmo pavadinimas originalo kalba | D5: Kilmės šalis | E5: Pajamos | F5: Žiūrovų skaičius | G5: Kopijų skaičius | H5: Premjeros data | I5: Platintojas
A6: =IF(B6<>"",ROWS($B$6:B6),"") -> 1 | B6: Mūšis po mūšio | C6: One Battle After Another | D6: US | E6: 209673.78 | F6: 26355 | G6: 20 | H6: 45926 | I6: ACME Film / WB
A7: =IF(B7<>"",ROWS($B$6:B7),"") -> 2 | B7: Juodas telefonas 2 | C7: The Black Phone 2 | D7: US | E7: 101067.39 | F7: 13628 | G7: 15 | H7: 45947 | I7: Dukine Film Distribution / Universal Pictures
A8: =IF(B8<>"",ROWS($B$6:B8),"") -> 3 | B8: Didžiosios lenktynės po Europą | C8: Grand Prix of Europe | D8: DE | E8: 89759.91 | F8: 16274 | G8: 19 | H8: 45940 | I8: ACME Film
A9: =IF(B9<>"",ROWS($B$6:B9),"") -> 4 | B9: Tronas: Arėjas | C9: Tron: Ares | D9: US | E9: 85020.99 | F9: 11020 | G9: 25 | H9: 45940 | I9: Theatrical Film Distribution / WDSMPI
A10: =IF(B10<>"",ROWS($B$6:B10),"") -> 5 | B10: Mirtinas pasivaikščiojimas | C10: Long Walk | D10: US | E10: 83279.06 | F10: 11867 | G10: 16 | H10: 45933 | I10: ACME Film
A11: =IF(B11<>"",ROWS($B$6:B11),"") -> 6 | B11: Augintinių ekspresas | C11: Pets on a Train | D11: FR, US | E11: 79039.33 | F11: 14266 | G11: 15 | H11: 45905 | I11: Adastra Cinema
A12: =IF(B12<>"",ROWS($B$6:B12),"") -> 7 | B12: Jei ne tu | C12: Regretting You | D12: US, DE | E12: 65720.3 | F12: 9349 | G12: 20 | H12: 45954 | I12: Theatrical Film Distribution
A13: =IF(B13<>"",ROWS($B$6:B13),"") -> 8 | B13: Išvarymas 4: Paskutinės apeigos | C13: The Conjuring 4: Last Rites | D13: US | E13: 53139.19 | F13: 7091 | G13: 10 | H13: 45905 | I13: ACME Film / WB
A14: =IF(B14<>"",ROWS($B$6:B14),"") -> 9 | B14: Vagišius | C14: Roofman | D14: US | E14: 49477.24 | F14: 7589 | G14: 17 | H14: 45940 | I14: ACME Film
A15: =IF(B15<>"",ROWS($B$6:B15),"") -> 10 | B15: Šuo, kuris keliavo traukiniu 2 | C15: Lampo, The Travelling Dog 2 | D15: PL | E15: 49446.25 | F15: 9059 | G15: 21 | H15: 45947 | I15: ACME Film
A16: =IF(B16<>"",ROWS($B$6:B16),"") -> 11 | B16: Blogiukai 2 | C16: The Bad Guys | D16: US | E16: 44914.84 | F16: 7867 | G16: 13 | H16: 45870 | I16: Dukine Film Distribution / Universal Pictures
A17: =IF(B17<>"",ROWS($B$6:B17),"") -> 12 | B17: Gabės lėlių namai. Filmas | C17: Gabby's Dollhouse: The Movie | D17: US, CA | E17: 41940.57 | F17: 7532 | G17: 22 | H17: 45926 | I17: Dukine Film Distribution / Universal Pictures
... A79: =IF(B79<>"",ROWS($B$6:B79),"") -> 74 | B79: Edenas | C79: Eden | D79: US | E79: 240 | F79: 50 | G79: 2 | H79: 45947 | I79: Theatrical Film Distribution
A80: =IF(B80<>"",ROWS($B$6:B80),"") -> 75 | B80: Bintė | C80: Binti | D80: BE | E80: 236 | F80: 65 | G80: 1 | H80: 44080 | I80: Skalvijos kino centras
A81: =IF(B81<>"",ROWS($B$6:B81),"") -> 76 | B81: Ema ir juodasis jaguaras | C81: Le Dernier Jaguar | D81: FR, DE, CA | E81: 223.55 | F81: 61 | G81: 2 | H81: 45331 | I81: ACME Film
A82: =IF(B82<>"",ROWS($B$6:B82),"") -> 77 | B82: Pamfiras | C82: Pamfir | D82: UA | E82: 200 | F82: 65 | G82: – | H82: 44974 | I82: A-One Films
A83: =IF(B83<>"",ROWS($B$6:B83),"") -> 78 | B83: Gauja | C83: Smecka | D83: CZ, SK, LV | E83: 197.5 | F83: 79 | G83: 1 | H83: 44302 | I83: Skalvijos kino centras
A84: =IF(B84<>"",ROWS($B$6:B84),"") -> 79 | B84: Suleimano istorija | C84: L´Histoire de Souleymane | D84: FR | E84: 192 | F84: 48 | G84: 1 | H84: 45740 | I84: Europos kinas
A85: =IF(B85<>"",ROWS($B$6:B85),"") -> 80 | B85: Kometa Mumių šalyje | C85: Muumipeikko ja pyrstötähti | D85: FI | E85: 180 | F85: 60 | G85: 1 | H85: 44883 | I85: Estinfilm
A86: =IF(B86<>"",ROWS($B$6:B86),"") -> 81 | B86: Sent Egziuperi | C86: Saint-Exupéry | D86: FR, BE | E86: 155 | F86: 64 | G86: 1 | H86: 45772 | I86: Garsų pasaulio įrašai
A87: =IF(B87<>"",ROWS($B$6:B87),"") -> 82 | B87: Garfildas | C87: The Garfield Movie | D87: US | E87: 154 | F87: 48 | G87: 1 | H87: 45436 | I87: ACME Film / SONY
A88: =IF(B88<>"",ROWS($B$6:B88),"") -> 83 | B88: Tigro kelionė Himalajuose | C88: Tigers Nest | D88: IT | E88: 144 | F88: 38 | G88: 1 | H88: 44855 | I88: ACME Film
A89: =IF(B89<>"",ROWS($B$6:B89),"") -> 84 | B89: Ežiukas Sonic 3 | C89: Sonic the Hedgehog 3 | D89: US, JP | E89: 112 | F89: 26 | G89: 1 | H89: 45653 | I89: Dukine Film Distribution / Paramount Pictures
A90: =IF(B90<>"",ROWS($B$6:B90),"") -> 85 | B90: Grafas Montekristas | C90: The Count of Monte-Cristo | D90: US | E90: 111.98 | F90: 29 | G90: 1 | H90: 45583 | I90: Theatrical Film Distribution
A91: =IF(B91<>"",ROWS($B$6:B91),"") -> 86 | B91: Mudu | C91: Together | D91: US, AU | E91: 101 | F91: 11 | G91: 2 | H91: 45891 | I91: Adastra Cinema
A92: =IF(B92<>"",ROWS($B$6:B92),"") -> 87 | B92: Viena gyvybė | C92: One Life | D92: UK | E92: 71.98 | F92: 19 | G92: 1 | H92: 45303 | I92: ACME Film
A93: =IF(B93<>"",ROWS($B$6:B93),"") -> 88 | B93: Laukinės širdys | C93: Ukjent Landskap | D93: NO | E93: 59 | F93: 16 | G93: 1 | H93: 45740 | I93: Europos kinas
A94: =IF(B94<>"",ROWS($B$6:B94),"") -> 89 | B94: Fanfaros | C94: En Fanfare | D94: FR | E94: 58.8 | F94: 11 | G94: 1 | H94: 45740 | I94: Europos kinas
... A103: =IF(B103<>"",ROWS($B$6:B103),"") -> 98 | B103: Kapitonas Kardadantis ir Grelio grafienė | C103: Captain Sabertooth and the Countess of Grel | D103: NO | E103: 30 | F103: 6 | G103: 1 | H103: 45898 | I103: Garsų pasaulio įrašai
E104: =SUBTOTAL(109,Table3_Spalis[Pajamos]) -> 1342230.1 | F104: =SUBTOTAL(109,Table3_Spalis[Žiūrovų skaičius]) -> 206363

Sheet Lapkritis
A1: ='2025'!A1 -> 2025
A2: ='2025'!A2 -> Lietuvos kino teatruose rodytų filmų TOP
A3: Lapkritis
A5: Eil. Nr. | B5: Filmo pavadinimas | C5: Filmo pavadinimas originalo kalba | D5: Kilmės šalis | E5: Pajamos | F5: Žiūrovų skaičius | G5: Kopijų skaičius | H5: Premjeros data | I5: Platintojas
A6: =IF(B6<>"",ROWS($B$6:B6),"") -> 1 | B6: Spermagedonas | C6: Spermaggedon | D6: NO | E6: 280059.64 | F6: 36057 | G6: 17 | H6: 45975 | I6: ACME Film
A7: =IF(B7<>"",ROWS($B$6:B7),"") -> 2 | B7: Laimingos žvaigždės | C7: Laimingos žvaigždės | D7: LT | E7: 245865.19 | F7: 37436 | G7: 22 | H7: 45961 | I7: Dublis LT
A8: =IF(B8<>"",ROWS($B$6:B8),"") -> 3 | B8: Zootropolis 2 | C8: Zootopia 2 | D8: US | E8: 227082.99 | F8: 35566 | G8: 34 | H8: 45989 | I8: Theatrical Film Distribution / WDSMPI
A9: =IF(B9<>"",ROWS($B$6:B9),"") -> 4 | B9: Apgaulės meistrai 3 | C9: Now You See Me Now You Don’t | D9: US | E9: 133529.82 | F9: 17854 | G9: 15 | H9: 45982 | I9: ACME Film
A10: =IF(B10<>"",ROWS($B$6:B10),"") -> 5 | B10: Grobuonis. Pavojaus zona | C10: Predator: Badlands | D10: US | E10: 102234.34 | F10: 12997 | G10: 16 | H10: 45968 | I10: Theatrical Film Distribution / WDSMPI
A11: =IF(B11<>"",ROWS($B$6:B11),"") -> 6 | B11: Piktoji. Antra dalis | C11: Wicked: For Good | D11: US | E11: 94369.11 | F11: 14298 | G11: 32 | H11: 45982 | I11: Dukine Film Distribution / Universal Pictures
A12: =IF(B12<>"",ROWS($B$6:B12),"") -> 7 | B12: Monstrų vakarėlis | C12: Night of the Zoopocalypse | D12: CA, FR, BE | E12: 80122 | F12: 14849 | G12: 15 | H12: 45954 | I12: Garsų pasaulio įrašai
A13: =IF(B13<>"",ROWS($B$6:B13),"") -> 8 | B13: Sniego karalienė | C13: North | D13: NO | E13: 68023 | F13: 12650 | G13: 19 | H13: 45968 | I13: Garsų pasaulio įrašai
A14: =IF(B14<>"",ROWS($B$6:B14),"") -> 9 | B14: Bugonija | C14: Bugonia | D14: US, UK, KR, IE, CA | E14: 57159.93 | F14: 8322 | G14: 16 | H14: 45961 | I14: Dukine Film Distribution / Universal Pictures
A15: =IF(B15<>"",ROWS($B$6:B15),"") -> 10 | B15: Flykas | C15: Fleak | D15: FI | E15: 57093.07 | F15: 10844 | G15: 18 | H15: 45961 | I15: ACME Film
A16: =IF(B16<>"",ROWS($B$6:B16),"") -> 11 | B16: Jei ne tu | C16: Regretting You | D16: US, DE | E16: 51552.02 | F16: 7702 | G16: 16 | H16: 45954 | I16: Theatrical Film Distribution
A17: =IF(B17<>"",ROWS($B$6:B17),"") -> 12 | B17: BIX – beveik Nirvana | C17: BIX – beveik Nirvana | D17: LT | E17: 43859.47 | F17: 6419 | G17: 18 | H17: 45975 | I17: Cinema Ads
... A92: =IF(B92<>"",ROWS($B$6:B92),"") -> 87 | B92: Edenas | C92: Eden | D92: US | E92: 3 | F92: 1 | G92: 1 | H92: 45947 | I92: Theatrical Film Distribution
E93: =SUBTOTAL(109,Table3_Lapkritis[Pajamos]) -> 1957042.9 | F93: =SUBTOTAL(109,Table3_Lapkritis[Žiūrovų skaičius]) -> 298212

Sheet Gruodis
A1: ='2025'!A1 -> 2025
A2: ='2025'!A2 -> Lietuvos kino teatruose rodytų filmų TOP
A3: Gruodis
A5: Eil. Nr. | B5: Filmo pavadinimas | C5: Filmo pavadinimas originalo kalba | D5: Kilmės šalis | E5: Pajamos | F5: Žiūrovų skaičius | G5: Kopijų skaičius | H5: Premjeros data | I5: Platintojas
A6: =IF(B6<>"",ROWS($B$6:B6),"") -> 1 | B6: Įsikūnijimas. Ugnis ir pelenai | C6: Avatar: Fire and Ash | D6: US | E6: 1089984.7 | F6: 122355 | G6: 33 | H6: 46010 | I6: Theatrical Film Distribution / WDSMPI
A7: =IF(B7<>"",ROWS($B$6:B7),"") -> 2 | B7: Zootropolis 2 | C7: Zootopia 2 | D7: US | E7: 695917.45 | F7: 111769 | G7: 40 | H7: 45989 | I7: Theatrical Film Distribution / WDSMPI
A8: =IF(B8<>"",ROWS($B$6:B8),"") -> 3 | B8: Penkios naktys pas Fredį 2 | C8: Five Nights at Freddy's 2 | D8: US | E8: 315296.99 | F8: 42648 | G8: 19 | H8: 45996 | I8: Dukine Film Distribution / Universal Pictures
A9: =IF(B9<>"",ROWS($B$6:B9),"") -> 4 | B9: Kempiniukas plačiakelnis. Kelnių paieškos | C9: SpongeBob Movie: Search for SquarePants | D9: US | E9: 152737.49 | F9: 25300 | G9: 21 | H9: 46017 | I9: Dukine Film Distribution / Paramount Pictures
A10: =IF(B10<>"",ROWS($B$6:B10),"") -> 5 | B10: Kaip peliukai Kalėdas griovė | C10: A Mouse Hunt for Christmas | D10: NO | E10: 113945.7 | F10: 21143 | G10: 21 | H10: 46010 | I10: ACME Film
A11: =IF(B11<>"",ROWS($B$6:B11),"") -> 6 | B11: Slaptažodis: Kalėdos | C11: Mission Santa: Yoyo to the Rescue | D11: IN, US, DE, | E11: 83239.73 | F11: 14139 | G11: 18 | H11: 46003 | I11: ACME Film
A12: =IF(B12<>"",ROWS($B$6:B12),"") -> 7 | B12: Apgaulės meistrai 3 | C12: Now You See Me Now You Don’t | D12: US | E12: 82932.73 | F12: 11344 | G12: 13 | H12: 45982 | I12: ACME Film
A13: =IF(B13<>"",ROWS($B$6:B13),"") -> 8 | B13: Niurnbergas | C13: Nuremberg | D13: US, HU | E13: 81066 | F13: 11525 | G13: 20 | H13: 45989 | I13: Garsų pasaulio įrašai
A14: =IF(B14<>"",ROWS($B$6:B14),"") -> 9 | B14: Anakonda | C14: Anaconda | D14: US | E14: 51162.39 | F14: 6798 | G14: 12 | H14: 46017 | I14: ACME Film / SONY
A15: =IF(B15<>"",ROWS($B$6:B15),"") -> 10 | B15: Smėlis tavo plaukuose | C15: Smėlis tavo plaukuose | D15: LT | E15: 61881.48 | F15: 9769 | G15: – | H15: 46010 | I15: Cinema Ads
A16: =IF(B16<>"",ROWS($B$6:B16),"") -> 11 | B16: Siena | C16: Siena | D16: LT | E16: 39012 | F16: 6277 | G16: 6 | H16: 45975 | I16: Baltic Productions
A17: =IF(B17<>"",ROWS($B$6:B17),"") -> 12 | B17: Spermagedonas | C17: Spermaggedon | D17: NO | E17: 38793.84 | F17: 5131 | G17: 14 | H17: 45975 | I17: ACME Film
A18: =IF(B18<>"",ROWS($B$6:B18),"") -> 13 | B18: Piktoji. Antra dalis | C18: Wicked: For Good | D18: US | E18: 35558.75 | F18: 5511 | G18: 23 | H18: 45982 | I18: Dukine Film Distribution / Universal Pictures
A19: =IF(B19<>"",ROWS($B$6:B19),"") -> 14 | B19: Mirk, mano meile | C19: Die My Love | D19: US | E19: 34836 | F19: 4866 | G19: 20 | H19: 45996 | I19: Garsų pasaulio įrašai
A20: =IF(B20<>"",ROWS($B$6:B20),"") -> 15 | B20: Paslapties kaina | C20: Paslapties kaina | D20: LT | E20: 17005.5 | F20: 2631 | G20: 10 | H20: 45989 | I20: Urbs TV
A21: =IF(B21<>"",ROWS($B$6:B21),"") -> 16 | B21: Uždraustos svajos | C21: Dreams | D21: MX, US | E21: 14825.23 | F21: 2081 | G21: 20 | H21: 46003 | I21: ACME Film
A22: =IF(B22<>"",ROWS($B$6:B22),"") -> 17 | B22: Tyli naktis. Siaubo naktis | C22: Silent Night, Deadly Night | D22: US | E22: 12151 | F22: 1637 | G22: 13 | H22: 46003 | I22: Garsų pasaulio įrašai
A23: =IF(B23<>"",ROWS($B$6:B23),"") -> 18 | B23: Tėvas Motina Sesuo Brolis | C23: Father Mother Sister Brother | D23: US | E23: 9063 | F23: 1288 | G23: – | H23: Preview | I23: A-One Films
A24: =IF(B24<>"",ROWS($B$6:B24),"") -> 19 | B24: Svajonės | C24: Drømmer | D24: NO | E24: 7724.67 | F24: 1029 | G24: 7 | H24: 46017 | I24: Best Film
A25: =IF(B25<>"",ROWS($B$6:B25),"") -> 20 | B25: Orwell: 2+2=5 | C25: Orwell: 2+2=5 | D25: FR, US | E25: 7024.4 | F25: 1251 | G25: – | H25: 46003 | I25: A-One Films
A26: =IF(B26<>"",ROWS($B$6:B26),"") -> 21 | B26: Bugonija | C26: Bugonia | D26: US, UK, KR, IE, CA | E26: 6893.04 | F26: 1077 | G26: 6 | H26: 45961 | I26: Dukine Film Distribution / Universal Pictures
A27: =IF(B27<>"",ROWS($B$6:B27),"") -> 22 | B27: Irena | C27: Irena | D27: LT, EE, BG | E27: 5527.8 | F27: 999 | G27: 10 | H27: 45954 | I27: Europos kinas
A28: =IF(B28<>"",ROWS($B$6:B28),"") -> 23 | B28: Meilės melodija | C28: Song Sung Blue | D28: US | E28: 4646.56 | F28: 667 | G28: 13 | H28: 46017 | I28: Dukine Film Distribution / Universal Pictures
A29: =IF(B29<>"",ROWS($B$6:B29),"") -> 24 | B29: BIX – beveik Nirvana | C29: BIX – beveik Nirvana | D29: LT | E29: 4550.94 | F29: 666 | G29: – | H29: 45975 | I29: Cinema Ads
A30: =IF(B30<>"",ROWS($B$6:B30),"") -> 25 | B30: Sniego karalienė | C30: North | D30: NO | E30: 4021 | F30: 745 | G30: 7 | H30: 45968 | I30: Garsų pasaulio įrašai
A31: =IF(B31<>"",ROWS($B$6:B31),"") -> 26 | B31: Grobuonis. Pavojaus zona | C31: Predator: Badlands | D31: US | E31: 3543.17 | F31: 510 | G31: 6 | H31: 45968 | I31: Theatrical Film Distribution / WDSMPI
A32: =IF(B32<>"",ROWS($B$6:B32),"") -> 27 | B32: Malonė | C32: La Grazia | D32: IT | E32: 3350.9 | F32: 262 | G32: 2 | H32: Preview | I32: Europos kinas
A33: =IF(B33<>"",ROWS($B$6:B33),"") -> 28 | B33: Angelo kiaušinis (4K restauracija) | C33: Tenshi no Tamago (4K restoration) | D33: JP | E33: 2915.31 | F33: 491 | G33: 16 | H33: 45989 | I33: Adastra Cinema
A34: =IF(B34<>"",ROWS($B$6:B34),"") -> 29 | B34: Viškis piškis ir švilpiko paslaptis | C34: Chickenhare and the Secret of the Groundhog | D34: BE, FR, NL | E34: 2606.35 | F34: 455 | G34: 3 | H34: Preview | I34: Adastra Cinema
A35: =IF(B35<>"",ROWS($B$6:B35),"") -> 30 | B35: Kalėdos Batsiuvių gatvėje | C35: Christmas on Cobbler Street | D35: NO | E35: 2175 | F35: 462 | G35: 3 | H35: 45261 | I35: Unlimited Media OÜ
A36: =IF(B36<>"",ROWS($B$6:B36),"") -> 31 | B36: Žaisti Gyvenimą | C36: Žaisti Gyvenimą | D36: LT | E36: 2073.46 | F36: 348 | G36: 16 | H36: 46003 | I36: ACME Film
A37: =IF(B37<>"",ROWS($B$6:B37),"") -> 32 | B37: Baltasis lokys – princas | C37: Kvitebjørn | D37: NO | E37: 1883 | F37: 326 | G37: – | H37: 46003 | I37: Estinfilm
A38: =IF(B38<>"",ROWS($B$6:B38),"") -> 33 | B38: Momo ir laiko paslaptis | C38: Momo | D38: DE | E38: 1742.28 | F38: 348 | G38: 8 | H38: 45975 | I38: ACME Film
A39: =IF(B39<>"",ROWS($B$6:B39),"") -> 34 | B39: Senio kelionės | C39: Senio kelionės | D39: LT | E39: 1695 | F39: 389 | G39: 3 | H39: 45989 | I39: Film Jam
A40: =IF(B40<>"",ROWS($B$6:B40),"") -> 35 | B40: Potvynis | C40: Flow | D40: LV, BE, FR | E40: 1469.89 | F40: 273 | G40: 4 | H40: 45744 | I40: Europos kinas
A41: =IF(B41<>"",ROWS($B$6:B41),"") -> 36 | B41: Ragautojos | C41: Le assaggiatrici | D41: IT | E41: 1130.02 | F41: 191 | G41: – | H41: 45919 | I41: Estinfilm
A42: =IF(B42<>"",ROWS($B$6:B42),"") -> 37 | B42: Šuo, kuris keliavo traukiniu 2 | C42: Lampo, The Travelling Dog 2 | D42: PL | E42: 1111 | F42: 271 | G42: 1 | H42: 45947 | I42: ACME Film
A43: =IF(B43<>"",ROWS($B$6:B43),"") -> 38 | B43: Larsas yra LOL | C43: Lars er LOL | D43: NO | E43: 1021.5 | F43: 230 | G43: 1 | H43: 45592 | I43: Skalvijos kino centras
A44: =IF(B44<>"",ROWS($B$6:B44),"") -> 39 | B44: Materialistai | C44: Materialists | D44: US | E44: 981.85 | F44: 139 | G44: 2 | H44: 45891 | I44: ACME Film / SONY
A45: =IF(B45<>"",ROWS($B$6:B45),"") -> 40 | B45: Mėlyna mėlyniausia | C45: O Último Azul | D45: BR | E45: 979 | F45: 177 | G45: 3 | H45: 45954 | I45: A-One Films
A46: =IF(B46<>"",ROWS($B$6:B46),"") -> 41 | B46: Magiškos gyvūnų Kalėdos | C46: Le Grand Noël des Animaux | D46: FR | E46: 949 | F46: 302 | G46: – | H46: 45625 | I46: Estinfilm
A47: =IF(B47<>"",ROWS($B$6:B47),"") -> 42 | B47: Meilė protuose | C47: Follomente | D47: IT | E47: 915.2 | F47: 128 | G47: 2 | H47: 45940 | I47: Best Film
A48: =IF(B48<>"",ROWS($B$6:B48),"") -> 43 | B48: Pietinia Kronikas | C48: Pietinia Kronikas | D48: LT | E48: 906.07 | F48: 223 | G48: 5 | H48: 45681 | I48: ACME Film
A49: =IF(B49<>"",ROWS($B$6:B49),"") -> 44 | B49: Mažosios moterys | C49: Little Women | D49: US | E49: 688.4 | F49: 70 | G49: 1 | H49: 43854 | I49: ACME Film / SONY
A50: =IF(B50<>"",ROWS($B$6:B50),"") -> 45 | B50: Bembis. Istorija apie gyvenimą miške | C50: Bambi, a Tale of Life in the Woods | D50: FR | E50: 2853.76 | F50: 654 | G50: 2 | H50: 45786 | I50: Best Film
A51: =IF(B51<>"",ROWS($B$6:B51),"") -> 46 | B51: Jei galėčiau, tau įspirčiau | C51: If I Had Legs I’d Kick You | D51: US | E51: 581.6 | F51: 124 | G51: 3 | H51: 45968 | I51: Adastra Cinema
A52: =IF(B52<>"",ROWS($B$6:B52),"") -> 47 | B52: Monstrų vakarėlis | C52: Night of the Zoopocalypse | D52: CA, FR, BE | E52: 580 | F52: 124 | G52: 7 | H52: 45954 | I52: Garsų pasaulio įrašai
A53: =IF(B53<>"",ROWS($B$6:B53),"") -> 48 | B53: Kristis | C53: Christy | D53: IE, UK | E53: 530.5 | F53: 146 | G53: 1 | H53: 45931 | I53: Skalvijos kino centras
A54: =IF(B54<>"",ROWS($B$6:B54),"") -> 49 | B54: Amžinai kartu | C54: Eternity | D54: US | E54: 523.05 | F54: 76 | G54: 3 | H54: Preview | I54: Adastra Cinema
A55: =IF(B55<>"",ROWS($B$6:B55),"") -> 50 | B55: Šis tas ypatingo | C55: Un p'tit truc en plus | D55: FR | E55: 484 | F55: 75 | G55: 1 | H55: 45863 | I55: Adastra Cinema
A56: =IF(B56<>"",ROWS($B$6:B56),"") -> 51 | B56: What the Finn – Summer of Surprises (Kannawoniwasein!) | C56: What the Finn – Summer of Surprises (Kannawoniwasein!) | D56: DE | E56: 480 | F56: 101 | G56: 1 | H56: 45422 | I56: Unlimited Media OÜ
A57: =IF(B57<>"",ROWS($B$6:B57),"") -> 52 | B57: Bjaurioji sesuo | C57: Den stygge stesøsteren | D57: NO, DK, RO, PL, SE | E57: 405.7 | F57: 74 | G57: – | H57: 45989 | I57: Estinfilm
A58: =IF(B58<>"",ROWS($B$6:B58),"") -> 53 | B58: Laisvėje | C58: Fuori | D58: IT | E58: 680.02 | F58: 163 | G58: 1 | H58: 45954 | I58: Best Film
A59: =IF(B59<>"",ROWS($B$6:B59),"") -> 54 | B59: Kometa Mumių šalyje | C59: Muumipeikko ja pyrstötähti | D59: FI | E59: 384 | F59: 96 | G59: – | H59: 44883 | I59: Estinfilm
A60: =IF(B60<>"",ROWS($B$6:B60),"") -> 55 | B60: Dieviškas bardakas | C60: Good Fortune | D60: US | E60: 372.35 | F60: 57 | G60: 2 | H60: 45954 | I60: ACME Film
A61: =IF(B61<>"",ROWS($B$6:B61),"") -> 56 | B61: Baltoji paukštė | C61: White Bird a Wonder Story | D61: US | E61: 368.99 | F61: 73 | G61: 2 | H61: 45359 | I61: ACME Film
A62: =IF(B62<>"",ROWS($B$6:B62),"") -> 57 | B62: Gyvūnas | C62: Animal | D62: FR | E62: 348 | F62: 87 | G62: 1 | H62: 45371 | I62: Skalvijos kino centras
A63: =IF(B63<>"",ROWS($B$6:B63),"") -> 58 | B63: Silvio | C63: Loro | D63: IT, FR | E63: 344.7 | F63: 39 | G63: – | H63: 43469 | I63: A-One Films
A64: =IF(B64<>"",ROWS($B$6:B64),"") -> 59 | B64: Vagišius | C64: Roofman | D64: US | E64: 342 | F64: 114 | G64: 1 | H64: 45940 | I64: ACME Film
A65: =IF(B65<>"",ROWS($B$6:B65),"") -> 60 | B65: Karalių karalius | C65: The King of Kings | D65: KR | E65: 341.78 | F65: 113 | G65: 2 | H65: 45765 | I65: Theatrical Film Distribution
A66: =IF(B66<>"",ROWS($B$6:B66),"") -> 61 | B66: Mūšis po mūšio | C66: One Battle After Another | D66: US | E66: 340.77 | F66: 58 | G66: 2 | H66: 45926 | I66: ACME Film / WB
A67: =IF(B67<>"",ROWS($B$6:B67),"") -> 62 | B67: Bėgantis žmogus | C67: The Running Man | D67: US, UK | E67: 335.88 | F67: 77 | G67: 3 | H67: 45975 | I67: Dukine Film Distribution / Paramount Pictures
A68: =IF(B68<>"",ROWS($B$6:B68),"") -> 63 | B68: Pasakos iš paslaptingo sodo | C68: Pohádky po babicce | D68: CZ, FR, SK, SI | E68: 324 | F68: 81 | G68: 1 | H68: 45955 | I68: Skalvijos kino centras
A69: =IF(B69<>"",ROWS($B$6:B69),"") -> 64 | B69: Transformeriai. Pradžia | C69: Transformers One | D69: US | E69: 302.5 | F69: 51 | G69: 1 | H69: 45555 | I69: Dukine Film Distribution / Paramount Pictures
A70: =IF(B70<>"",ROWS($B$6:B70),"") -> 65 | B70: Poetas | C70: Poetas | D70: LT | E70: 300 | F70: 75 | G70: 1 | H70: 44974 | I70: ACME Film
A71: =IF(B71<>"",ROWS($B$6:B71),"") -> 66 | B71: Kaip „Titanikas“ mane išgelbėjo | C71: How the Titanic Became My Lifeboat | D71: IS | E71: 300 | F71: 60 | G71: 1 | H71: 44512 | I71: Theatrical Film Distribution
A72: =IF(B72<>"",ROWS($B$6:B72),"") -> 67 | B72: Partenopė | C72: Parthenope | D72: IT | E72: 278 | F72: 29 | G72: – | H72: 45653 | I72: A-One Films
A73: =IF(B73<>"",ROWS($B$6:B73),"") -> 68 | B73: Elvis | C73: Elvis | D73: US | E73: 270 | F73: 45 | G73: 1 | H73: 44736 | I73: ACME Film / WB
A74: =IF(B74<>"",ROWS($B$6:B74),"") -> 69 | B74: Apverstas bokštas | C74: Tagurpidi torn | D74: LV, EE | E74: 260.5 | F74: 72 | G74: 1 | H74: 44807 | I74: Skalvijos kino centras
A75: =IF(B75<>"",ROWS($B$6:B75),"") -> 70 | B75: Vesper | C75: Vesper | D75: LT | E75: 253.76 | F75: 51 | G75: 2 | H75: 44834 | I75: Europos kinas
A76: =IF(B76<>"",ROWS($B$6:B76),"") -> 71 | B76: Katinas vaiduoklis Andzu | C76: Ghost Cat Anzu | D76: JP, FR | E76: 244.8 | F76: 40 | G76: 1 | H76: 45740 | I76: Europos kinas
A77: =IF(B77<>"",ROWS($B$6:B77),"") -> 72 | B77: Svajonių atostogos | C77: The Holdovers | D77: US | E77: 242 | F77: 49 | G77: 1 | H77: 45401 | I77: Dukine Film Distribution / Universal Pictures
A78: =IF(B78<>"",ROWS($B$6:B78),"") -> 73 | B78: Rouzų šeimos karas | C78: The Roses | D78: US | E78: 223.2 | F78: 45 | G78: 1 | H78: 45898 | I78: Theatrical Film Distribution / WDSMPI
A79: =IF(B79<>"",ROWS($B$6:B79),"") -> 74 | B79: Nuogas ginklas | C79: The Naked Gun | D79: US | E79: 223.2 | F79: 45 | G79: 1 | H79: 45870 | I79: Dukine Film Distribution / Paramount Pictures
A80: =IF(B80<>"",ROWS($B$6:B80),"") -> 75 | B80: Titina Šiaurės ašigalyje | C80: Titina | D80: NO | E80: 214 | F80: 51 | G80: 2 | H80: 45282 | I80: Europos kinas
A81: =IF(B81<>"",ROWS($B$6:B81),"") -> 76 | B81: Liepsnojančios moters portretas | C81: Portrait De La Jeune Fille En Feu | D81: FR | E81: 205.1 | F81: 27 | G81: 1 | H81: 43987 | I81: Europos kinas
A82: =IF(B82<>"",ROWS($B$6:B82),"") -> 77 | B82: Raganosis Rino | C82: Thabo and the Rhino Case | D82: DE | E82: 195 | F82: 54 | G82: 1 | H82: 45394 | I82: Garsų pasaulio įrašai
A83: =IF(B83<>"",ROWS($B$6:B83),"") -> 78 | B83: Jei ne tu | C83: Regretting You | D83: US, DE | E83: 194.5 | F83: 33 | G83: 1 | H83: 45954 | I83: Theatrical Film Distribution
A84: =IF(B84<>"",ROWS($B$6:B84),"") -> 79 | B84: Tigro kelionė Himalajuose | C84: Tigers Nest | D84: IT | E84: 189.96 | F84: 48 | G84: 1 | H84: 44855 | I84: ACME Film
... A94: =IF(B94<>"",ROWS($B$6:B94),"") -> 89 | B94: Užburtas miškas | C94: Angelo dans la forêt mystérieuse | D94: FR | E94: 82.5 | F94: 34 | G94: 3 | H94: 45709 | I94: Adastra Cinema
A95: =IF(B95<>"",ROWS($B$6:B95),"") -> 90 | B95: Meilė pagal Kafką | C95: Die Herrlichkeit des Lebens | D95: AT, DE | E95: 82.5 | F95: 35 | G95: – | H95: 45688 | I95: Estinfilm
A96: =IF(B96<>"",ROWS($B$6:B96),"") -> 91 | B96: Springsteen. Išvaduok mane iš nežinios | C96: Springsteen: Deliver Me from Nowhere | D96: US | E96: 61.95 | F96: 7 | G96: 1 | H96: 45954 | I96: Theatrical Film Distribution / WDSMPI
A97: =IF(B97<>"",ROWS($B$6:B97),"") -> 92 | B97: Šokių karalienė | C97: Dancing Queen | D97: NO | E97: 58 | F97: 29 | G97: – | H97: 45317 | I97: Estinfilm
A98: =IF(B98<>"",ROWS($B$6:B98),"") -> 93 | B98: Keistuolė Betė | C98: My Freaky Family | D98: DE, IE, AU | E98: 53.4 | F98: 11 | G98: 1 | H98: 45408 | I98: ACME Film
A99: =IF(B99<>"",ROWS($B$6:B99),"") -> 94 | B99: Gyvenimas pagal Čaką | C99: The Life of Chuck | D99: US | E99: 53.1 | F99: 8 | G99: 1 | H99: 45828 | I99: Adastra Cinema
A100: =IF(B100<>"",ROWS($B$6:B100),"") -> 95 | B100: Tarp pilkų debesų | C100: Ashes in the Snow | D100: LT, US | E100: 43 | F100: 18 | G100: 1 | H100: 43385 | I100: ACME Film
A101: =IF(B101<>"",ROWS($B$6:B101),"") -> 96 | B101: Tylieji | C101: De lydløse | D101: DK | E101: 26.55 | F101: 4 | G101: 1 | H101: 45996 | I101: Europos kinas
A102: =IF(B102<>"",ROWS($B$6:B102),"") -> 97 | B102: Drugelio Širdis | C102: Drugelio Širdis | D102: LT | E102: 20.4 | F102: 4 | G102: 1 | H102: 44659 | I102: ACME Film
A103: =IF(B103<>"",ROWS($B$6:B103),"") -> 98 | B103: Lapių kelionė ledynuose | C103: Kina and Yuk | D103: IT, CA, FR | E103: 18.6 | F103: 4 | G103: 1 | H103: 45296 | I103: ACME Film
E104: =SUBTOTAL(109,Table3_Gruodis[Pajamos]) -> 3017987.7 | F104: =SUBTOTAL(109,Table3_Gruodis[Žiūrovų skaičius]) -> 421693
